Workbook

Sheet Total
V2: Impact metrics by SDGs
B4: Catergory of Sustainable Expenditure | C4: Allocation of Proceeds | D4: % | E4: Urban | F4: % | G4: Rural | H4: % | I4: Primary SDG | J4: Secondary SDG | L4: SDG | M4: Amount in UZS'm | N4: % | O4: Urban | P4: % | Q4: Rural | R4: % | V4: SDG 4. Quality Education | W4: Number of jobs before | X4: New staff, including: | Y4: Teachers employed | Z4: Non-teaching staff employed | AA4: TOTAL JOBS | AB4: Renovated seats | AC4: New seats | AD4: NEW CAPACITY | AE4: Current number of students | AF4: Boys | AG4: Girls | AH4: Area before (m2) | AI4: Area after (m2) | AJ4: Students graduated | AK4: People benefiting from the projects | AL4: School graduates enrolled at higher education (excluding 2024 results) / Kids progressed to primary education
B5: Construction and reconstruction of hospitals | C5: =+Hospitals!Q40 -> 343893.12 | D5: =+C5/$C$12 -> 0.13755722 | E5: =+SUMIFS(Hospitals!Q:Q,Hospitals!P:P,Hospitals!P4) -> 165940.64 | F5: =+E5/(G5+E5) -> 0.4825355 | G5: =+SUMIFS(Hospitals!Q:Q,Hospitals!P:P,Hospitals!P5) -> 177952.48 | H5: =+G5/(G5+E5) -> 0.5174645 | I5: 3. Good Health and Well-being | J5: 5. Gender Equality | L5: 3. Good Health and Well-being | M5: =+SUM(C5:C6) -> 541374.12 | N5: =+M5/$M$10 -> 0.2165496 | O5: =+SUMIFS(Hospitals!Q:Q,Hospitals!P:P,Hospitals!P4)+197481/2 -> 264681.14 | P5: =+O5/(Q5+O5) -> 0.48890615 | Q5: =+SUMIFS(Hospitals!Q:Q,Hospitals!P:P,Hospitals!P5)+197481/2 -> 276692.98 | R5: =+Q5/(Q5+O5) -> 0.51109385 | S5: Information on coverage of vaccination programme was not available with urban/rural allocation, thus we divided the allocated amount equally into urban and rural (50-50) | V5: Schools | W5: =+Schools!AP18 -> 2404 | X5: =+Schools!AQ18 -> 784 | Y5: =+Schools!AR18 -> 626 | Z5: =+Schools!AS18 -> 158 | AA5: =+Schools!AT18 -> 3188 | AB5: =+Schools!AU18 -> 18051 | AC5: =+Schools!AV18 -> 11929 | AD5: =+Schools!AW18 -> 29980 | AE5: =+Schools!AX18 -> 36407 | AF5: =+Schools!X37 -> 18923 | AG5: =+Schools!Y37 -> 17484 | AH5: =+Schools!BA18 -> 82604.15 | AI5: =+Schools!BB18 -> 148419.45 | AJ5: =+Schools!BC18 -> 5476 | AK5: =+Schools!BE18 -> 160193 | AL5: =+Schools!BD18 -> 2040
B6: Children's vaccination programme | C6: 197481 | D6: =+C6/$C$12 -> 0.078992383 | E6: =+C6/2 -> 98740.5 | F6: =+E6/(G6+E6) -> 0.5 | G6: =+C6/2 -> 98740.5 | H6: =+G6/(G6+E6) -> 0.5 | L6: 4. Quality Education | M6: =+SUM(C7:C8) -> 438874.56 | N6: =+M6/$M$10 -> 0.17554978 | O6: =+SUMIFS(Kindergartens!O:O,Kindergartens!N:N,Kindergartens!N4)+SUMIFS(Schools!O:O,Schools!N:N,Schools!N10) -> 165335.92 | P6: =+O6/(Q6+O6) -> 0.37672707 | Q6: =+SUMIFS(Kindergartens!O:O,Kindergartens!N:N,Kindergartens!N8)+SUMIFS(Schools!O:O,Schools!N:N,Schools!N8) -> 273538.63 | R6: =+Q6/(Q6+O6) -> 0.62327293 | V6: Kindergartens | W6: =+Kindergartens!AO18 -> 880.34 | X6: =+Kindergartens!AP18 -> 812 | Y6: =+Kindergartens!AQ18 -> 484 | Z6: =+Kindergartens!AR18 -> 328 | AA6: =+Kindergartens!AS18 -> 1692.34 | AB6: =+Kindergartens!AT18 -> 4204 | AC6: =+Kindergartens!AU18 -> 4240 | AD6: =+Kindergartens!AV18 -> 8444 | AE6: =+Kindergartens!AW18 -> 7625.29 | AF6: =+Kindergartens!X39 -> 4154.2 | AG6: =+Kindergartens!Y39 -> 3471.09 | AH6: =+Kindergartens!AZ18 -> 32801.43 | AI6: =+Kindergartens!BA18 -> 75279.79 | AJ6: =+Kindergartens!BB18 -> 4035 | AK6: =+Kindergartens!BC18 -> 133634 | AL6: =+Kindergartens!AA39 -> 4035
B7: Construction and reconstruction of schools | C7: =+Schools!O37 -> 247805.31 | D7: =+C7/$C$12 -> 0.099122101 | E7: =+SUMIFS(Schools!O:O,Schools!N:N,Schools!N10) -> 87183.841 | F7: =+E7/(G7+E7) -> 0.35182395 | G7: =+SUMIFS(Schools!O:O,Schools!N:N,Schools!N8) -> 160621.47 | H7: =+G7/(G7+E7) -> 0.64817605 | I7: 4. Quality Education | J7: 8. Decent Work and Economic Growth 9. Industry, Innovation and Infrastructure 5. Gender Equality | L7: 6. Clean Water and Sanitation | M7: =+C9 -> 130562.89 | N7: =+M7/$M$10 -> 0.052225145 | O7: =SUMIFS('Drinking water'!O:O,'Drinking water'!N:N,'Drinking water'!N4) -> 48370.676 | P7: =+O7/(Q7+O7) -> 0.42715984 | Q7: =SUMIFS('Drinking water'!O:O,'Drinking water'!N:N,'Drinking water'!N6) -> 64867.209 | R7: =+Q7/(Q7+O7) -> 0.57284016 | V7: Total by SDG 4 | W7: =+SUM(W5:W6) -> 3284.34 | X7: =+SUM(X5:X6) -> 1596 | Y7: =+SUM(Y5:Y6) -> 1110 | Z7: =+SUM(Z5:Z6) -> 486 | AA7: =+SUM(AA5:AA6) -> 4880.34 | AB7: =+SUM(AB5:AB6) -> 22255 | AC7: =+SUM(AC5:AC6) -> 16169 | AD7: =+SUM(AD5:AD6) -> 38424 | ... AL7: =+SUM(AL5:AL6) -> 6075
B8: Construction and reconstruction of kindergartens | C8: =+Kindergartens!O39 -> 191069.25 | D8: =+C8/$C$12 -> 0.076427684 | E8: =+SUMIFS(Kindergartens!O:O,Kindergartens!N:N,Kindergartens!N4) -> 78152.083 | F8: =+E8/(G8+E8) -> 0.40902491 | G8: =+SUMIFS(Kindergartens!O:O,Kindergartens!N:N,Kindergartens!N8) -> 112917.17 | H8: =+G8/(G8+E8) -> 0.59097509 | L8: 2. Zero Hunger | M8: =+C10 -> 39406.65 | N8: =+M8/$M$10 -> 0.015762657 | O8: =+SUMIFS(Irrigation!O:O,Irrigation!N:N,Irrigation!N13) -> 10424.858 | P8: =+O8/(Q8+O8) -> 0.26454565 | Q8: =+SUMIFS(Irrigation!O:O,Irrigation!N:N,Irrigation!N12) -> 28981.792 | R8: =+Q8/(Q8+O8) -> 0.73545435 | V8: SDG 3. Good Health and Well-being | W8: Number of jobs before | X8: New staff, including: | Y8: Medical staff employed | Z8: Technical staff employed | AA8: TOTAL JOBS | AB8: Renovated fixed beds | AC8: Renovated ambulatory beds | AD8: New fixed beds created | AE8: New ambulatory beds created | AF8: Total fixed beds | AG8: Total ambulatory beds | AH8: Area before (m2) | AI8: Area after (m2) | AJ8: Number of patients treated | AK8: People benefited from the projects
B9: Construction and reconstruction of drinking water facilities and sewage systems | C9: =+'Drinking water'!O28 -> 130562.89 | D9: =+C9/$C$12 -> 0.052225145 | E9: =SUMIFS('Drinking water'!O:O,'Drinking water'!N:N,'Drinking water'!N4) -> 48370.676 | F9: =+E9/(G9+E9) -> 0.42715984 | G9: =SUMIFS('Drinking water'!O:O,'Drinking water'!N:N,'Drinking water'!N6) -> 64867.209 | H9: =+G9/(G9+E9) -> 0.57284016 | I9: 6. Clean Water and Sanitation | J9: 11. Sustainable Cities and Communities 3.Good Health and Well-being | L9: 9. Industry, Innovation and Infrastructure | M9: =+C11 -> 1349782.3 | N9: =+M9/$M$10 -> 0.53991281 | O9: =+M9 -> 1349782.3 | P9: =+O9/(Q9+O9) -> 1 | Q9: 0 | R9: =+Q9/(Q9+O9) -> 0 | V9: Hospitals | W9: =+Hospitals!AQ18 -> 3046.5 | X9: =+Hospitals!AR18 -> 1965.25 | Y9: =+Hospitals!AS18 -> 1665 | Z9: =+Hospitals!AT18 -> 300.25 | AA9: =+Hospitals!AU18 -> 5011.75 | AB9: =+Hospitals!AV18 -> 3028 | AC9: =+Hospitals!AW18 -> 260 | AD9: =+Hospitals!AX18 -> 1207 | ... AK9: =+Hospitals!BE18 -> 14972453
B10: Reconstruction of irrigation systems | C10: =+Irrigation!O17 -> 39406.65 | D10: =+C10/$C$12 -> 0.015762657 | E10: =+SUMIFS(Irrigation!O:O,Irrigation!N:N,Irrigation!N13) -> 10424.858 | F10: =+E10/(G10+E10) -> 0.26454565 | G10: =+SUMIFS(Irrigation!O:O,Irrigation!N:N,Irrigation!N12) -> 28981.792 | H10: =+G10/(G10+E10) -> 0.73545435 | I10: 2. Zero Hunger | J10: 13. Climate Action 15. Life on Land | M10: =SUM(M5:M9) -> 2500000.5 | N10: =SUM(N5:N9) -> 1 | O10: =+SUM(O5:O9) -> 1838594.9 | Q10: =+SUM(Q5:Q9) -> 644080.62 | V10: SDG 6. Clean Water and Sanitation | W10: Volume of clean drinking water supplied to the population since the project started till June 1, 2024 (m.cub) | X10: Volume of treated wastewater since the project started till June 1, 2024 (m.cub) | Y10: Length of drinking water pipelines constructed | Z10: Length of waste water pipelines (sewage) constructed | AA10: Number of NEW people covered by construction | AB10: Length of drinking water pipelines reconstructed | AC10: Length of waste water pipelines (sewage) reconstructed | AD10: Number of people covered by reconstruction (with improved facilities)
B11: Construction of overground and underground metro in the capital city | C11: =+Transport!K8 -> 1349782.3 | D11: =+C11/$C$12 -> 0.53991281 | E11: =+C11 -> 1349782.3 | F11: =+E11/(G11+E11) -> 1 | G11: 0 | H11: =+G11/(G11+E11) -> 0 | I11: 9. Industry, Innovation and Infrastructure | J11: 11. Sustainable Cities and Communities 13. Climate Action | N11: Urban | O11: Rural | V11: Drinking water and sewage facilities | W11: =+'Drinking water'!AF18 -> 25824260 | X11: =+'Drinking water'!AG18 -> 5633360 | Y11: =+'Drinking water'!AK18 -> 167.191 | Z11: =+'Drinking water'!AL18 -> 19 | AA11: =+'Drinking water'!AM18 -> 139193 | AB11: =+'Drinking water'!AR18 -> 20.598 | AC11: =+'Drinking water'!AS18 -> 17.28 | AD11: =+'Drinking water'!AT18 -> 33100
C12: =+SUM(C5:C11) -> 2500000.5 | D12: 1 | E12: =+SUM(E5:E11) -> 1838594.9 | G12: =+SUM(G5:G11) -> 644080.62 | M12: SDG 2 | N12: =+P8 -> 0.26454565 | O12: =+R8 -> 0.73545435 | V12: SDG 2. Zero Hunger | W12: Length of canals reconstructed in km | X12: Hectars of land affected | Y12: Average growth rate in productivity (%) | Z12: Volume of water saved per year (meter cubic per year)
M13: SDG 3 | N13: =+P5 -> 0.48890615 | O13: =+R5 -> 0.51109385 | V13: Irrigation networks/canals | W13: =+Irrigation!X17 -> 99.95 | X13: =+Irrigation!Z17 -> 96881 | Y13: =+Irrigation!AB17 -> 0.13209019 | Z13: =+Irrigation!AC17 -> 52165000
B14: Region | C14: Allocation amount in UZS'm (excluding vaccination) | D14: % | M14: SDG 4 | N14: =+P6 -> 0.37672707 | O14: =+R6 -> 0.62327293 | V14: SDG 9. Industry, Innovation and Infrastructure | W14: Quantity of stations | X14: Length of lines in km | Y14: Average number of passangers served (daily) | Z14: GHG emission
B15: Andijan region | C15: 117176.59 | D15: =+C15/$C$29 -> 0.050890605 | G15: Urban | H15: =+E12 -> 1838594.9 | M15: SDG 6 | N15: =+P7 -> 0.42715984 | O15: =+R7 -> 0.57284016 | V15: Metro in the capital city | W15: =+Transport!F8 -> 21 | X15: =+Transport!G8 -> 33.1 | Y15: =+Transport!H8 -> 213134 | Z15: Zero
B16: Bukhara region | C16: 34706.258 | D16: =+C16/$C$29 -> 0.015073169 | G16: Rural | H16: =+G12 -> 644080.62 | M16: SDG 9 | N16: =+P9 -> 1 | O16: =+R9 -> 0
B17: Republic of Karakalpakstan | C17: 45515.129 | D17: =+C17/$C$29 -> 0.019767537
B18: Jizzakh region | C18: 22599.076 | D18: =+C18/$C$29 -> 0.0098149355
B19: Khorezm region | C19: 79613.881 | D19: =+C19/$C$29 -> 0.034576862
B20: Syrdarya region | C20: 37926.192 | D20: =+C20/$C$29 -> 0.016471609
B21: Navoi region | C21: 16811.334 | D21: =+C21/$C$29 -> 0.0073012791
B22: Fergana region | C22: 101869.25 | D22: =+C22/$C$29 -> 0.044242525
B23: Namangan region | C23: 113279.19 | D23: =+C23/$C$29 -> 0.049197938
B24: Tashkent region | C24: 176799.01 | D24: =+C24/$C$29 -> 0.076785037
B25: Samarkand region | C25: 34480.647 | D25: =+C25/$C$29 -> 0.014975185
B26: Tashkent city | C26: 1377554 | D26: =+C26/$C$29 -> 0.59828128
B27: Kashkadarya region | C27: 76239.137 | D27: =+C27/$C$29 -> 0.033111187
B28: Surkhandarya region | C28: 67949.303 | D28: =+C28/$C$29 -> 0.029510854
B29: Total | C29: =SUM(C15:C28) -> 2302519 | D29: =SUM(D15:D28) -> 1

Sheet Transport
B4: Project | C4: Location | D4: Overground / underground | E4: Link with other lines of existing underground system | F4: Quantity of stations | G4: Length of lines in km | H4: Average number of passangers served (daily) | I4: GHG emission | J4: Travel time saving | K4: Total cost (in UZS'm) | L4: %
B5: Yunusabad line of Tashkent underground metro system | C5: Tashkent city | D5: Underground | E5: Yes, it is a continuation of existing Yunusobod line of Tashkent underground railway system. Two new stations of the line have been built within the framework of project. | F5: 2 | G5: 2.9 | H5: 17850 | I5: Zero emission at all | J5: At least two times in comparison with on-land transport during rush hour | K5: 42442.024 | L5: =+K5/$K$8 -> 0.031443607
B6: Sergeli overground line of Tashkent underground metro system | C6: Tashkent city | D6: Overground | E6: Yes, it is connected to the existing Chilonzor line of Tashkent underground railway system. New Sergeli line, which is overground, consists of 5 new stations. | F6: 5 | G6: 6.2 | H6: 35000 | I6: Zero emission at all | J6: At least two times in comparison with on-land transport during rush hour | K6: 385272.27 | L6: =+K6/$K$8 -> 0.28543289
B7: Tashkent overground loop metro line | C7: Tashkent city | D7: Overground | E7: Yes, it is connected to the new Sergeli line of Tashkent underground railway system. Tashkent overground railway consists of 14 new stations. | F7: 14 | G7: 24 | H7: 160284 | I7: Zero emission at all | J7: At least two times in comparison with on-land transport during rush hour | K7: 922068.02 | L7: =+K7/$K$8 -> 0.6831235
F8: =+SUM(F5:F7) -> 21 | G8: =+SUM(G5:G7) -> 33.1 | H8: =+SUM(H5:H7) -> 213134 | K8: =+SUM(K5:K7) -> 1349782.3

Sheet Schools
B1: SCHOOLS
B2: No. | C2: Name of the project | D2: Responsible ministry | E2: Area (region) where the project has been implemented | F2: Name of the responsible employee | G2: Phone number of the responsible employee | H2: Project start date | I2: Project end date | J2: Name of general contracting organization | K2: General contracting organization type | L2: Construction / Reconstruction | M2: Project summary | N2: Located in rural/urban area | O2: Amount of financing (in UZS'm) | P2: Number of renovated seats as a result of the project | Q2: Number of jobs before the implementation of the project | R2: Type of construction work done | S2: Area of the school building used for studying/education | U2: Number of new seats created as a result of the project | V2: Number of new/additional teachers and technical staff (non-teaching) employed as a result of the project | X2: Number of boys and girls currently studying | Z2: Number of students graduated from school until June 1, 2024 since the project started | AA2: Number of graduated students managed to enter higher education institutions (excluding 2024 results) | AB2: Number of people benefiting from the implementation of the project (population of the area) | AE2: Region | AF2: Allocation | AP2: Number of jobs | AU2: School capacity | BA2: School area | BC2: Students graduated | BD2: Graduated students enrolled at higher education (excluding 2024 results) | BE2: People benefiting from the projects
S3: Before (m2) | T3: After (m2) | V3: New teachers | W3: New technical staff | X3: Boys | Y3: Girls | AF3: Total Financing (in UZS'm) | AG3: % | AH3: Rural (in UZS'm) | AI3: % | AJ3: Urban (in UZS'm) | AK3: % | AL3: Construction (in UZS'm) | AM3: % | AN3: Reconstruction (in UZS'm) | AO3: % | AP3: Number of jobs before | AQ3: New staff, including: | AR3: Teachers employed | AS3: Non-teaching staff employed | AT3: TOTAL JOBS | AU3: Renovated seats | AV3: New seats | AW3: NEW CAPACITY | AX3: Current number of students | AY3: Boys | AZ3: Girls | BA3: Before (m2) | BB3: After (m2) | BJ3: Area | BK3: Financing | BL3: % | BM3: Construction | BN3: % | BO3: Reconstruction | BP3: % | BQ3: Quantity of projects | BR3: Construction of new schools | BS3: Reconstruction of existing schools | BT3: Number of jobs before | BU3: % | BV3: New teachers employed | BW3: % | BX3: Technical staff employed | BY3: % | BZ3: TOTAL STAFF | CA3: % | CB3: Renovated seats | CC3: % | CD3: Additional seats created | CE3: % | CF3: Number of boys studying | CG3: % | CH3: Number of girls studying | CI3: % | CJ3: Students graduated | CK3: % | CL3: Graduated students enrolled at higher education (excluding 2024 results) | CM3: % | CN3: People benefiting from the projects | CO3: %
B4: 1 | C4: School No. 10 in Qibray district | D4: Ministry of Preschool and School Education | E4: Tashkent region | F4: Ахмедова Мавжуда | G4: 99-841-36-21 | H4: 44323 | I4: 44477 | J4: "GALLANT BUILDING" MCHJ | K4: Private entity | L4: Reconstruction | M4: Reconstruction of the 10th school in Qibray district, which will increase the level of coverage of students of grades 1-11 at the age of 7-18 and create additional jobs | N4: Rural | O4: 6547.3278 | P4: 280 | Q4: 37 | R4: Renovation of existing building and Construction of additional new building | S4: 1850.3 | T4: 2868.1 | U4: 240 | V4: 4 | W4: 3 | X4: 189 | Y4: 190 | Z4: 93 | AA4: 46 | AB4: 4600 | AE4: Andijan | AF4: =+SUMIFS($O$4:$O$36,$E$4:$E$36,AE4) -> 28443.4 | AG4: =+AF4/$AF$18 -> 0.11478124 | AH4: =+SUMIFS($O$4:$O$36,$E$4:$E$36,AE4,$N$4:$N$36,$N$4) -> 12543.08 | AI4: =+AH4/AF4 -> 0.44098384 | AJ4: =+SUMIFS($O$4:$O$36,$E$4:$E$36,AE4,$N$4:$N$36,$N$9) -> 15900.32 | AK4: =+AJ4/AF4 -> 0.55901616 | AL4: =+SUMIFS($O$4:$O$36,$E$4:$E$36,AE4,$L$4:$L$36,$L$11) -> 6505.4644 | AM4: =+AL4/AF4 -> 0.22871613 | AN4: =+SUMIFS($O$4:$O$36,$E$4:$E$36,AE4,$L$4:$L$36,$L$10) -> 21937.936 | AO4: =+AN4/AF4 -> 0.77128387 | AP4: =+SUMIFS($Q$4:$Q$36,$E$4:$E$36,AE4) -> 232 | AQ4: =+AR4+AS4 -> 139 | AR4: =+SUMIFS($V$4:$V$36,$E$4:$E$36,AE4) -> 112 | AS4: =+SUMIFS($W$4:$W$36,$E$4:$E$36,AE4) -> 27 | AT4: =+AP4+AQ4 -> 371 | AU4: =+SUMIFS($P$4:$P$36,$E$4:$E$36,AE4) -> 1934 | AV4: =+SUMIFS($U$4:$U$36,$E$4:$E$36,AE4) -> 1795 | AW4: =+SUM(AU4:AV4) -> 3729 | AX4: =+SUMIFS($X$4:$X$36,$E$4:$E$36,AE4)++SUMIFS($Y$4:$Y$36,$E$4:$E$36,AE4) -> 4972 | AY4: =+SUMIFS($X$4:$X$36,$E$4:$E$36,AE4)/AX4 -> 0.557321 | AZ4: =SUMIFS($Y$4:$Y$36,$E$4:$E$36,AE4)/AX4 -> 0.442679 | BA4: =+SUMIFS($S$4:$S$36,$E$4:$E$36,AE4) -> 13046.08 | BB4: =+SUMIFS($T$4:$T$36,$E$4:$E$36,AE4) -> 24571.38 | BC4: =+SUMIFS($Z$4:$Z$36,$E$4:$E$36,AE4) -> 819 | BD4: =+SUMIFS($AA$4:$AA$36,$E$4:$E$36,AE4) -> 163 | BE4: =+SUMIFS($AB$4:$AB$36,$E$4:$E$36,AE4) -> 32872 | BJ4: Rural | BK4: =+SUMIFS($O$4:$O$36,$N$4:$N$36,BJ4) -> 160621.47 | BL4: =+BK4/$BK$6 -> 0.64817605 | BM4: =+SUMIFS($O$4:$O$36,$N$4:$N$36,BJ4,$L$4:$L$36,$BM$3) -> 6505.4644 | BN4: =+BM4/$BM$6 -> 0.22606917 | BO4: =+SUMIFS($O$4:$O$36,$N$4:$N$36,BJ4,$L$4:$L$36,$BO$3) -> 154116 | BP4: =+BO4/$BO$6 -> 0.70363326 | BQ4: =+COUNTIFS($N$4:$N$36,BJ4) -> 23 | BR4: =+COUNTIFS($N$4:$N$36,BJ4,$L$4:$L$36,$BM$3) -> 1 | BS4: =+COUNTIFS($N$4:$N$36,BJ4,$L$4:$L$36,$BO$3) -> 22 | BT4: =+SUMIFS($Q$4:$Q$36,$N$4:$N$36,BJ4) -> 1712 | BU4: =+BT4/BT6 -> 0.71214642 | BV4: =+SUMIFS($V$4:$V$36,$N$4:$N$36,BJ4) -> 289 | BW4: =+BV4/BV6 -> 0.46166134 | BX4: =+SUMIFS($W$4:$W$36,$N$4:$N$36,BJ4) -> 73 | BY4: =+BX4/BX6 -> 0.46202532 | BZ4: =+BT4+BV4+BX4 -> 2074 | CA4: =+BZ4/BZ6 -> 0.65056462 | CB4: =+SUMIFS($P$4:$P$36,$N$4:$N$36,BJ4) -> 12642 | CC4: =+CB4/CB6 -> 0.70034901 | CD4: =+SUMIFS($U$4:$U$36,$N$4:$N$36,BJ4) -> 6729 | CE4: =+CD4/CD6 -> 0.56408752 | CF4: =+SUMIFS($X$4:$X$36,$N$4:$N$36,BJ4) -> 11821 | CG4: =+CF4/CF6 -> 0.62468953 | CH4: =+SUMIFS($Y$4:$Y$36,$N$4:$N$36,BJ4) -> 10770 | CI4: =+CH4/CH6 -> 0.61599176 | CJ4: =+SUMIFS($Z$4:$Z$36,$N$4:$N$36,BJ4) -> 3721 | CK4: =+CJ4/CJ6 -> 0.67951059 | CL4: =+SUMIFS($AA$4:$AA$36,$N$4:$N$36,BJ4) -> 1407 | CM4: =+CL4/CL6 -> 0.68970588 | CN4: =+SUMIFS($AB$4:$AB$36,$N$4:$N$36,BJ4) -> 98106 | CO4: =+CN4/CN6 -> 0.61242376
B5: =+B4+1 -> 2 | C5: School No. 38 in Zangiota district | D5: Ministry of Preschool and School Education | E5: Tashkent region | F5: Бакирова Ходича Ахмаджонова | G5: 99-819-75-23 | H5: 44328 | I5: 44472 | J5: "ENERGOMONTAJ INVEST QURILISH" MCHJ | K5: Private entity | L5: Reconstruction | M5: Reconstruction of school 38 in Zangiota district, which will increase the level of coverage of students of grades 1-11 at the age of 7-18 and create additional jobs | N5: Rural | O5: 8642.2631 | P5: 640 | Q5: 72 | R5: Renovation of existing building and Construction of additional new building | S5: 3293.8 | T5: 5922.7 | U5: 520 | V5: 16 | W5: 7 | X5: 585 | Y5: 579 | Z5: 93 | AA5: 38 | AB5: 5200 | AE5: Bukhara | AF5: =+SUMIFS($O$4:$O$36,$E$4:$E$36,AE5) -> 17638.16 | AG5: =+AF5/$AF$18 -> 0.071177492 | AH5: =+SUMIFS($O$4:$O$36,$E$4:$E$36,AE5,$N$4:$N$36,$N$4) -> 0 | AI5: =+AH5/AF5 -> 0 | AJ5: =+SUMIFS($O$4:$O$36,$E$4:$E$36,AE5,$N$4:$N$36,$N$9) -> 17638.16 | AK5: =+AJ5/AF5 -> 1 | AL5: =+SUMIFS($O$4:$O$36,$E$4:$E$36,AE5,$L$4:$L$36,$L$11) -> 6066.1263 | AM5: =+AL5/AF5 -> 0.34392058 | AN5: =+SUMIFS($O$4:$O$36,$E$4:$E$36,AE5,$L$4:$L$36,$L$10) -> 11572.034 | AO5: =+AN5/AF5 -> 0.65607942 | AP5: =+SUMIFS($Q$4:$Q$36,$E$4:$E$36,AE5) -> 50 | AQ5: =+AR5+AS5 -> 187 | AR5: =+SUMIFS($V$4:$V$36,$E$4:$E$36,AE5) -> 146 | AS5: =+SUMIFS($W$4:$W$36,$E$4:$E$36,AE5) -> 41 | AT5: =+AP5+AQ5 -> 237 | AU5: =+SUMIFS($P$4:$P$36,$E$4:$E$36,AE5) -> 600 | AV5: =+SUMIFS($U$4:$U$36,$E$4:$E$36,AE5) -> 1646 | AW5: =+SUM(AU5:AV5) -> 2246 | AX5: =+SUMIFS($X$4:$X$36,$E$4:$E$36,AE5)++SUMIFS($Y$4:$Y$36,$E$4:$E$36,AE5) -> 2432 | AY5: =+SUMIFS($X$4:$X$36,$E$4:$E$36,AE5)/AX5 -> 0.43544408 | AZ5: =SUMIFS($Y$4:$Y$36,$E$4:$E$36,AE5)/AX5 -> 0.56455592 | BA5: =+SUMIFS($S$4:$S$36,$E$4:$E$36,AE5) -> 1211 | BB5: =+SUMIFS($T$4:$T$36,$E$4:$E$36,AE5) -> 11640.3 | BC5: =+SUMIFS($Z$4:$Z$36,$E$4:$E$36,AE5) -> 271 | BD5: =+SUMIFS($AA$4:$AA$36,$E$4:$E$36,AE5) -> 210 | BE5: =+SUMIFS($AB$4:$AB$36,$E$4:$E$36,AE5) -> 8500 | BJ5: Urban | BK5: =+SUMIFS($O$4:$O$36,$N$4:$N$36,BJ5) -> 87183.841 | BL5: =+BK5/$BK$6 -> 0.35182395 | BM5: =+SUMIFS($O$4:$O$36,$N$4:$N$36,BJ5,$L$4:$L$36,$BM$3) -> 22270.968 | BN5: =+BM5/$BM$6 -> 0.77393083 | BO5: =+SUMIFS($O$4:$O$36,$N$4:$N$36,BJ5,$L$4:$L$36,$BO$3) -> 64912.872 | BP5: =+BO5/$BO$6 -> 0.29636674 | BQ5: =+COUNTIFS($N$4:$N$36,BJ5) -> 10 | BR5: =+COUNTIFS($N$4:$N$36,BJ5,$L$4:$L$36,$BM$3) -> 2 | BS5: =+COUNTIFS($N$4:$N$36,BJ5,$L$4:$L$36,$BO$3) -> 8 | BT5: =+SUMIFS($Q$4:$Q$36,$N$4:$N$36,BJ5) -> 692 | BU5: =+BT5/BT6 -> 0.28785358 | BV5: =+SUMIFS($V$4:$V$36,$N$4:$N$36,BJ5) -> 337 | BW5: =+BV5/BV6 -> 0.53833866 | BX5: =+SUMIFS($W$4:$W$36,$N$4:$N$36,BJ5) -> 85 | BY5: =+BX5/BX6 -> 0.53797468 | BZ5: =+BT5+BV5+BX5 -> 1114 | CA5: =+BZ5/BZ6 -> 0.34943538 | CB5: =+SUMIFS($P$4:$P$36,$N$4:$N$36,BJ5) -> 5409 | CC5: =+CB5/CB6 -> 0.29965099 | CD5: =+SUMIFS($U$4:$U$36,$N$4:$N$36,BJ5) -> 5200 | CE5: =+CD5/CD6 -> 0.43591248 | CF5: =+SUMIFS($X$4:$X$36,$N$4:$N$36,BJ5) -> 7102 | CG5: =+CF5/CF6 -> 0.37531047 | CH5: =+SUMIFS($Y$4:$Y$36,$N$4:$N$36,BJ5) -> 6714 | CI5: =+CH5/CH6 -> 0.38400824 | CJ5: =+SUMIFS($Z$4:$Z$36,$N$4:$N$36,BJ5) -> 1755 | CK5: =+CJ5/CJ6 -> 0.32048941 | CL5: =+SUMIFS($AA$4:$AA$36,$N$4:$N$36,BJ5) -> 633 | CM5: =+CL5/CL6 -> 0.31029412 | CN5: =+SUMIFS($AB$4:$AB$36,$N$4:$N$36,BJ5) -> 62087 | CO5: =+CN5/CN6 -> 0.38757624
B6: =+B5+1 -> 3 | C6: School No. 8 in Ahangaron district | D6: Ministry of Preschool and School Education | E6: Tashkent region | F6: Мамашоев Анвар | G6: 94-942-05-06 | H6: 44323 | I6: 44454 | J6: "KUSHON DIZAYN QURILISH" MCHJ | K6: Private entity | L6: Reconstruction | M6: Reconstruction of the 8th school in Ohangaron district, which will increase the level of coverage of students of grades 1-11 at the age of 7-18 and create additional jobs | N6: Rural | O6: 6241.9161 | P6: 320 | Q6: 30 | R6: Renovation of existing building and Construction of additional new building | S6: 667 | T6: 1486 | U6: 192 | V6: 8 | W6: 1 | X6: 174 | Y6: 166 | Z6: 82 | AA6: 47 | AB6: 2800 | AE6: Fergana | AF6: =+SUMIFS($O$4:$O$36,$E$4:$E$36,AE6) -> 28331.191 | AG6: =+AF6/$AF$18 -> 0.11432843 | AH6: =+SUMIFS($O$4:$O$36,$E$4:$E$36,AE6,$N$4:$N$36,$N$4) -> 28331.191 | AI6: =+AH6/AF6 -> 1 | AJ6: =+SUMIFS($O$4:$O$36,$E$4:$E$36,AE6,$N$4:$N$36,$N$9) -> 0 | AK6: =+AJ6/AF6 -> 0 | AL6: =+SUMIFS($O$4:$O$36,$E$4:$E$36,AE6,$L$4:$L$36,$L$11) -> 0 | AM6: =+AL6/AF6 -> 0 | AN6: =+SUMIFS($O$4:$O$36,$E$4:$E$36,AE6,$L$4:$L$36,$L$10) -> 28331.191 | AO6: =+AN6/AF6 -> 1 | AP6: =+SUMIFS($Q$4:$Q$36,$E$4:$E$36,AE6) -> 190 | AQ6: =+AR6+AS6 -> 89 | AR6: =+SUMIFS($V$4:$V$36,$E$4:$E$36,AE6) -> 71 | AS6: =+SUMIFS($W$4:$W$36,$E$4:$E$36,AE6) -> 18 | AT6: =+AP6+AQ6 -> 279 | AU6: =+SUMIFS($P$4:$P$36,$E$4:$E$36,AE6) -> 1350 | AV6: =+SUMIFS($U$4:$U$36,$E$4:$E$36,AE6) -> 1440 | AW6: =+SUM(AU6:AV6) -> 2790 | AX6: =+SUMIFS($X$4:$X$36,$E$4:$E$36,AE6)++SUMIFS($Y$4:$Y$36,$E$4:$E$36,AE6) -> 2970 | AY6: =+SUMIFS($X$4:$X$36,$E$4:$E$36,AE6)/AX6 -> 0.48215488 | AZ6: =SUMIFS($Y$4:$Y$36,$E$4:$E$36,AE6)/AX6 -> 0.51784512 | BA6: =+SUMIFS($S$4:$S$36,$E$4:$E$36,AE6) -> 5486.79 | BB6: =+SUMIFS($T$4:$T$36,$E$4:$E$36,AE6) -> 10565.52 | BC6: =+SUMIFS($Z$4:$Z$36,$E$4:$E$36,AE6) -> 516 | BD6: =+SUMIFS($AA$4:$AA$36,$E$4:$E$36,AE6) -> 158 | BE6: =+SUMIFS($AB$4:$AB$36,$E$4:$E$36,AE6) -> 14438 | BK6: =+SUM(BK4:BK5) -> 247805.31 | BM6: =+SUM(BM4:BM5) -> 28776.433 | BO6: =+SUM(BO4:BO5) -> 219028.87 | BQ6: =+SUM(BQ4:BQ5) -> 33 | BR6: =+SUM(BR4:BR5) -> 3 | BS6: =+SUM(BS4:BS5) -> 30 | BT6: =+SUM(BT4:BT5) -> 2404 | BV6: =+SUM(BV4:BV5) -> 626 | BX6: =+SUM(BX4:BX5) -> 158 | BZ6: =+SUM(BZ4:BZ5) -> 3188 | CB6: =+SUM(CB4:CB5) -> 18051 | CD6: =+SUM(CD4:CD5) -> 11929 | CF6: =+SUM(CF4:CF5) -> 18923 | CH6: =+SUM(CH4:CH5) -> 17484 | CJ6: =+SUM(CJ4:CJ5) -> 5476 | CL6: =+SUM(CL4:CL5) -> 2040 | CN6: =+SUM(CN4:CN5) -> 160193
B7: =+B6+1 -> 4 | C7: School No. 2 in Ahangaron city | D7: Ministry of Preschool and School Education | E7: Tashkent region | F7: Айнаркулова Муяссар | G7: 90-121-52-53 | H7: 44328 | I7: 44472 | J7: "OXANGARON BUNYODKOR BINOKOR" MCHJ | K7: Private entity | L7: Reconstruction | M7: Reconstruction of the 2nd school in Ohangaron, which will increase the level of coverage of students of grades 1-11 at the age of 7-18 and create additional jobs | N7: Rural | O7: 9454.0926 | P7: 936 | Q7: 85 | R7: Renovation of existing building and Construction of additional new building | S7: 2991 | T7: 3646 | U7: 330 | V7: 12 | W7: 4 | X7: 551 | Y7: 508 | Z7: 100 | AA7: 43 | AB7: 2453 | AE7: Jizzakh | AF7: =+SUMIFS($O$4:$O$36,$E$4:$E$36,AE7) -> 7659.6152 | AG7: =+AF7/$AF$18 -> 0.030909811 | AH7: =+SUMIFS($O$4:$O$36,$E$4:$E$36,AE7,$N$4:$N$36,$N$4) -> 7659.6152 | AI7: =+AH7/AF7 -> 1 | AJ7: =+SUMIFS($O$4:$O$36,$E$4:$E$36,AE7,$N$4:$N$36,$N$9) -> 0 | AK7: =+AJ7/AF7 -> 0 | AL7: =+SUMIFS($O$4:$O$36,$E$4:$E$36,AE7,$L$4:$L$36,$L$11) -> 0 | AM7: =+AL7/AF7 -> 0 | AN7: =+SUMIFS($O$4:$O$36,$E$4:$E$36,AE7,$L$4:$L$36,$L$10) -> 7659.6152 | AO7: =+AN7/AF7 -> 1 | AP7: =+SUMIFS($Q$4:$Q$36,$E$4:$E$36,AE7) -> 72 | AQ7: =+AR7+AS7 -> 1 | AR7: =+SUMIFS($V$4:$V$36,$E$4:$E$36,AE7) -> 0 | AS7: =+SUMIFS($W$4:$W$36,$E$4:$E$36,AE7) -> 1 | AT7: =+AP7+AQ7 -> 73 | AU7: =+SUMIFS($P$4:$P$36,$E$4:$E$36,AE7) -> 700 | AV7: =+SUMIFS($U$4:$U$36,$E$4:$E$36,AE7) -> 0 | AW7: =+SUM(AU7:AV7) -> 700 | AX7: =+SUMIFS($X$4:$X$36,$E$4:$E$36,AE7)++SUMIFS($Y$4:$Y$36,$E$4:$E$36,AE7) -> 700 | AY7: =+SUMIFS($X$4:$X$36,$E$4:$E$36,AE7)/AX7 -> 0.52714286 | AZ7: =SUMIFS($Y$4:$Y$36,$E$4:$E$36,AE7)/AX7 -> 0.47285714 | BA7: =+SUMIFS($S$4:$S$36,$E$4:$E$36,AE7) -> 1700 | BB7: =+SUMIFS($T$4:$T$36,$E$4:$E$36,AE7) -> 1700 | BC7: =+SUMIFS($Z$4:$Z$36,$E$4:$E$36,AE7) -> 65 | BD7: =+SUMIFS($AA$4:$AA$36,$E$4:$E$36,AE7) -> 30 | BE7: =+SUMIFS($AB$4:$AB$36,$E$4:$E$36,AE7) -> 4811 | BK7: =+BK6=O37 -> TRUE | BM7: =+BM6=AL18 -> TRUE | BO7: =+BO6=AN18 -> TRUE | BQ7: =+BQ6=B36 -> TRUE | BT7: =+BT6=Q37 -> TRUE | BV7: =+BV6=V37 -> TRUE | BX7: =+BX6=W37 -> TRUE | BZ7: =+BZ6=AT18 -> TRUE | CB7: =+CB6=P37 -> TRUE | CD7: =+CD6=U37 -> TRUE | CF7: =+CF6=X37 -> TRUE | CH7: =+CH6=Y37 -> TRUE | CJ7: =+CJ6=Z37 -> TRUE | CL7: =+CL6=AA37 -> TRUE | CN7: =+CN6=AB37 -> TRUE
B8: =+B7+1 -> 5 | C8: School No. 23 in Tashkent district | D8: Ministry of Preschool and School Education | E8: Tashkent region | F8: Зарипов Убайдулла | G8: 99 851-02-70 | H8: 44350 | I8: 44490 | J8: "YUKSAK TA'LIM TA'MIR QURILISH" MCHJ | K8: Private entity | L8: Reconstruction | M8: Reconstruction of the 23rd school in Tashkent district, which will increase the level of coverage of students of grades 1-11 at the age of 7-18 and create additional jobs | N8: Rural | O8: 6581.471 | P8: 810 | Q8: 51 | R8: Renovation of an existing building | S8: 3059.49 | T8: 1921.85 | U8: 0 | V8: 12 | W8: 2 | X8: 344 | Y8: 352 | Z8: 172 | AA8: 64 | AB8: 2500 | AE8: Kashkadarya | AF8: =+SUMIFS($O$4:$O$36,$E$4:$E$36,AE8) -> 0 | AG8: =+AF8/$AF$18 -> 0 | AH8: =+SUMIFS($O$4:$O$36,$E$4:$E$36,AE8,$N$4:$N$36,$N$4) -> 0 | AI8: 0 | AJ8: =+SUMIFS($O$4:$O$36,$E$4:$E$36,AE8,$N$4:$N$36,$N$9) -> 0 | AK8: 0 | AL8: =+SUMIFS($O$4:$O$36,$E$4:$E$36,AE8,$L$4:$L$36,$L$11) -> 0 | AM8: 0 | AN8: 0 | AO8: 0 | AP8: =+SUMIFS($Q$4:$Q$36,$E$4:$E$36,AE8) -> 0 | AQ8: =+AR8+AS8 -> 0 | AR8: =+SUMIFS($V$4:$V$36,$E$4:$E$36,AE8) -> 0 | AS8: =+SUMIFS($W$4:$W$36,$E$4:$E$36,AE8) -> 0 | AT8: =+AP8+AQ8 -> 0 | AU8: =+SUMIFS($P$4:$P$36,$E$4:$E$36,AE8) -> 0 | AV8: =+SUMIFS($U$4:$U$36,$E$4:$E$36,AE8) -> 0 | AW8: =+SUM(AU8:AV8) -> 0 | AX8: =+SUMIFS($X$4:$X$36,$E$4:$E$36,AE8)++SUMIFS($Y$4:$Y$36,$E$4:$E$36,AE8) -> 0 | AY8: 0 | AZ8: 0 | BA8: =+SUMIFS($S$4:$S$36,$E$4:$E$36,AE8) -> 0 | BB8: =+SUMIFS($T$4:$T$36,$E$4:$E$36,AE8) -> 0 | BC8: =+SUMIFS($Z$4:$Z$36,$E$4:$E$36,AE8) -> 0 | BD8: =+SUMIFS($AA$4:$AA$36,$E$4:$E$36,AE8) -> 0 | BE8: =+SUMIFS($AB$4:$AB$36,$E$4:$E$36,AE8) -> 0
B9: =+B8+1 -> 6 | C9: School No. 4 in Bekabad city | D9: Ministry of Preschool and School Education | E9: Tashkent region | F9: Норбутаев Эркин | G9: 97-784-77-06 | H9: 44308 | I9: 44423 | J9: "ENERGY ENGINEERING COMMUNICATIONS" МЧЖ | K9: Private entity | L9: Reconstruction | M9: Reconstruction of the 4th school in Bekobad city, which will increase the level of coverage of students of grades 1-11 at the age of 7-18 and create additional jobs | N9: Urban | O9: 8300.972 | P9: 110 | Q9: 35 | R9: Renovation of an existing building | S9: 1532 | T9: 1532 | U9: 0 | V9: 0 | W9: 0 | X9: 71 | Y9: 51 | Z9: 14 | AA9: 7 | AB9: 677 | AE9: Kharezm | AF9: =+SUMIFS($O$4:$O$36,$E$4:$E$36,AE9) -> 19715.02 | AG9: =+AF9/$AF$18 -> 0.079558508 | AH9: =+SUMIFS($O$4:$O$36,$E$4:$E$36,AE9,$N$4:$N$36,$N$4) -> 19715.02 | AI9: =+AH9/AF9 -> 1 | AJ9: =+SUMIFS($O$4:$O$36,$E$4:$E$36,AE9,$N$4:$N$36,$N$9) -> 0 | AK9: =+AJ9/AF9 -> 0 | AL9: =+SUMIFS($O$4:$O$36,$E$4:$E$36,AE9,$L$4:$L$36,$L$11) -> 0 | AM9: =+AL9/AF9 -> 0 | AN9: =+SUMIFS($O$4:$O$36,$E$4:$E$36,AE9,$L$4:$L$36,$L$10) -> 19715.02 | AO9: =+AN9/AF9 -> 1 | AP9: =+SUMIFS($Q$4:$Q$36,$E$4:$E$36,AE9) -> 289 | AQ9: =+AR9+AS9 -> 9 | AR9: =+SUMIFS($V$4:$V$36,$E$4:$E$36,AE9) -> 6 | AS9: =+SUMIFS($W$4:$W$36,$E$4:$E$36,AE9) -> 3 | AT9: =+AP9+AQ9 -> 298 | AU9: =+SUMIFS($P$4:$P$36,$E$4:$E$36,AE9) -> 1772 | AV9: =+SUMIFS($U$4:$U$36,$E$4:$E$36,AE9) -> 822 | AW9: =+SUM(AU9:AV9) -> 2594 | AX9: =+SUMIFS($X$4:$X$36,$E$4:$E$36,AE9)++SUMIFS($Y$4:$Y$36,$E$4:$E$36,AE9) -> 3075 | AY9: =+SUMIFS($X$4:$X$36,$E$4:$E$36,AE9)/AX9 -> 0.51739837 | AZ9: =SUMIFS($Y$4:$Y$36,$E$4:$E$36,AE9)/AX9 -> 0.48260163 | BA9: =+SUMIFS($S$4:$S$36,$E$4:$E$36,AE9) -> 6675.6 | BB9: =+SUMIFS($T$4:$T$36,$E$4:$E$36,AE9) -> 10708.32 | BC9: =+SUMIFS($Z$4:$Z$36,$E$4:$E$36,AE9) -> 675 | BD9: =+SUMIFS($AA$4:$AA$36,$E$4:$E$36,AE9) -> 212 | BE9: =+SUMIFS($AB$4:$AB$36,$E$4:$E$36,AE9) -> 10959
B10: =+B9+1 -> 7 | C10: School No. 39 in Bukhara city | D10: Ministry of Preschool and School Education | E10: Bukhara | F10: Ўчилов Ёдгор Ибодович Қодиров Ислом (ғазначилик) | G10: 93-626-16-33 97-798-77-27 | H10: 43850 | I10: 44216 | J10: Гала Осиё Сохтимон ИТК Х/к | K10: Private entity | L10: Reconstruction | M10: Reconstruction of the 39th school in Bukhara, which will increase the level of coverage of students of grades 1-11 at the age of 7-18 and create additional jobs | N10: Urban | O10: 11572.034 | P10: 600 | Q10: 50 | R10: Renovation of existing building and Construction of additional new building | S10: 1211 | T10: 3659 | U10: 1310 | V10: 98 | W10: 28 | X10: 828 | Y10: 1242 | Z10: 230 | AA10: 189 | AB10: 7355 | AE10: Namangan | AF10: =+SUMIFS($O$4:$O$36,$E$4:$E$36,AE10) -> 38220.342 | AG10: =+AF10/$AF$18 -> 0.15423537 | AH10: =+SUMIFS($O$4:$O$36,$E$4:$E$36,AE10,$N$4:$N$36,$N$4) -> 14462.204 | AI10: =+AH10/AF10 -> 0.37839024 | AJ10: =+SUMIFS($O$4:$O$36,$E$4:$E$36,AE10,$N$4:$N$36,$N$9) -> 23758.138 | AK10: =+AJ10/AF10 -> 0.62160976 | AL10: =+SUMIFS($O$4:$O$36,$E$4:$E$36,AE10,$L$4:$L$36,$L$11) -> 16204.842 | AM10: =+AL10/AF10 -> 0.42398475 | AN10: =+SUMIFS($O$4:$O$36,$E$4:$E$36,AE10,$L$4:$L$36,$L$10) -> 22015.5 | AO10: =+AN10/AF10 -> 0.57601525 | AP10: =+SUMIFS($Q$4:$Q$36,$E$4:$E$36,AE10) -> 295 | AQ10: =+AR10+AS10 -> 89 | AR10: =+SUMIFS($V$4:$V$36,$E$4:$E$36,AE10) -> 68 | AS10: =+SUMIFS($W$4:$W$36,$E$4:$E$36,AE10) -> 21 | AT10: =+AP10+AQ10 -> 384 | AU10: =+SUMIFS($P$4:$P$36,$E$4:$E$36,AE10) -> 2234 | AV10: =+SUMIFS($U$4:$U$36,$E$4:$E$36,AE10) -> 1620 | AW10: =+SUM(AU10:AV10) -> 3854 | AX10: =+SUMIFS($X$4:$X$36,$E$4:$E$36,AE10)++SUMIFS($Y$4:$Y$36,$E$4:$E$36,AE10) -> 5298 | AY10: =+SUMIFS($X$4:$X$36,$E$4:$E$36,AE10)/AX10 -> 0.52661382 | AZ10: =SUMIFS($Y$4:$Y$36,$E$4:$E$36,AE10)/AX10 -> 0.47338618 | BA10: =+SUMIFS($S$4:$S$36,$E$4:$E$36,AE10) -> 10473 | BB10: =+SUMIFS($T$4:$T$36,$E$4:$E$36,AE10) -> 22848 | BC10: =+SUMIFS($Z$4:$Z$36,$E$4:$E$36,AE10) -> 583 | BD10: =+SUMIFS($AA$4:$AA$36,$E$4:$E$36,AE10) -> 129 | BE10: =+SUMIFS($AB$4:$AB$36,$E$4:$E$36,AE10) -> 15864
B11: =+B10+1 -> 8 | C11: New Boarding school No. 17 in Kagan city | D11: Ministry of Preschool and School Education | E11: Bukhara | F11: Хикматова Сабохат Исматовна Эшов Ортиқ Насреддинович (ғазначилик) | G11: 91-409 17 43 88-183 50 05 | H11: 44256 | I11: 44440 | J11: ""Наврўз Акмал строй инвест" МЧЖ | K11: Private entity | L11: Construction | M11: Construction of a new boarding school No. 17 in Kogon city, which will increase the level of coverage of students of grades 1-11 at the age of 7-18 and create additional jobs | N11: Urban | O11: 6066.1263 | P11: 0 | Q11: 0 | R11: Construction of a new building | S11: 0 | T11: 7981.3 | U11: 336 | V11: 48 | W11: 13 | X11: 231 | Y11: 131 | Z11: 41 | AA11: 21 | AB11: 1145 | AE11: Navoi | AF11: =+SUMIFS($O$4:$O$36,$E$4:$E$36,AE11) -> 6089.4462 | AG11: =+AF11/$AF$18 -> 0.02457351 | AH11: =+SUMIFS($O$4:$O$36,$E$4:$E$36,AE11,$N$4:$N$36,$N$4) -> 6089.4462 | AI11: =+AH11/AF11 -> 1 | AJ11: =+SUMIFS($O$4:$O$36,$E$4:$E$36,AE11,$N$4:$N$36,$N$9) -> 0 | AK11: =+AJ11/AF11 -> 0 | AL11: =+SUMIFS($O$4:$O$36,$E$4:$E$36,AE11,$L$4:$L$36,$L$11) -> 0 | AM11: =+AL11/AF11 -> 0 | AN11: =+SUMIFS($O$4:$O$36,$E$4:$E$36,AE11,$L$4:$L$36,$L$10) -> 6089.4462 | AO11: =+AN11/AF11 -> 1 | AP11: =+SUMIFS($Q$4:$Q$36,$E$4:$E$36,AE11) -> 81 | AQ11: =+AR11+AS11 -> 13 | AR11: =+SUMIFS($V$4:$V$36,$E$4:$E$36,AE11) -> 10 | AS11: =+SUMIFS($W$4:$W$36,$E$4:$E$36,AE11) -> 3 | AT11: =+AP11+AQ11 -> 94 | AU11: =+SUMIFS($P$4:$P$36,$E$4:$E$36,AE11) -> 720 | AV11: =+SUMIFS($U$4:$U$36,$E$4:$E$36,AE11) -> 330 | AW11: =+SUM(AU11:AV11) -> 1050 | AX11: =+SUMIFS($X$4:$X$36,$E$4:$E$36,AE11)++SUMIFS($Y$4:$Y$36,$E$4:$E$36,AE11) -> 1348 | AY11: =+SUMIFS($X$4:$X$36,$E$4:$E$36,AE11)/AX11 -> 0.48961424 | AZ11: =SUMIFS($Y$4:$Y$36,$E$4:$E$36,AE11)/AX11 -> 0.51038576 | BA11: =+SUMIFS($S$4:$S$36,$E$4:$E$36,AE11) -> 2550 | BB11: =+SUMIFS($T$4:$T$36,$E$4:$E$36,AE11) -> 2780 | BC11: =+SUMIFS($Z$4:$Z$36,$E$4:$E$36,AE11) -> 224 | BD11: =+SUMIFS($AA$4:$AA$36,$E$4:$E$36,AE11) -> 72 | BE11: =+SUMIFS($AB$4:$AB$36,$E$4:$E$36,AE11) -> 3515
B12: =+B11+1 -> 9 | C12: School No. 20 in Khatirchi district | D12: Ministry of Preschool and School Education | E12: Navoi | F12: Сатторов Руслан | G12: 97-377-71-50 | H12: 44313 | I12: 44425 | J12: «BEKTOSH» МЧЖ | K12: Private entity | L12: Reconstruction | M12: Reconstruction of the 20th school in Khatirchi district, which will increase the level of coverage of students of grades 1-11 at the age of 7-18 and create additional jobs | N12: Rural | O12: 6089.4462 | P12: 720 | Q12: 81 | R12: Renovation of existing building and Construction of additional new building | S12: 2550 | T12: 2780 | U12: 330 | V12: 10 | W12: 3 | X12: 660 | Y12: 688 | Z12: 224 | AA12: 72 | AB12: 3515 | AE12: Republic of Karakalpakistan | AF12: =+SUMIFS($O$4:$O$36,$E$4:$E$36,AE12) -> 19970.334 | AG12: =+AF12/$AF$18 -> 0.080588807 | AH12: =+SUMIFS($O$4:$O$36,$E$4:$E$36,AE12,$N$4:$N$36,$N$4) -> 19970.334 | AI12: =+AH12/AF12 -> 1 | AJ12: =+SUMIFS($O$4:$O$36,$E$4:$E$36,AE12,$N$4:$N$36,$N$9) -> 0 | AK12: =+AJ12/AF12 -> 0 | AL12: =+SUMIFS($O$4:$O$36,$E$4:$E$36,AE12,$L$4:$L$36,$L$11) -> 0 | AM12: =+AL12/AF12 -> 0 | AN12: =+SUMIFS($O$4:$O$36,$E$4:$E$36,AE12,$L$4:$L$36,$L$10) -> 19970.334 | AO12: =+AN12/AF12 -> 1 | AP12: =+SUMIFS($Q$4:$Q$36,$E$4:$E$36,AE12) -> 400 | AQ12: =+AR12+AS12 -> 74 | AR12: =+SUMIFS($V$4:$V$36,$E$4:$E$36,AE12) -> 65 | AS12: =+SUMIFS($W$4:$W$36,$E$4:$E$36,AE12) -> 9 | AT12: =+AP12+AQ12 -> 474 | AU12: =+SUMIFS($P$4:$P$36,$E$4:$E$36,AE12) -> 2045 | AV12: =+SUMIFS($U$4:$U$36,$E$4:$E$36,AE12) -> 920 | AW12: =+SUM(AU12:AV12) -> 2965 | AX12: =+SUMIFS($X$4:$X$36,$E$4:$E$36,AE12)++SUMIFS($Y$4:$Y$36,$E$4:$E$36,AE12) -> 4127 | AY12: =+SUMIFS($X$4:$X$36,$E$4:$E$36,AE12)/AX12 -> 0.54785559 | AZ12: =SUMIFS($Y$4:$Y$36,$E$4:$E$36,AE12)/AX12 -> 0.45214441 | BA12: =+SUMIFS($S$4:$S$36,$E$4:$E$36,AE12) -> 10041.63 | BB12: =+SUMIFS($T$4:$T$36,$E$4:$E$36,AE12) -> 12761.34 | BC12: =+SUMIFS($Z$4:$Z$36,$E$4:$E$36,AE12) -> 788 | BD12: =+SUMIFS($AA$4:$AA$36,$E$4:$E$36,AE12) -> 335 | BE12: =+SUMIFS($AB$4:$AB$36,$E$4:$E$36,AE12) -> 14285
B13: =+B12+1 -> 10 | C13: New secondary school (315 seats) in Shaydo mahalla of Sharikhan district | D13: Ministry of Preschool and School Education | E13: Andijan | F13: Заитжонов Умиджон | G13: 93 4191131 | H13: 44428 | I13: 40877 | J13: Фирдавс замин барака МЧЖ | K13: Private entity | L13: Construction | M13: A new general education school (with 315 seats) will be built in the "Shaydo" neighborhood of Sharikhan district., which will increase the level of coverage of students of grades 1-11 at the age of 7-18 and create additional jobs | N13: Rural | O13: 6505.4644 | P13: 0 | Q13: 0 | R13: Construction of a new building | S13: 0 | T13: 5700 | U13: 315 | V13: 35 | W13: 12 | X13: 325 | Y13: 224 | Z13: 92 | AA13: 15 | AB13: 2137 | AE13: Samarkand | AF13: =+SUMIFS($O$4:$O$36,$E$4:$E$36,AE13) -> 7298.2785 | AG13: =+AF13/$AF$18 -> 0.029451663 | AH13: =+SUMIFS($O$4:$O$36,$E$4:$E$36,AE13,$N$4:$N$36,$N$4) -> 7298.2785 | AI13: =+AH13/AF13 -> 1 | AJ13: =+SUMIFS($O$4:$O$36,$E$4:$E$36,AE13,$N$4:$N$36,$N$9) -> 0 | AK13: =+AJ13/AF13 -> 0 | AL13: =+SUMIFS($O$4:$O$36,$E$4:$E$36,AE13,$L$4:$L$36,$L$11) -> 0 | AM13: =+AL13/AF13 -> 0 | AN13: =+SUMIFS($O$4:$O$36,$E$4:$E$36,AE13,$L$4:$L$36,$L$10) -> 7298.2785 | AO13: =+AN13/AF13 -> 1 | AP13: =+SUMIFS($Q$4:$Q$36,$E$4:$E$36,AE13) -> 120 | AQ13: =+AR13+AS13 -> 24 | AR13: =+SUMIFS($V$4:$V$36,$E$4:$E$36,AE13) -> 22 | AS13: =+SUMIFS($W$4:$W$36,$E$4:$E$36,AE13) -> 2 | AT13: =+AP13+AQ13 -> 144 | AU13: =+SUMIFS($P$4:$P$36,$E$4:$E$36,AE13) -> 960 | AV13: =+SUMIFS($U$4:$U$36,$E$4:$E$36,AE13) -> 360 | AW13: =+SUM(AU13:AV13) -> 1320 | AX13: =+SUMIFS($X$4:$X$36,$E$4:$E$36,AE13)++SUMIFS($Y$4:$Y$36,$E$4:$E$36,AE13) -> 1797 | AY13: =+SUMIFS($X$4:$X$36,$E$4:$E$36,AE13)/AX13 -> 0.50918197 | AZ13: =SUMIFS($Y$4:$Y$36,$E$4:$E$36,AE13)/AX13 -> 0.49081803 | BA13: =+SUMIFS($S$4:$S$36,$E$4:$E$36,AE13) -> 2496.7 | BB13: =+SUMIFS($T$4:$T$36,$E$4:$E$36,AE13) -> 3021.7 | BC13: =+SUMIFS($Z$4:$Z$36,$E$4:$E$36,AE13) -> 211 | BD13: =+SUMIFS($AA$4:$AA$36,$E$4:$E$36,AE13) -> 135 | BE13: =+SUMIFS($AB$4:$AB$36,$E$4:$E$36,AE13) -> 11872
B14: =+B13+1 -> 11 | C14: School No. 3 in Pakhtaabad district | D14: Ministry of Preschool and School Education | E14: Andijan | F14: Мадаминов Навруз | G14: 94 4344742 | H14: 44317 | I14: 40877 | J14: Яхшилик сари МЧЖ | K14: Private entity | L14: Reconstruction | M14: The 3rd school in Pakhtaabad district will be reconstructed, which will increase the level of coverage of students of grades 1-11 at the age of 7-18 and create additional jobs | N14: Urban | O14: 6934.687 | P14: 624 | Q14: 97 | R14: Renovation of existing building and Construction of additional new building | S14: 3612 | T14: 5232 | U14: 420 | V14: 23 | W14: 4 | X14: 860 | Y14: 840 | Z14: 170 | AA14: 70 | AB14: 9100 | AE14: Sirdarya | AF14: =+SUMIFS($O$4:$O$36,$E$4:$E$36,AE14) -> 7085.225 | AG14: =+AF14/$AF$18 -> 0.028591902 | AH14: =+SUMIFS($O$4:$O$36,$E$4:$E$36,AE14,$N$4:$N$36,$N$4) -> 7085.225 | AI14: =+AH14/AF14 -> 1 | AJ14: =+SUMIFS($O$4:$O$36,$E$4:$E$36,AE14,$N$4:$N$36,$N$9) -> 0 | AK14: =+AJ14/AF14 -> 0 | AL14: =+SUMIFS($O$4:$O$36,$E$4:$E$36,AE14,$L$4:$L$36,$L$11) -> 0 | AM14: =+AL14/AF14 -> 0 | AN14: =+SUMIFS($O$4:$O$36,$E$4:$E$36,AE14,$L$4:$L$36,$L$10) -> 7085.225 | AO14: =+AN14/AF14 -> 1 | AP14: =+SUMIFS($Q$4:$Q$36,$E$4:$E$36,AE14) -> 74 | AQ14: =+AR14+AS14 -> 0 | AR14: =+SUMIFS($V$4:$V$36,$E$4:$E$36,AE14) -> 0 | AS14: =+SUMIFS($W$4:$W$36,$E$4:$E$36,AE14) -> 0 | AT14: =+AP14+AQ14 -> 74 | AU14: =+SUMIFS($P$4:$P$36,$E$4:$E$36,AE14) -> 520 | AV14: =+SUMIFS($U$4:$U$36,$E$4:$E$36,AE14) -> 210 | AW14: =+SUM(AU14:AV14) -> 730 | AX14: =+SUMIFS($X$4:$X$36,$E$4:$E$36,AE14)++SUMIFS($Y$4:$Y$36,$E$4:$E$36,AE14) -> 760 | AY14: =+SUMIFS($X$4:$X$36,$E$4:$E$36,AE14)/AX14 -> 0.46578947 | AZ14: =SUMIFS($Y$4:$Y$36,$E$4:$E$36,AE14)/AX14 -> 0.53421053 | BA14: =+SUMIFS($S$4:$S$36,$E$4:$E$36,AE14) -> 2575.76 | BB14: =+SUMIFS($T$4:$T$36,$E$4:$E$36,AE14) -> 5431.24 | BC14: =+SUMIFS($Z$4:$Z$36,$E$4:$E$36,AE14) -> 180 | BD14: =+SUMIFS($AA$4:$AA$36,$E$4:$E$36,AE14) -> 71 | BE14: =+SUMIFS($AB$4:$AB$36,$E$4:$E$36,AE14) -> 4672
B15: =+B14+1 -> 12 | C15: School No. 6 in Shahrihan district | D15: Ministry of Preschool and School Education | E15: Andijan | F15: Тошназаров Одил | G15: 99 4411171 | H15: 44321 | I15: 44521 | J15: Тошсарфаргишт ХК | K15: Private entity | L15: Reconstruction | M15: Reconstruction of the 6th school in Shahrikhan district, which will increase the level of coverage of students of grades 1-11 at the age of 7-18 and create additional jobs | N15: Rural | O15: 6037.6153 | P15: 340 | Q15: 41 | R15: Renovation of existing building and Construction of additional new building | S15: 2052.38 | T15: 3339.38 | U15: 420 | V15: 20 | W15: 4 | X15: 782 | Y15: 447 | Z15: 235 | AA15: 60 | AB15: 8750 | AE15: Surkhandarya | AF15: =+SUMIFS($O$4:$O$36,$E$4:$E$36,AE15) -> 0 | AG15: =+AF15/$AF$18 -> 0 | AH15: =+SUMIFS($O$4:$O$36,$E$4:$E$36,AE15,$N$4:$N$36,$N$4) -> 0 | AI15: 0 | AJ15: =+SUMIFS($O$4:$O$36,$E$4:$E$36,AE15,$N$4:$N$36,$N$9) -> 0 | AK15: 0 | AL15: =+SUMIFS($O$4:$O$36,$E$4:$E$36,AE15,$L$4:$L$36,$L$11) -> 0 | AM15: 0 | AN15: =+SUMIFS($O$4:$O$36,$E$4:$E$36,AE15,$L$4:$L$36,$L$10) -> 0 | AO15: 0 | AP15: =+SUMIFS($Q$4:$Q$36,$E$4:$E$36,AE15) -> 0 | AQ15: =+AR15+AS15 -> 0 | AR15: =+SUMIFS($V$4:$V$36,$E$4:$E$36,AE15) -> 0 | AS15: =+SUMIFS($W$4:$W$36,$E$4:$E$36,AE15) -> 0 | AT15: =+AP15+AQ15 -> 0 | AU15: =+SUMIFS($P$4:$P$36,$E$4:$E$36,AE15) -> 0 | AV15: =+SUMIFS($U$4:$U$36,$E$4:$E$36,AE15) -> 0 | AW15: =+SUM(AU15:AV15) -> 0 | AX15: =+SUMIFS($X$4:$X$36,$E$4:$E$36,AE15)++SUMIFS($Y$4:$Y$36,$E$4:$E$36,AE15) -> 0 | AY15: 0 | AZ15: 0 | BA15: =+SUMIFS($S$4:$S$36,$E$4:$E$36,AE15) -> 0 | BB15: =+SUMIFS($T$4:$T$36,$E$4:$E$36,AE15) -> 0 | BC15: =+SUMIFS($Z$4:$Z$36,$E$4:$E$36,AE15) -> 0 | BD15: =+SUMIFS($AA$4:$AA$36,$E$4:$E$36,AE15) -> 0 | BE15: =+SUMIFS($AB$4:$AB$36,$E$4:$E$36,AE15) -> 0
B16: =+B15+1 -> 13 | C16: Secondary school No. 3 in Shahrihan district | D16: Ministry of Preschool and School Education | E16: Andijan | F16: Буронбоев Жахонгир | G16: 94 1009182 | H16: 44428 | I16: 44530 | J16: Янги замон курувчиси МЧЖ | K16: Private entity | L16: Reconstruction | M16: Reconstruction of secondary school No. 3 in Shahrikhan district with new building for 640 seats, which will increase the level of coverage of students of grades 1-11 at the age of 7-18 and create additional jobs | N16: Urban | O16: 8965.6333 | P16: 970 | Q16: 94 | R16: Renovation of existing building and Construction of additional new building | S16: 7381.7 | T16: 10300 | U16: 640 | V16: 34 | W16: 7 | X16: 804 | Y16: 690 | Z16: 322 | AA16: 18 | AB16: 12885 | AE16: Tashkent city | AF16: =+SUMIFS($O$4:$O$36,$E$4:$E$36,AE16) -> 21586.25 | AG16: =+AF16/$AF$18 -> 0.087109718 | AH16: =+SUMIFS($O$4:$O$36,$E$4:$E$36,AE16,$N$4:$N$36,$N$4) -> 0 | AI16: =+AH16/AF16 -> 0 | AJ16: =+SUMIFS($O$4:$O$36,$E$4:$E$36,AE16,$N$4:$N$36,$N$9) -> 21586.25 | AK16: =+AJ16/AF16 -> 1 | AL16: =+SUMIFS($O$4:$O$36,$E$4:$E$36,AE16,$L$4:$L$36,$L$11) -> 0 | AM16: =+AL16/AF16 -> 0 | AN16: =+SUMIFS($O$4:$O$36,$E$4:$E$36,AE16,$L$4:$L$36,$L$10) -> 21586.25 | AO16: =+AN16/AF16 -> 1 | AP16: =+SUMIFS($Q$4:$Q$36,$E$4:$E$36,AE16) -> 291 | AQ16: =+AR16+AS16 -> 90 | AR16: =+SUMIFS($V$4:$V$36,$E$4:$E$36,AE16) -> 74 | AS16: =+SUMIFS($W$4:$W$36,$E$4:$E$36,AE16) -> 16 | AT16: =+AP16+AQ16 -> 381 | AU16: =+SUMIFS($P$4:$P$36,$E$4:$E$36,AE16) -> 2120 | AV16: =+SUMIFS($U$4:$U$36,$E$4:$E$36,AE16) -> 1504 | AW16: =+SUM(AU16:AV16) -> 3624 | AX16: =+SUMIFS($X$4:$X$36,$E$4:$E$36,AE16)++SUMIFS($Y$4:$Y$36,$E$4:$E$36,AE16) -> 5168 | AY16: =+SUMIFS($X$4:$X$36,$E$4:$E$36,AE16)/AX16 -> 0.54315015 | AZ16: =SUMIFS($Y$4:$Y$36,$E$4:$E$36,AE16)/AX16 -> 0.45684985 | BA16: =+SUMIFS($S$4:$S$36,$E$4:$E$36,AE16) -> 12954 | BB16: =+SUMIFS($T$4:$T$36,$E$4:$E$36,AE16) -> 25015 | BC16: =+SUMIFS($Z$4:$Z$36,$E$4:$E$36,AE16) -> 590 | BD16: =+SUMIFS($AA$4:$AA$36,$E$4:$E$36,AE16) -> 280 | BE16: =+SUMIFS($AB$4:$AB$36,$E$4:$E$36,AE16) -> 20175
B17: =+B16+1 -> 14 | C17: School No. 53 in Kungrad district | D17: Ministry of Preschool and School Education | E17: Republic of Karakalpakistan | F17: Балтабаев Дамир | G17: +99897-500-99-88 | H17: 44317 | I17: 44484 | J17: ООО "MEKTEP QURILIS SERVIS" | K17: Private entity | L17: Reconstruction | M17: Reconstruction of the 53rd school in Kunirot district, which will increase the level of coverage of students of grades 1-11 at the age of 7-18 and create additional jobs | N17: Rural | O17: 6165.025 | P17: 865 | Q17: 114 | R17: Renovation of existing building and Construction of additional new building | S17: 2140 | T17: 2725.34 | U17: 360 | V17: 14 | W17: 2 | X17: 840 | Y17: 769 | Z17: 318 | AA17: 147 | AB17: 2475 | AE17: Tashkent region | AF17: =+SUMIFS($O$4:$O$36,$E$4:$E$36,AE17) -> 45768.043 | AG17: =+AF17/$AF$18 -> 0.18469355 | AH17: =+SUMIFS($O$4:$O$36,$E$4:$E$36,AE17,$N$4:$N$36,$N$4) -> 37467.071 | AI17: =+AH17/AF17 -> 0.81862952 | AJ17: =+SUMIFS($O$4:$O$36,$E$4:$E$36,AE17,$N$4:$N$36,$N$9) -> 8300.972 | AK17: =+AJ17/AF17 -> 0.18137048 | AL17: =+SUMIFS($O$4:$O$36,$E$4:$E$36,AE17,$L$4:$L$36,$L$11) -> 0 | AM17: =+AL17/AF17 -> 0 | AN17: =+SUMIFS($O$4:$O$36,$E$4:$E$36,AE17,$L$4:$L$36,$L$10) -> 45768.043 | AO17: =+AN17/AF17 -> 1 | AP17: =+SUMIFS($Q$4:$Q$36,$E$4:$E$36,AE17) -> 310 | AQ17: =+AR17+AS17 -> 69 | AR17: =+SUMIFS($V$4:$V$36,$E$4:$E$36,AE17) -> 52 | AS17: =+SUMIFS($W$4:$W$36,$E$4:$E$36,AE17) -> 17 | AT17: =+AP17+AQ17 -> 379 | AU17: =+SUMIFS($P$4:$P$36,$E$4:$E$36,AE17) -> 3096 | AV17: =+SUMIFS($U$4:$U$36,$E$4:$E$36,AE17) -> 1282 | AW17: =+SUM(AU17:AV17) -> 4378 | AX17: =+SUMIFS($X$4:$X$36,$E$4:$E$36,AE17)++SUMIFS($Y$4:$Y$36,$E$4:$E$36,AE17) -> 3760 | AY17: =+SUMIFS($X$4:$X$36,$E$4:$E$36,AE17)/AX17 -> 0.50904255 | AZ17: =SUMIFS($Y$4:$Y$36,$E$4:$E$36,AE17)/AX17 -> 0.49095745 | BA17: =+SUMIFS($S$4:$S$36,$E$4:$E$36,AE17) -> 13393.59 | BB17: =+SUMIFS($T$4:$T$36,$E$4:$E$36,AE17) -> 17376.65 | BC17: =+SUMIFS($Z$4:$Z$36,$E$4:$E$36,AE17) -> 554 | BD17: =+SUMIFS($AA$4:$AA$36,$E$4:$E$36,AE17) -> 245 | BE17: =+SUMIFS($AB$4:$AB$36,$E$4:$E$36,AE17) -> 18230
B18: =+B17+1 -> 15 | C18: School No. 38 in Chimbay district | D18: Ministry of Preschool and School Education | E18: Republic of Karakalpakistan | F18: Балтабаев Дамир | G18: +99897-500-99-88 | H18: 44328 | I18: 44676 | J18: "АМУ ДАРЬЯ" МЧЖ | K18: Private entity | L18: Reconstruction | M18: Reconstruction of school 38 in Chimboy district, which will increase the level of coverage of students of grades 1-11 at the age of 7-18 and create additional jobs | N18: Rural | O18: 7649.27 | P18: 940 | Q18: 220 | R18: Renovation of existing building and Construction of additional new building | S18: 6431.63 | T18: 8566 | U18: 420 | V18: 37 | W18: 5 | X18: 1188 | Y18: 970 | Z18: 427 | AA18: 148 | AB18: 5832 | AF18: =+SUM(AF4:AF17) -> 247805.31 | AH18: =+SUM(AH4:AH17) -> 160621.47 | AJ18: =+SUM(AJ4:AJ17) -> 87183.841 | AL18: =+SUM(AL4:AL17) -> 28776.433 | AN18: =+SUM(AN4:AN17) -> 219028.87 | AP18: =+SUM(AP4:AP17) -> 2404 | AQ18: =+SUM(AQ4:AQ17) -> 784 | AR18: =+SUM(AR4:AR17) -> 626 | AS18: =+SUM(AS4:AS17) -> 158 | AT18: =+SUM(AT4:AT17) -> 3188 | AU18: =+SUM(AU4:AU17) -> 18051 | AV18: =+SUM(AV4:AV17) -> 11929 | AW18: =+SUM(AW4:AW17) -> 29980 | AX18: =+SUM(AX4:AX17) -> 36407 | BA18: =+SUM(BA4:BA17) -> 82604.15 | BB18: =+SUM(BB4:BB17) -> 148419.45 | BC18: =+SUM(BC4:BC17) -> 5476 | BD18: =+SUM(BD4:BD17) -> 2040 | BE18: =+SUM(BE4:BE17) -> 160193
B19: =+B18+1 -> 16 | C19: School No. 13 in Ellikkala district | D19: Ministry of Preschool and School Education | E19: Republic of Karakalpakistan | F19: Балтабаев Дамир | G19: +99897-500-99-88 | H19: 44306 | I19: 44469 | J19: OOO "TUPROQQALA MAXSUS QURILISH" | K19: Private entity | L19: Reconstruction | M19: Reconstruction of the 13th school in Ellikkala district, which will increase the level of coverage of students of grades 1-11 at the age of 7-18 and create additional jobs. In addition, students accomodation for 240 beds will be constructed | N19: Rural | O19: 6156.039 | P19: 240 | Q19: 66 | R19: Renovation of an existing building | S19: 1470 | T19: 1470 | U19: 140 | V19: 14 | W19: 2 | X19: 233 | Y19: 127 | Z19: 43 | AA19: 40 | AB19: 5978 | AF19: =+AF18=O37 -> TRUE | AP19: =+AP18=Q37 -> TRUE | AR19: =+AR18=V37 -> TRUE | AS19: =+AS18=W37 -> TRUE | AT19: =+AP18+AQ18=AT18 -> TRUE | AU19: =+AU18=P37 -> TRUE | AV19: =+AV18=U37 -> TRUE | AX19: =+AX18=X37+Y37 -> TRUE | BA19: =+BA18=S37 -> TRUE | BB19: =+BB18=T37 -> TRUE | BC19: =+BC18=Z37 -> TRUE | BD19: =+BD18=AA37 -> TRUE | BE19: =+BE18=AB37 -> TRUE
B20: =+B19+1 -> 17 | C20: School No. 2 in Nurabad district | D20: Ministry of Preschool and School Education | E20: Samarkand | F20: Наханов Элбек Йулдошевич | G20: +998944723060 | H20: 44317 | I20: 44442 | J20: “Толиб бобо АКТ” МЧЖ | K20: Private entity | L20: Reconstruction | M20: Reconstruction of the 2nd school in Nurabad district, which will increase the level of coverage of students of grades 1-11 at the age of 7-18 and create additional jobs | N20: Rural | O20: 7298.2785 | P20: 960 | Q20: 120 | R20: Renovation of existing building and Construction of additional new building | S20: 2496.7 | T20: 3021.7 | U20: 360 | V20: 22 | W20: 2 | X20: 915 | Y20: 882 | Z20: 211 | AA20: 135 | AB20: 11872
B21: =+B20+1 -> 18 | C21: School 73 in Gallaorol district | D21: Ministry of Preschool and School Education | E21: Jizzakh | F21: Тиллаев Ахрорхон Акбарович | G21: 99-132-04-56 | H21: 28.04.2021 | I21: 25.08.2021 | J21: "Мукаммал қурилиш савдо" МЧЖ | K21: Private entity | L21: Reconstruction | M21: Reconstruction of school 73 in Gallaorol district, which will increase the level of coverage of students of grades 1-11 at the age of 7-18 and create additional jobs | N21: Rural | O21: 7659.6152 | P21: 700 | Q21: 72 | R21: Renovation of an existing building | S21: 1700 | T21: 1700 | U21: 0 | V21: - | W21: 1 | X21: 369 | Y21: 331 | Z21: 65 | AA21: 30 | AB21: 4811
B22: =+B21+1 -> 19 | C22: School No. 8 in Uchkurgan district | D22: Ministry of Preschool and School Education | E22: Namangan | F22: Каримов Бахтиёр | G22: +998882550024 | H22: 44310 | I22: 44545 | J22: Келажак замон сардори | K22: Private entity | L22: Reconstruction | M22: Reconstruction of the 8th school in Uchkurgan district, which will increase the level of coverage of students of grades 1-11 at the age of 7-18 and create additional jobs | N22: Rural | O22: 8290.7126 | P22: 779 | Q22: 93 | R22: Renovation of existing building and Construction of additional new building | S22: 5911 | T22: 6478 | U22: 360 | V22: 5 | W22: 2 | X22: 789 | Y22: 767 | Z22: 143 | AA22: 72 | AB22: 2814
B23: =+B22+1 -> 20 | C23: School No. 22 in Chartak district | D23: Ministry of Preschool and School Education | E23: Namangan | F23: ЖЎРАБАЕВ БОБУРЖОН МИРЗАЕВИЧ | G23: 934030644 | H23: 44296 | I23: 44428 | J23: BUNYODKOR BUNYOD SERVIS MCHJ | K23: Private entity | L23: Reconstruction | M23: Reconstruction of school 22 in Chortoq district with new building for 270 seats, which will increase the level of coverage of students of grades 1-11 at the age of 7-18 and create additional jobs | N23: Rural | O23: 6171.4916 | P23: 470 | Q23: 77 | R23: Renovation of existing building and Construction of additional new building | S23: 1404 | T23: 2270 | U23: 270 | V23: 3 | W23: 2 | X23: 500 | Y23: 342 | Z23: 52 | AA23: 9 | AB23: 2300
B24: =+B23+1 -> 21 | C24: School No. 29 in Namangan city | D24: Ministry of Preschool and School Education | E24: Namangan | F24: Мадаминов Бекмурод | G24: +998939013080 | H24: 44302 | I24: 44524 | J24: "Наманган Давр қурилиш" МЧЖ | K24: Private entity | L24: Reconstruction | M24: Reconstruction of the 29th school in the city of Namangan with new building for 330 seats, which will increase the level of coverage of students of grades 1-11 at the age of 7-18 and create additional jobs | N24: Urban | O24: 7553.2957 | P24: 985 | Q24: 125 | R24: Renovation of existing building and Construction of additional new building | S24: 3158 | T24: 4200 | U24: 330 | V24: 12 | W24: 4 | X24: 981 | Y24: 1046 | Z24: 370 | AA24: 48 | AB24: 6628
B25: =+B24+1 -> 22 | C25: New school in "Istiqbol" neighbourhood in Namangan city | D25: Ministry of Preschool and School Education | E25: Namangan | F25: А.Холиков | G25: +998999741047 | H25: 44389 | I25: 44614 | J25: "Мехнат нури" Хусусий қорхонаси | K25: Private entity | L25: Construction | M25: Construction of a new school for "Istiqbol" MFY in the city of Namangan, which will increase the level of coverage of students of grades 1-11 at the age of 7-18 and create additional jobs | N25: Urban | O25: 16204.842 | P25: 0 | Q25: 0 | R25: Construction of a new building | S25: 0 | T25: 9900 | U25: 660 | V25: 48 | W25: 13 | X25: 520 | Y25: 353 | Z25: 18 | AA25: 0 | AB25: 4122
B26: =+B25+1 -> 23 | C26: School No. 39 in Baghdad district | D26: Ministry of Preschool and School Education | E26: Fergana | F26: Қўзиева Гулнорахон Алижоновна | G26: 94-039-16-46 | H26: 43788 | I26: 44561 | J26: "SADDINSO-XABIBULLO" ХК | K26: Private entity | L26: Reconstruction | M26: Reconstruction of school No. 39 in Baghdad district, which will increase the level of coverage of students of grades 1-11 at the age of 7-18 and create additional jobs | N26: Rural | O26: 6489.7231 | P26: 620 | Q26: 64 | R26: Renovation of existing building and Construction of additional new building | S26: 2145 | T26: 3257 | U26: 360 | V26: 24 | W26: 5 | X26: 531 | Y26: 612 | Z26: 210 | AA26: 85 | AB26: 4581
B27: =+B26+1 -> 24 | C27: School No. 19 in Baghdad district | D27: Ministry of Preschool and School Education | E27: Fergana | F27: Тожибоева Набирахон Абдуллаевна | G27: 91-201-66-24 | H27: 44197 | I27: 44561 | J27: "Файз Бинокор Олтиарик" ХКМК | K27: Private entity | L27: Reconstruction | M27: Reconstruction of school No. 19 in Baghdad district, which will increase the level of coverage of students of grades 1-11 at the age of 7-18 and create additional jobs | N27: Rural | O27: 6754.1989 | P27: 360 | Q27: 64 | R27: Renovation of existing building and Construction of additional new building | S27: 1092 | T27: 2246 | U27: 330 | V27: 21 | W27: 3 | X27: 441 | Y27: 430 | Z27: 213 | AA27: 50 | AB27: 3708
B28: =+B27+1 -> 25 | C28: School No. 23 in Furqat district | D28: Ministry of Preschool and School Education | E28: Fergana | F28: Турсунов Фаррухбек Абдулазизович | G28: 91-687-33-17 | H28: 44197 | I28: 44561 | J28: "FAR JASMIN DISKO SERVIS" ХК | K28: Private entity | L28: Reconstruction | M28: Reconstruction of school No. 23 in Furqat district, which will increase the level of coverage of students of grades 1-11 at the age of 7-18 and create additional jobs | N28: Rural | O28: 6070.588 | P28: 250 | Q28: 35 | R28: Renovation of existing building and Construction of additional new building | S28: 1709.79 | T28: 2109.52 | U28: 330 | V28: 6 | W28: 5 | X28: 225 | Y28: 229 | Z28: 66 | AA28: 17 | AB28: 3450
B29: =+B28+1 -> 26 | C29: School No. 56 in Baghdad district | D29: Ministry of Preschool and School Education | E29: Fergana | F29: Насирдинова Муаттархон Рахимбердиевна | G29: 91-693-44-34 | H29: 44197 | I29: 44561 | J29: "Водий Юксак Омад таъмир" МЧЖ | K29: Private entity | L29: Reconstruction | M29: Reconstruction of school No. 56 in Baghdad district, which will increase the level of coverage of students of grades 1-11 at the age of 7-18 and create additional jobs | N29: Rural | O29: 9016.6815 | P29: 120 | Q29: 27 | R29: Renovation of existing building and Construction of additional new building | S29: 540 | T29: 2953 | U29: 420 | V29: 20 | W29: 5 | X29: 235 | Y29: 267 | Z29: 27 | AA29: 6 | AB29: 2699
B30: =+B29+1 -> 27 | C30: School No. 4 in Koshkopir district | D30: Ministry of Preschool and School Education | E30: Kharezm | F30: Юлдашев Шодлик Хаитбаевич | G30: +998997559935 | H30: 43788 | I30: 44561 | J30: "Янги кушупир" мчж | K30: Private entity | L30: Reconstruction | M30: Reconstruction of the 4th school in Koshkopir district, which will increase the level of coverage of students of grades 1-11 at the age of 7-18 and create additional jobs | N30: Rural | O30: 6281.2393 | P30: 624 | Q30: 85 | R30: Construction of a new building | S30: 2482.67 | T30: 5065.39 | U30: 6 | V30: 5 | W30: 0 | X30: 438 | Y30: 412 | Z30: 141 | AA30: 54 | AB30: 4198
B31: =+B30+1 -> 28 | C31: School No. 47 in Urgench district | D31: Ministry of Preschool and School Education | E31: Kharezm | F31: Усмонов Қодирали Шералиевич | G31: +998974568573 | H31: 43788 | I31: 44561 | J31: "Хоразм Инвест Холдинг" МЧЖ | K31: Private entity | L31: Reconstruction | M31: Reconstruction of school 47 in Urganch district, which will increase the level of coverage of students of grades 1-11 at the age of 7-18 and create additional jobs | N31: Rural | O31: 6278.591 | P31: 624 | Q31: 101 | R31: Renovation of an existing building | S31: 2892.93 | T31: 2892.93 | U31: 336 | V31: 0 | W31: 1 | X31: 624 | Y31: 594 | Z31: 341 | AA31: 88 | AB31: 4348
B32: =+B31+1 -> 29 | C32: School No. 14 in Khazarasp district | D32: Ministry of Preschool and School Education | E32: Kharezm | F32: Худайберганов Азамат Оллаберганович | G32: +998937085585 | H32: 44197 | I32: 44561 | J32: Ботир Техник МЧЖ | K32: Private entity | L32: Reconstruction | M32: Reconstruction of the 14th school in Khazorasp district with new building for 480 seats, which will increase the level of coverage of students of grades 1-11 at the age of 7-18 and create additional jobs | N32: Rural | O32: 7155.19 | P32: 524 | Q32: 103 | R32: Renovation of existing building and Construction of additional new building | S32: 1300 | T32: 2750 | U32: 480 | V32: 1 | W32: 2 | X32: 529 | Y32: 478 | Z32: 193 | AA32: 70 | AB32: 2413
B33: =+B32+1 -> 30 | C33: School No. 2 in Boyovut district | D33: Ministry of Preschool and School Education | E33: Sirdarya | F33: Шермаматов Рустам | G33: +99891-501-41-11 | H33: 44197 | I33: 44440 | J33: "Гулистон Мадад Қурилиш" МЧЖ | K33: Private entity | L33: Reconstruction | M33: Reconstruction of the 2nd school in Boyovut district, which will increase the level of coverage of students of grades 1-11 at the age of 7-18 and create additional jobs | N33: Rural | O33: 7085.225 | P33: 520 | Q33: 74 | R33: Renovation of existing building and Construction of additional new building | S33: 2575.76 | T33: 5431.24 | U33: 210 | V33: 0 | W33: 0 | X33: 354 | Y33: 406 | Z33: 180 | AA33: 71 | AB33: 4672
B34: =+B33+1 -> 31 | C34: School 203 in Uchtepa district | D34: Ministry of Preschool and School Education | E34: Tashkent city | F34: Салабаев Уткиржон расулжонович | G34: 90-906 90 27 | H34: 43976 | I34: 44440 | J34: Градус Билдинг | K34: Private entity | L34: Reconstruction | M34: Reconstruction of school 203 in Uchtepa district with new building for 420 seats, which will increase the level of coverage of students of grades 1-11 at the age of 7-18 and create additional jobs | N34: Urban | O34: 8822.7938 | P34: 840 | Q34: 110 | R34: Renovation of existing building and Construction of additional new building | S34: 1950 | T34: 4950 | U34: 424 | V34: 20 | W34: 4 | X34: 845 | Y34: 587 | Z34: 383 | AA34: 190 | AB34: 2689
