Workbook

Sheet Total
V2: Impact metrics by SDGs
B4: Catergory of Sustainable Expenditure | C4: Allocation of Proceeds | D4: % | E4: Urban | F4: % | G4: Rural | H4: % | I4: Primary SDG | J4: Secondary SDG | L4: SDG | M4: Amount in UZS'm | N4: % | O4: Urban | P4: % | Q4: Rural | R4: % | V4: SDG 4. Quality Education | W4: Number of jobs before | X4: New staff, including: | Y4: Teachers employed | Z4: Non-teaching staff employed | AA4: TOTAL JOBS | AB4: Renovated seats | AC4: New seats | AD4: NEW CAPACITY | AE4: Current number of students | AF4: Boys | AG4: Girls | AH4: Area before (m2) | AI4: Area after (m2) | AJ4: Students graduated | AK4: People benefiting from the projects | AL4: School graduates enrolled at higher education (excluding 2024 results) / Kids progressed to primary education
B5: Construction and reconstruction of hospitals | C5: =+Hospitals!Q40 -> 343893.12 | D5: =+C5/$C$12 -> 0.13755722 | E5: =+SUMIFS(Hospitals!Q:Q,Hospitals!P:P,Hospitals!P4) -> 165940.64 | F5: =+E5/(G5+E5) -> 0.4825355 | G5: =+SUMIFS(Hospitals!Q:Q,Hospitals!P:P,Hospitals!P5) -> 177952.48 | H5: =+G5/(G5+E5) -> 0.5174645 | I5: 3. Good Health and Well-being | J5: 5. Gender Equality | L5: 3. Good Health and Well-being | M5: =+SUM(C5:C6) -> 541374.12 | N5: =+M5/$M$10 -> 0.2165496 | O5: =+SUMIFS(Hospitals!Q:Q,Hospitals!P:P,Hospitals!P4)+197481/2 -> 264681.14 | P5: =+O5/(Q5+O5) -> 0.48890615 | Q5: =+SUMIFS(Hospitals!Q:Q,Hospitals!P:P,Hospitals!P5)+197481/2 -> 276692.98 | R5: =+Q5/(Q5+O5) -> 0.51109385 | S5: Information on coverage of vaccination programme was not available with urban/rural allocation, thus we divided the allocated amount equally into urban and rural (50-50) | V5: Schools | W5: =+Schools!AP18 -> 2404 | X5: =+Schools!AQ18 -> 784 | Y5: =+Schools!AR18 -> 626 | Z5: =+Schools!AS18 -> 158 | AA5: =+Schools!AT18 -> 3188 | AB5: =+Schools!AU18 -> 18051 | AC5: =+Schools!AV18 -> 11929 | AD5: =+Schools!AW18 -> 29980 | AE5: =+Schools!AX18 -> 36407 | AF5: =+Schools!X37 -> 18923 | AG5: =+Schools!Y37 -> 17484 | AH5: =+Schools!BA18 -> 82604.15 | AI5: =+Schools!BB18 -> 148419.45 | AJ5: =+Schools!BC18 -> 5476 | AK5: =+Schools!BE18 -> 160193 | AL5: =+Schools!BD18 -> 2040
B6: Children's vaccination programme | C6: 197481 | D6: =+C6/$C$12 -> 0.078992383 | E6: =+C6/2 -> 98740.5 | F6: =+E6/(G6+E6) -> 0.5 | G6: =+C6/2 -> 98740.5 | H6: =+G6/(G6+E6) -> 0.5 | L6: 4. Quality Education | M6: =+SUM(C7:C8) -> 438874.56 | N6: =+M6/$M$10 -> 0.17554978 | O6: =+SUMIFS(Kindergartens!O:O,Kindergartens!N:N,Kindergartens!N4)+SUMIFS(Schools!O:O,Schools!N:N,Schools!N10) -> 165335.92 | P6: =+O6/(Q6+O6) -> 0.37672707 | Q6: =+SUMIFS(Kindergartens!O:O,Kindergartens!N:N,Kindergartens!N8)+SUMIFS(Schools!O:O,Schools!N:N,Schools!N8) -> 273538.63 | R6: =+Q6/(Q6+O6) -> 0.62327293 | V6: Kindergartens | W6: =+Kindergartens!AO18 -> 880.34 | X6: =+Kindergartens!AP18 -> 812 | Y6: =+Kindergartens!AQ18 -> 484 | Z6: =+Kindergartens!AR18 -> 328 | AA6: =+Kindergartens!AS18 -> 1692.34 | AB6: =+Kindergartens!AT18 -> 4204 | AC6: =+Kindergartens!AU18 -> 4240 | AD6: =+Kindergartens!AV18 -> 8444 | AE6: =+Kindergartens!AW18 -> 7625.29 | AF6: =+Kindergartens!X39 -> 4154.2 | AG6: =+Kindergartens!Y39 -> 3471.09 | AH6: =+Kindergartens!AZ18 -> 32801.43 | AI6: =+Kindergartens!BA18 -> 75279.79 | AJ6: =+Kindergartens!BB18 -> 4035 | AK6: =+Kindergartens!BC18 -> 133634 | AL6: =+Kindergartens!AA39 -> 4035
B7: Construction and reconstruction of schools | C7: =+Schools!O37 -> 247805.31 | D7: =+C7/$C$12 -> 0.099122101 | E7: =+SUMIFS(Schools!O:O,Schools!N:N,Schools!N10) -> 87183.841 | F7: =+E7/(G7+E7) -> 0.35182395 | G7: =+SUMIFS(Schools!O:O,Schools!N:N,Schools!N8) -> 160621.47 | H7: =+G7/(G7+E7) -> 0.64817605 | I7: 4. Quality Education | J7: 8. Decent Work and Economic Growth 9. Industry, Innovation and Infrastructure 5. Gender Equality | L7: 6. Clean Water and Sanitation | M7: =+C9 -> 130562.89 | N7: =+M7/$M$10 -> 0.052225145 | O7: =SUMIFS('Drinking water'!O:O,'Drinking water'!N:N,'Drinking water'!N4) -> 48370.676 | P7: =+O7/(Q7+O7) -> 0.42715984 | Q7: =SUMIFS('Drinking water'!O:O,'Drinking water'!N:N,'Drinking water'!N6) -> 64867.209 | R7: =+Q7/(Q7+O7) -> 0.57284016 | V7: Total by SDG 4 | W7: =+SUM(W5:W6) -> 3284.34 | X7: =+SUM(X5:X6) -> 1596 | Y7: =+SUM(Y5:Y6) -> 1110 | Z7: =+SUM(Z5:Z6) -> 486 | AA7: =+SUM(AA5:AA6) -> 4880.34 | AB7: =+SUM(AB5:AB6) -> 22255 | AC7: =+SUM(AC5:AC6) -> 16169 | AD7: =+SUM(AD5:AD6) -> 38424 | ... AL7: =+SUM(AL5:AL6) -> 6075
B8: Construction and reconstruction of kindergartens | C8: =+Kindergartens!O39 -> 191069.25 | D8: =+C8/$C$12 -> 0.076427684 | E8: =+SUMIFS(Kindergartens!O:O,Kindergartens!N:N,Kindergartens!N4) -> 78152.083 | F8: =+E8/(G8+E8) -> 0.40902491 | G8: =+SUMIFS(Kindergartens!O:O,Kindergartens!N:N,Kindergartens!N8) -> 112917.17 | H8: =+G8/(G8+E8) -> 0.59097509 | L8: 2. Zero Hunger | M8: =+C10 -> 39406.65 | N8: =+M8/$M$10 -> 0.015762657 | O8: =+SUMIFS(Irrigation!O:O,Irrigation!N:N,Irrigation!N13) -> 10424.858 | P8: =+O8/(Q8+O8) -> 0.26454565 | Q8: =+SUMIFS(Irrigation!O:O,Irrigation!N:N,Irrigation!N12) -> 28981.792 | R8: =+Q8/(Q8+O8) -> 0.73545435 | V8: SDG 3. Good Health and Well-being | W8: Number of jobs before | X8: New staff, including: | Y8: Medical staff employed | Z8: Technical staff employed | AA8: TOTAL JOBS | AB8: Renovated fixed beds | AC8: Renovated ambulatory beds | AD8: New fixed beds created | AE8: New ambulatory beds created | AF8: Total fixed beds | AG8: Total ambulatory beds | AH8: Area before (m2) | AI8: Area after (m2) | AJ8: Number of patients treated | AK8: People benefited from the projects
B9: Construction and reconstruction of drinking water facilities and sewage systems | C9: =+'Drinking water'!O28 -> 130562.89 | D9: =+C9/$C$12 -> 0.052225145 | E9: =SUMIFS('Drinking water'!O:O,'Drinking water'!N:N,'Drinking water'!N4) -> 48370.676 | F9: =+E9/(G9+E9) -> 0.42715984 | G9: =SUMIFS('Drinking water'!O:O,'Drinking water'!N:N,'Drinking water'!N6) -> 64867.209 | H9: =+G9/(G9+E9) -> 0.57284016 | I9: 6. Clean Water and Sanitation | J9: 11. Sustainable Cities and Communities 3.Good Health and Well-being | L9: 9. Industry, Innovation and Infrastructure | M9: =+C11 -> 1349782.3 | N9: =+M9/$M$10 -> 0.53991281 | O9: =+M9 -> 1349782.3 | P9: =+O9/(Q9+O9) -> 1 | Q9: 0 | R9: =+Q9/(Q9+O9) -> 0 | V9: Hospitals | W9: =+Hospitals!AQ18 -> 3046.5 | X9: =+Hospitals!AR18 -> 1965.25 | Y9: =+Hospitals!AS18 -> 1665 | Z9: =+Hospitals!AT18 -> 300.25 | AA9: =+Hospitals!AU18 -> 5011.75 | AB9: =+Hospitals!AV18 -> 3028 | AC9: =+Hospitals!AW18 -> 260 | AD9: =+Hospitals!AX18 -> 1207 | ... AK9: =+Hospitals!BE18 -> 14972453
B10: Reconstruction of irrigation systems | C10: =+Irrigation!O17 -> 39406.65 | D10: =+C10/$C$12 -> 0.015762657 | E10: =+SUMIFS(Irrigation!O:O,Irrigation!N:N,Irrigation!N13) -> 10424.858 | F10: =+E10/(G10+E10) -> 0.26454565 | G10: =+SUMIFS(Irrigation!O:O,Irrigation!N:N,Irrigation!N12) -> 28981.792 | H10: =+G10/(G10+E10) -> 0.73545435 | I10: 2. Zero Hunger | J10: 13. Climate Action 15. Life on Land | M10: =SUM(M5:M9) -> 2500000.5 | N10: =SUM(N5:N9) -> 1 | O10: =+SUM(O5:O9) -> 1838594.9 | Q10: =+SUM(Q5:Q9) -> 644080.62 | V10: SDG 6. Clean Water and Sanitation | W10: Volume of clean drinking water supplied to the population since the project started till June 1, 2024 (m.cub) | X10: Volume of treated wastewater since the project started till June 1, 2024 (m.cub) | Y10: Length of drinking water pipelines constructed | Z10: Length of waste water pipelines (sewage) constructed | AA10: Number of NEW people covered by construction | AB10: Length of drinking water pipelines reconstructed | AC10: Length of waste water pipelines (sewage) reconstructed | AD10: Number of people covered by reconstruction (with improved facilities)
B11: Construction of overground and underground metro in the capital city | C11: =+Transport!K8 -> 1349782.3 | D11: =+C11/$C$12 -> 0.53991281 | E11: =+C11 -> 1349782.3 | F11: =+E11/(G11+E11) -> 1 | G11: 0 | H11: =+G11/(G11+E11) -> 0 | I11: 9. Industry, Innovation and Infrastructure | J11: 11. Sustainable Cities and Communities 13. Climate Action | N11: Urban | O11: Rural | V11: Drinking water and sewage facilities | W11: =+'Drinking water'!AF18 -> 25824260 | X11: =+'Drinking water'!AG18 -> 5633360 | Y11: =+'Drinking water'!AK18 -> 167.191 | Z11: =+'Drinking water'!AL18 -> 19 | AA11: =+'Drinking water'!AM18 -> 139193 | AB11: =+'Drinking water'!AR18 -> 20.598 | AC11: =+'Drinking water'!AS18 -> 17.28 | AD11: =+'Drinking water'!AT18 -> 33100
C12: =+SUM(C5:C11) -> 2500000.5 | D12: 1 | E12: =+SUM(E5:E11) -> 1838594.9 | G12: =+SUM(G5:G11) -> 644080.62 | M12: SDG 2 | N12: =+P8 -> 0.26454565 | O12: =+R8 -> 0.73545435 | V12: SDG 2. Zero Hunger | W12: Length of canals reconstructed in km | X12: Hectars of land affected | Y12: Average growth rate in productivity (%) | Z12: Volume of water saved per year (meter cubic per year)
M13: SDG 3 | N13: =+P5 -> 0.48890615 | O13: =+R5 -> 0.51109385 | V13: Irrigation networks/canals | W13: =+Irrigation!X17 -> 99.95 | X13: =+Irrigation!Z17 -> 96881 | Y13: =+Irrigation!AB17 -> 0.13209019 | Z13: =+Irrigation!AC17 -> 52165000
B14: Region | C14: Allocation amount in UZS'm (excluding vaccination) | D14: % | M14: SDG 4 | N14: =+P6 -> 0.37672707 | O14: =+R6 -> 0.62327293 | V14: SDG 9. Industry, Innovation and Infrastructure | W14: Quantity of stations | X14: Length of lines in km | Y14: Average number of passangers served (daily) | Z14: GHG emission
B15: Andijan region | C15: 117176.59 | D15: =+C15/$C$29 -> 0.050890605 | G15: Urban | H15: =+E12 -> 1838594.9 | M15: SDG 6 | N15: =+P7 -> 0.42715984 | O15: =+R7 -> 0.57284016 | V15: Metro in the capital city | W15: =+Transport!F8 -> 21 | X15: =+Transport!G8 -> 33.1 | Y15: =+Transport!H8 -> 213134 | Z15: Zero
B16: Bukhara region | C16: 34706.258 | D16: =+C16/$C$29 -> 0.015073169 | G16: Rural | H16: =+G12 -> 644080.62 | M16: SDG 9 | N16: =+P9 -> 1 | O16: =+R9 -> 0
B17: Republic of Karakalpakstan | C17: 45515.129 | D17: =+C17/$C$29 -> 0.019767537
B18: Jizzakh region | C18: 22599.076 | D18: =+C18/$C$29 -> 0.0098149355
B19: Khorezm region | C19: 79613.881 | D19: =+C19/$C$29 -> 0.034576862
B20: Syrdarya region | C20: 37926.192 | D20: =+C20/$C$29 -> 0.016471609
B21: Navoi region | C21: 16811.334 | D21: =+C21/$C$29 -> 0.0073012791
B22: Fergana region | C22: 101869.25 | D22: =+C22/$C$29 -> 0.044242525
B23: Namangan region | C23: 113279.19 | D23: =+C23/$C$29 -> 0.049197938
B24: Tashkent region | C24: 176799.01 | D24: =+C24/$C$29 -> 0.076785037
B25: Samarkand region | C25: 34480.647 | D25: =+C25/$C$29 -> 0.014975185
B26: Tashkent city | C26: 1377554 | D26: =+C26/$C$29 -> 0.59828128
B27: Kashkadarya region | C27: 76239.137 | D27: =+C27/$C$29 -> 0.033111187
B28: Surkhandarya region | C28: 67949.303 | D28: =+C28/$C$29 -> 0.029510854
B29: Total | C29: =SUM(C15:C28) -> 2302519 | D29: =SUM(D15:D28) -> 1

Sheet Transport
B4: Project | C4: Location | D4: Overground / underground | E4: Link with other lines of existing underground system | F4: Quantity of stations | G4: Length of lines in km | H4: Average number of passangers served (daily) | I4: GHG emission | J4: Travel time saving | K4: Total cost (in UZS'm) | L4: %
B5: Yunusabad line of Tashkent underground metro system | C5: Tashkent city | D5: Underground | E5: Yes, it is a continuation of existing Yunusobod line of Tashkent underground railway system. Two new stations of the line have been built within the framework of project. | F5: 2 | G5: 2.9 | H5: 17850 | I5: Zero emission at all | J5: At least two times in comparison with on-land transport during rush hour | K5: 42442.024 | L5: =+K5/$K$8 -> 0.031443607
B6: Sergeli overground line of Tashkent underground metro system | C6: Tashkent city | D6: Overground | E6: Yes, it is connected to the existing Chilonzor line of Tashkent underground railway system. New Sergeli line, which is overground, consists of 5 new stations. | F6: 5 | G6: 6.2 | H6: 35000 | I6: Zero emission at all | J6: At least two times in comparison with on-land transport during rush hour | K6: 385272.27 | L6: =+K6/$K$8 -> 0.28543289
B7: Tashkent overground loop metro line | C7: Tashkent city | D7: Overground | E7: Yes, it is connected to the new Sergeli line of Tashkent underground railway system. Tashkent overground railway consists of 14 new stations. | F7: 14 | G7: 24 | H7: 160284 | I7: Zero emission at all | J7: At least two times in comparison with on-land transport during rush hour | K7: 922068.02 | L7: =+K7/$K$8 -> 0.6831235
F8: =+SUM(F5:F7) -> 21 | G8: =+SUM(G5:G7) -> 33.1 | H8: =+SUM(H5:H7) -> 213134 | K8: =+SUM(K5:K7) -> 1349782.3

Sheet Schools
B1: SCHOOLS
B2: No. | C2: Name of the project | D2: Responsible ministry | E2: Area (region) where the project has been implemented | F2: Name of the responsible employee | G2: Phone number of the responsible employee | H2: Project start date | I2: Project end date | J2: Name of general contracting organization | K2: General contracting organization type | L2: Construction / Reconstruction | M2: Project summary | N2: Located in rural/urban area | O2: Amount of financing (in UZS'm) | P2: Number of renovated seats as a result of the project | Q2: Number of jobs before the implementation of the project | R2: Type of construction work done | S2: Area of the school building used for studying/education | U2: Number of new seats created as a result of the project | V2: Number of new/additional teachers and technical staff (non-teaching) employed as a result of the project | X2: Number of boys and girls currently studying | Z2: Number of students graduated from school until June 1, 2024 since the project started | AA2: Number of graduated students managed to enter higher education institutions (excluding 2024 results) | AB2: Number of people benefiting from the implementation of the project (population of the area) | AE2: Region | AF2: Allocation | AP2: Number of jobs | AU2: School capacity | BA2: School area | BC2: Students graduated | BD2: Graduated students enrolled at higher education (excluding 2024 results) | BE2: People benefiting from the projects
S3: Before (m2) | T3: After (m2) | V3: New teachers | W3: New technical staff | X3: Boys | Y3: Girls | AF3: Total Financing (in UZS'm) | AG3: % | AH3: Rural (in UZS'm) | AI3: % | AJ3: Urban (in UZS'm) | AK3: % | AL3: Construction (in UZS'm) | AM3: % | AN3: Reconstruction (in UZS'm) | AO3: % | AP3: Number of jobs before | AQ3: New staff, including: | AR3: Teachers employed | AS3: Non-teaching staff employed | AT3: TOTAL JOBS | AU3: Renovated seats | AV3: New seats | AW3: NEW CAPACITY | AX3: Current number of students | AY3: Boys | AZ3: Girls | BA3: Before (m2) | BB3: After (m2) | BJ3: Area | BK3: Financing | BL3: % | BM3: Construction | BN3: % | BO3: Reconstruction | BP3: % | BQ3: Quantity of projects | BR3: Construction of new schools | BS3: Reconstruction of existing schools | BT3: Number of jobs before | BU3: % | BV3: New teachers employed | BW3: % | BX3: Technical staff employed | BY3: % | BZ3: TOTAL STAFF | CA3: % | CB3: Renovated seats | CC3: % | CD3: Additional seats created | CE3: % | CF3: Number of boys studying | CG3: % | CH3: Number of girls studying | CI3: % | CJ3: Students graduated | CK3: % | CL3: Graduated students enrolled at higher education (excluding 2024 results) | CM3: % | CN3: People benefiting from the projects | CO3: %
B4: 1 | C4: School No. 10 in Qibray district | D4: Ministry of Preschool and School Education | E4: Tashkent region | F4: Ахмедова Мавжуда | G4: 99-841-36-21 | H4: 44323 | I4: 44477 | J4: "GALLANT BUILDING" MCHJ | K4: Private entity | L4: Reconstruction | M4: Reconstruction of the 10th school in Qibray district, which will increase the level of coverage of students of grades 1-11 at the age of 7-18 and create additional jobs | N4: Rural | O4: 6547.3278 | P4: 280 | Q4: 37 | R4: Renovation of existing building and Construction of additional new building | S4: 1850.3 | T4: 2868.1 | U4: 240 | V4: 4 | W4: 3 | X4: 189 | Y4: 190 | Z4: 93 | AA4: 46 | AB4: 4600 | AE4: Andijan | AF4: =+SUMIFS($O$4:$O$36,$E$4:$E$36,AE4) -> 28443.4 | AG4: =+AF4/$AF$18 -> 0.11478124 | AH4: =+SUMIFS($O$4:$O$36,$E$4:$E$36,AE4,$N$4:$N$36,$N$4) -> 12543.08 | AI4: =+AH4/AF4 -> 0.44098384 | AJ4: =+SUMIFS($O$4:$O$36,$E$4:$E$36,AE4,$N$4:$N$36,$N$9) -> 15900.32 | AK4: =+AJ4/AF4 -> 0.55901616 | AL4: =+SUMIFS($O$4:$O$36,$E$4:$E$36,AE4,$L$4:$L$36,$L$11) -> 6505.4644 | AM4: =+AL4/AF4 -> 0.22871613 | AN4: =+SUMIFS($O$4:$O$36,$E$4:$E$36,AE4,$L$4:$L$36,$L$10) -> 21937.936 | AO4: =+AN4/AF4 -> 0.77128387 | AP4: =+SUMIFS($Q$4:$Q$36,$E$4:$E$36,AE4) -> 232 | AQ4: =+AR4+AS4 -> 139 | AR4: =+SUMIFS($V$4:$V$36,$E$4:$E$36,AE4) -> 112 | AS4: =+SUMIFS($W$4:$W$36,$E$4:$E$36,AE4) -> 27 | AT4: =+AP4+AQ4 -> 371 | AU4: =+SUMIFS($P$4:$P$36,$E$4:$E$36,AE4) -> 1934 | AV4: =+SUMIFS($U$4:$U$36,$E$4:$E$36,AE4) -> 1795 | AW4: =+SUM(AU4:AV4) -> 3729 | AX4: =+SUMIFS($X$4:$X$36,$E$4:$E$36,AE4)++SUMIFS($Y$4:$Y$36,$E$4:$E$36,AE4) -> 4972 | AY4: =+SUMIFS($X$4:$X$36,$E$4:$E$36,AE4)/AX4 -> 0.557321 | AZ4: =SUMIFS($Y$4:$Y$36,$E$4:$E$36,AE4)/AX4 -> 0.442679 | BA4: =+SUMIFS($S$4:$S$36,$E$4:$E$36,AE4) -> 13046.08 | BB4: =+SUMIFS($T$4:$T$36,$E$4:$E$36,AE4) -> 24571.38 | BC4: =+SUMIFS($Z$4:$Z$36,$E$4:$E$36,AE4) -> 819 | BD4: =+SUMIFS($AA$4:$AA$36,$E$4:$E$36,AE4) -> 163 | BE4: =+SUMIFS($AB$4:$AB$36,$E$4:$E$36,AE4) -> 32872 | BJ4: Rural | BK4: =+SUMIFS($O$4:$O$36,$N$4:$N$36,BJ4) -> 160621.47 | BL4: =+BK4/$BK$6 -> 0.64817605 | BM4: =+SUMIFS($O$4:$O$36,$N$4:$N$36,BJ4,$L$4:$L$36,$BM$3) -> 6505.4644 | BN4: =+BM4/$BM$6 -> 0.22606917 | BO4: =+SUMIFS($O$4:$O$36,$N$4:$N$36,BJ4,$L$4:$L$36,$BO$3) -> 154116 | BP4: =+BO4/$BO$6 -> 0.70363326 | BQ4: =+COUNTIFS($N$4:$N$36,BJ4) -> 23 | BR4: =+COUNTIFS($N$4:$N$36,BJ4,$L$4:$L$36,$BM$3) -> 1 | BS4: =+COUNTIFS($N$4:$N$36,BJ4,$L$4:$L$36,$BO$3) -> 22 | BT4: =+SUMIFS($Q$4:$Q$36,$N$4:$N$36,BJ4) -> 1712 | BU4: =+BT4/BT6 -> 0.71214642 | BV4: =+SUMIFS($V$4:$V$36,$N$4:$N$36,BJ4) -> 289 | BW4: =+BV4/BV6 -> 0.46166134 | BX4: =+SUMIFS($W$4:$W$36,$N$4:$N$36,BJ4) -> 73 | BY4: =+BX4/BX6 -> 0.46202532 | BZ4: =+BT4+BV4+BX4 -> 2074 | CA4: =+BZ4/BZ6 -> 0.65056462 | CB4: =+SUMIFS($P$4:$P$36,$N$4:$N$36,BJ4) -> 12642 | CC4: =+CB4/CB6 -> 0.70034901 | CD4: =+SUMIFS($U$4:$U$36,$N$4:$N$36,BJ4) -> 6729 | CE4: =+CD4/CD6 -> 0.56408752 | CF4: =+SUMIFS($X$4:$X$36,$N$4:$N$36,BJ4) -> 11821 | CG4: =+CF4/CF6 -> 0.62468953 | CH4: =+SUMIFS($Y$4:$Y$36,$N$4:$N$36,BJ4) -> 10770 | CI4: =+CH4/CH6 -> 0.61599176 | CJ4: =+SUMIFS($Z$4:$Z$36,$N$4:$N$36,BJ4) -> 3721 | CK4: =+CJ4/CJ6 -> 0.67951059 | CL4: =+SUMIFS($AA$4:$AA$36,$N$4:$N$36,BJ4) -> 1407 | CM4: =+CL4/CL6 -> 0.68970588 | CN4: =+SUMIFS($AB$4:$AB$36,$N$4:$N$36,BJ4) -> 98106 | CO4: =+CN4/CN6 -> 0.61242376
B5: =+B4+1 -> 2 | C5: School No. 38 in Zangiota district | D5: Ministry of Preschool and School Education | E5: Tashkent region | F5: Бакирова Ходича Ахмаджонова | G5: 99-819-75-23 | H5: 44328 | I5: 44472 | J5: "ENERGOMONTAJ INVEST QURILISH" MCHJ | K5: Private entity | L5: Reconstruction | M5: Reconstruction of school 38 in Zangiota district, which will increase the level of coverage of students of grades 1-11 at the age of 7-18 and create additional jobs | N5: Rural | O5: 8642.2631 | P5: 640 | Q5: 72 | R5: Renovation of existing building and Construction of additional new building | S5: 3293.8 | T5: 5922.7 | U5: 520 | V5: 16 | W5: 7 | X5: 585 | Y5: 579 | Z5: 93 | AA5: 38 | AB5: 5200 | AE5: Bukhara | AF5: =+SUMIFS($O$4:$O$36,$E$4:$E$36,AE5) -> 17638.16 | AG5: =+AF5/$AF$18 -> 0.071177492 | AH5: =+SUMIFS($O$4:$O$36,$E$4:$E$36,AE5,$N$4:$N$36,$N$4) -> 0 | AI5: =+AH5/AF5 -> 0 | AJ5: =+SUMIFS($O$4:$O$36,$E$4:$E$36,AE5,$N$4:$N$36,$N$9) -> 17638.16 | AK5: =+AJ5/AF5 -> 1 | AL5: =+SUMIFS($O$4:$O$36,$E$4:$E$36,AE5,$L$4:$L$36,$L$11) -> 6066.1263 | AM5: =+AL5/AF5 -> 0.34392058 | AN5: =+SUMIFS($O$4:$O$36,$E$4:$E$36,AE5,$L$4:$L$36,$L$10) -> 11572.034 | AO5: =+AN5/AF5 -> 0.65607942 | AP5: =+SUMIFS($Q$4:$Q$36,$E$4:$E$36,AE5) -> 50 | AQ5: =+AR5+AS5 -> 187 | AR5: =+SUMIFS($V$4:$V$36,$E$4:$E$36,AE5) -> 146 | AS5: =+SUMIFS($W$4:$W$36,$E$4:$E$36,AE5) -> 41 | AT5: =+AP5+AQ5 -> 237 | AU5: =+SUMIFS($P$4:$P$36,$E$4:$E$36,AE5) -> 600 | AV5: =+SUMIFS($U$4:$U$36,$E$4:$E$36,AE5) -> 1646 | AW5: =+SUM(AU5:AV5) -> 2246 | AX5: =+SUMIFS($X$4:$X$36,$E$4:$E$36,AE5)++SUMIFS($Y$4:$Y$36,$E$4:$E$36,AE5) -> 2432 | AY5: =+SUMIFS($X$4:$X$36,$E$4:$E$36,AE5)/AX5 -> 0.43544408 | AZ5: =SUMIFS($Y$4:$Y$36,$E$4:$E$36,AE5)/AX5 -> 0.56455592 | BA5: =+SUMIFS($S$4:$S$36,$E$4:$E$36,AE5) -> 1211 | BB5: =+SUMIFS($T$4:$T$36,$E$4:$E$36,AE5) -> 11640.3 | BC5: =+SUMIFS($Z$4:$Z$36,$E$4:$E$36,AE5) -> 271 | BD5: =+SUMIFS($AA$4:$AA$36,$E$4:$E$36,AE5) -> 210 | BE5: =+SUMIFS($AB$4:$AB$36,$E$4:$E$36,AE5) -> 8500 | BJ5: Urban | BK5: =+SUMIFS($O$4:$O$36,$N$4:$N$36,BJ5) -> 87183.841 | BL5: =+BK5/$BK$6 -> 0.35182395 | BM5: =+SUMIFS($O$4:$O$36,$N$4:$N$36,BJ5,$L$4:$L$36,$BM$3) -> 22270.968 | BN5: =+BM5/$BM$6 -> 0.77393083 | BO5: =+SUMIFS($O$4:$O$36,$N$4:$N$36,BJ5,$L$4:$L$36,$BO$3) -> 64912.872 | BP5: =+BO5/$BO$6 -> 0.29636674 | BQ5: =+COUNTIFS($N$4:$N$36,BJ5) -> 10 | BR5: =+COUNTIFS($N$4:$N$36,BJ5,$L$4:$L$36,$BM$3) -> 2 | BS5: =+COUNTIFS($N$4:$N$36,BJ5,$L$4:$L$36,$BO$3) -> 8 | BT5: =+SUMIFS($Q$4:$Q$36,$N$4:$N$36,BJ5) -> 692 | BU5: =+BT5/BT6 -> 0.28785358 | BV5: =+SUMIFS($V$4:$V$36,$N$4:$N$36,BJ5) -> 337 | BW5: =+BV5/BV6 -> 0.53833866 | BX5: =+SUMIFS($W$4:$W$36,$N$4:$N$36,BJ5) -> 85 | BY5: =+BX5/BX6 -> 0.53797468 | BZ5: =+BT5+BV5+BX5 -> 1114 | CA5: =+BZ5/BZ6 -> 0.34943538 | CB5: =+SUMIFS($P$4:$P$36,$N$4:$N$36,BJ5) -> 5409 | CC5: =+CB5/CB6 -> 0.29965099 | CD5: =+SUMIFS($U$4:$U$36,$N$4:$N$36,BJ5) -> 5200 | CE5: =+CD5/CD6 -> 0.43591248 | CF5: =+SUMIFS($X$4:$X$36,$N$4:$N$36,BJ5) -> 7102 | CG5: =+CF5/CF6 -> 0.37531047 | CH5: =+SUMIFS($Y$4:$Y$36,$N$4:$N$36,BJ5) -> 6714 | CI5: =+CH5/CH6 -> 0.38400824 | CJ5: =+SUMIFS($Z$4:$Z$36,$N$4:$N$36,BJ5) -> 1755 | CK5: =+CJ5/CJ6 -> 0.32048941 | CL5: =+SUMIFS($AA$4:$AA$36,$N$4:$N$36,BJ5) -> 633 | CM5: =+CL5/CL6 -> 0.31029412 | CN5: =+SUMIFS($AB$4:$AB$36,$N$4:$N$36,BJ5) -> 62087 | CO5: =+CN5/CN6 -> 0.38757624
B6: =+B5+1 -> 3 | C6: School No. 8 in Ahangaron district | D6: Ministry of Preschool and School Education | E6: Tashkent region | F6: Мамашоев Анвар | G6: 94-942-05-06 | H6: 44323 | I6: 44454 | J6: "KUSHON DIZAYN QURILISH" MCHJ | K6: Private entity | L6: Reconstruction | M6: Reconstruction of the 8th school in Ohangaron district, which will increase the level of coverage of students of grades 1-11 at the age of 7-18 and create additional jobs | N6: Rural | O6: 6241.9161 | P6: 320 | Q6: 30 | R6: Renovation of existing building and Construction of additional new building | S6: 667 | T6: 1486 | U6: 192 | V6: 8 | W6: 1 | X6: 174 | Y6: 166 | Z6: 82 | AA6: 47 | AB6: 2800 | AE6: Fergana | AF6: =+SUMIFS($O$4:$O$36,$E$4:$E$36,AE6) -> 28331.191 | AG6: =+AF6/$AF$18 -> 0.11432843 | AH6: =+SUMIFS($O$4:$O$36,$E$4:$E$36,AE6,$N$4:$N$36,$N$4) -> 28331.191 | AI6: =+AH6/AF6 -> 1 | AJ6: =+SUMIFS($O$4:$O$36,$E$4:$E$36,AE6,$N$4:$N$36,$N$9) -> 0 | AK6: =+AJ6/AF6 -> 0 | AL6: =+SUMIFS($O$4:$O$36,$E$4:$E$36,AE6,$L$4:$L$36,$L$11) -> 0 | AM6: =+AL6/AF6 -> 0 | AN6: =+SUMIFS($O$4:$O$36,$E$4:$E$36,AE6,$L$4:$L$36,$L$10) -> 28331.191 | AO6: =+AN6/AF6 -> 1 | AP6: =+SUMIFS($Q$4:$Q$36,$E$4:$E$36,AE6) -> 190 | AQ6: =+AR6+AS6 -> 89 | AR6: =+SUMIFS($V$4:$V$36,$E$4:$E$36,AE6) -> 71 | AS6: =+SUMIFS($W$4:$W$36,$E$4:$E$36,AE6) -> 18 | AT6: =+AP6+AQ6 -> 279 | AU6: =+SUMIFS($P$4:$P$36,$E$4:$E$36,AE6) -> 1350 | AV6: =+SUMIFS($U$4:$U$36,$E$4:$E$36,AE6) -> 1440 | AW6: =+SUM(AU6:AV6) -> 2790 | AX6: =+SUMIFS($X$4:$X$36,$E$4:$E$36,AE6)++SUMIFS($Y$4:$Y$36,$E$4:$E$36,AE6) -> 2970 | AY6: =+SUMIFS($X$4:$X$36,$E$4:$E$36,AE6)/AX6 -> 0.48215488 | AZ6: =SUMIFS($Y$4:$Y$36,$E$4:$E$36,AE6)/AX6 -> 0.51784512 | BA6: =+SUMIFS($S$4:$S$36,$E$4:$E$36,AE6) -> 5486.79 | BB6: =+SUMIFS($T$4:$T$36,$E$4:$E$36,AE6) -> 10565.52 | BC6: =+SUMIFS($Z$4:$Z$36,$E$4:$E$36,AE6) -> 516 | BD6: =+SUMIFS($AA$4:$AA$36,$E$4:$E$36,AE6) -> 158 | BE6: =+SUMIFS($AB$4:$AB$36,$E$4:$E$36,AE6) -> 14438 | BK6: =+SUM(BK4:BK5) -> 247805.31 | BM6: =+SUM(BM4:BM5) -> 28776.433 | BO6: =+SUM(BO4:BO5) -> 219028.87 | BQ6: =+SUM(BQ4:BQ5) -> 33 | BR6: =+SUM(BR4:BR5) -> 3 | BS6: =+SUM(BS4:BS5) -> 30 | BT6: =+SUM(BT4:BT5) -> 2404 | BV6: =+SUM(BV4:BV5) -> 626 | BX6: =+SUM(BX4:BX5) -> 158 | BZ6: =+SUM(BZ4:BZ5) -> 3188 | CB6: =+SUM(CB4:CB5) -> 18051 | CD6: =+SUM(CD4:CD5) -> 11929 | CF6: =+SUM(CF4:CF5) -> 18923 | CH6: =+SUM(CH4:CH5) -> 17484 | CJ6: =+SUM(CJ4:CJ5) -> 5476 | CL6: =+SUM(CL4:CL5) -> 2040 | CN6: =+SUM(CN4:CN5) -> 160193
B7: =+B6+1 -> 4 | C7: School No. 2 in Ahangaron city | D7: Ministry of Preschool and School Education | E7: Tashkent region | F7: Айнаркулова Муяссар | G7: 90-121-52-53 | H7: 44328 | I7: 44472 | J7: "OXANGARON BUNYODKOR BINOKOR" MCHJ | K7: Private entity | L7: Reconstruction | M7: Reconstruction of the 2nd school in Ohangaron, which will increase the level of coverage of students of grades 1-11 at the age of 7-18 and create additional jobs | N7: Rural | O7: 9454.0926 | P7: 936 | Q7: 85 | R7: Renovation of existing building and Construction of additional new building | S7: 2991 | T7: 3646 | U7: 330 | V7: 12 | W7: 4 | X7: 551 | Y7: 508 | Z7: 100 | AA7: 43 | AB7: 2453 | AE7: Jizzakh | AF7: =+SUMIFS($O$4:$O$36,$E$4:$E$36,AE7) -> 7659.6152 | AG7: =+AF7/$AF$18 -> 0.030909811 | AH7: =+SUMIFS($O$4:$O$36,$E$4:$E$36,AE7,$N$4:$N$36,$N$4) -> 7659.6152 | AI7: =+AH7/AF7 -> 1 | AJ7: =+SUMIFS($O$4:$O$36,$E$4:$E$36,AE7,$N$4:$N$36,$N$9) -> 0 | AK7: =+AJ7/AF7 -> 0 | AL7: =+SUMIFS($O$4:$O$36,$E$4:$E$36,AE7,$L$4:$L$36,$L$11) -> 0 | AM7: =+AL7/AF7 -> 0 | AN7: =+SUMIFS($O$4:$O$36,$E$4:$E$36,AE7,$L$4:$L$36,$L$10) -> 7659.6152 | AO7: =+AN7/AF7 -> 1 | AP7: =+SUMIFS($Q$4:$Q$36,$E$4:$E$36,AE7) -> 72 | AQ7: =+AR7+AS7 -> 1 | AR7: =+SUMIFS($V$4:$V$36,$E$4:$E$36,AE7) -> 0 | AS7: =+SUMIFS($W$4:$W$36,$E$4:$E$36,AE7) -> 1 | AT7: =+AP7+AQ7 -> 73 | AU7: =+SUMIFS($P$4:$P$36,$E$4:$E$36,AE7) -> 700 | AV7: =+SUMIFS($U$4:$U$36,$E$4:$E$36,AE7) -> 0 | AW7: =+SUM(AU7:AV7) -> 700 | AX7: =+SUMIFS($X$4:$X$36,$E$4:$E$36,AE7)++SUMIFS($Y$4:$Y$36,$E$4:$E$36,AE7) -> 700 | AY7: =+SUMIFS($X$4:$X$36,$E$4:$E$36,AE7)/AX7 -> 0.52714286 | AZ7: =SUMIFS($Y$4:$Y$36,$E$4:$E$36,AE7)/AX7 -> 0.47285714 | BA7: =+SUMIFS($S$4:$S$36,$E$4:$E$36,AE7) -> 1700 | BB7: =+SUMIFS($T$4:$T$36,$E$4:$E$36,AE7) -> 1700 | BC7: =+SUMIFS($Z$4:$Z$36,$E$4:$E$36,AE7) -> 65 | BD7: =+SUMIFS($AA$4:$AA$36,$E$4:$E$36,AE7) -> 30 | BE7: =+SUMIFS($AB$4:$AB$36,$E$4:$E$36,AE7) -> 4811 | BK7: =+BK6=O37 -> TRUE | BM7: =+BM6=AL18 -> TRUE | BO7: =+BO6=AN18 -> TRUE | BQ7: =+BQ6=B36 -> TRUE | BT7: =+BT6=Q37 -> TRUE | BV7: =+BV6=V37 -> TRUE | BX7: =+BX6=W37 -> TRUE | BZ7: =+BZ6=AT18 -> TRUE | CB7: =+CB6=P37 -> TRUE | CD7: =+CD6=U37 -> TRUE | CF7: =+CF6=X37 -> TRUE | CH7: =+CH6=Y37 -> TRUE | CJ7: =+CJ6=Z37 -> TRUE | CL7: =+CL6=AA37 -> TRUE | CN7: =+CN6=AB37 -> TRUE
B8: =+B7+1 -> 5 | C8: School No. 23 in Tashkent district | D8: Ministry of Preschool and School Education | E8: Tashkent region | F8: Зарипов Убайдулла | G8: 99 851-02-70 | H8: 44350 | I8: 44490 | J8: "YUKSAK TA'LIM TA'MIR QURILISH" MCHJ | K8: Private entity | L8: Reconstruction | M8: Reconstruction of the 23rd school in Tashkent district, which will increase the level of coverage of students of grades 1-11 at the age of 7-18 and create additional jobs | N8: Rural | O8: 6581.471 | P8: 810 | Q8: 51 | R8: Renovation of an existing building | S8: 3059.49 | T8: 1921.85 | U8: 0 | V8: 12 | W8: 2 | X8: 344 | Y8: 352 | Z8: 172 | AA8: 64 | AB8: 2500 | AE8: Kashkadarya | AF8: =+SUMIFS($O$4:$O$36,$E$4:$E$36,AE8) -> 0 | AG8: =+AF8/$AF$18 -> 0 | AH8: =+SUMIFS($O$4:$O$36,$E$4:$E$36,AE8,$N$4:$N$36,$N$4) -> 0 | AI8: 0 | AJ8: =+SUMIFS($O$4:$O$36,$E$4:$E$36,AE8,$N$4:$N$36,$N$9) -> 0 | AK8: 0 | AL8: =+SUMIFS($O$4:$O$36,$E$4:$E$36,AE8,$L$4:$L$36,$L$11) -> 0 | AM8: 0 | AN8: 0 | AO8: 0 | AP8: =+SUMIFS($Q$4:$Q$36,$E$4:$E$36,AE8) -> 0 | AQ8: =+AR8+AS8 -> 0 | AR8: =+SUMIFS($V$4:$V$36,$E$4:$E$36,AE8) -> 0 | AS8: =+SUMIFS($W$4:$W$36,$E$4:$E$36,AE8) -> 0 | AT8: =+AP8+AQ8 -> 0 | AU8: =+SUMIFS($P$4:$P$36,$E$4:$E$36,AE8) -> 0 | AV8: =+SUMIFS($U$4:$U$36,$E$4:$E$36,AE8) -> 0 | AW8: =+SUM(AU8:AV8) -> 0 | AX8: =+SUMIFS($X$4:$X$36,$E$4:$E$36,AE8)++SUMIFS($Y$4:$Y$36,$E$4:$E$36,AE8) -> 0 | AY8: 0 | AZ8: 0 | BA8: =+SUMIFS($S$4:$S$36,$E$4:$E$36,AE8) -> 0 | BB8: =+SUMIFS($T$4:$T$36,$E$4:$E$36,AE8) -> 0 | BC8: =+SUMIFS($Z$4:$Z$36,$E$4:$E$36,AE8) -> 0 | BD8: =+SUMIFS($AA$4:$AA$36,$E$4:$E$36,AE8) -> 0 | BE8: =+SUMIFS($AB$4:$AB$36,$E$4:$E$36,AE8) -> 0
B9: =+B8+1 -> 6 | C9: School No. 4 in Bekabad city | D9: Ministry of Preschool and School Education | E9: Tashkent region | F9: Норбутаев Эркин | G9: 97-784-77-06 | H9: 44308 | I9: 44423 | J9: "ENERGY ENGINEERING COMMUNICATIONS" МЧЖ | K9: Private entity | L9: Reconstruction | M9: Reconstruction of the 4th school in Bekobad city, which will increase the level of coverage of students of grades 1-11 at the age of 7-18 and create additional jobs | N9: Urban | O9: 8300.972 | P9: 110 | Q9: 35 | R9: Renovation of an existing building | S9: 1532 | T9: 1532 | U9: 0 | V9: 0 | W9: 0 | X9: 71 | Y9: 51 | Z9: 14 | AA9: 7 | AB9: 677 | AE9: Kharezm | AF9: =+SUMIFS($O$4:$O$36,$E$4:$E$36,AE9) -> 19715.02 | AG9: =+AF9/$AF$18 -> 0.079558508 | AH9: =+SUMIFS($O$4:$O$36,$E$4:$E$36,AE9,$N$4:$N$36,$N$4) -> 19715.02 | AI9: =+AH9/AF9 -> 1 | AJ9: =+SUMIFS($O$4:$O$36,$E$4:$E$36,AE9,$N$4:$N$36,$N$9) -> 0 | AK9: =+AJ9/AF9 -> 0 | AL9: =+SUMIFS($O$4:$O$36,$E$4:$E$36,AE9,$L$4:$L$36,$L$11) -> 0 | AM9: =+AL9/AF9 -> 0 | AN9: =+SUMIFS($O$4:$O$36,$E$4:$E$36,AE9,$L$4:$L$36,$L$10) -> 19715.02 | AO9: =+AN9/AF9 -> 1 | AP9: =+SUMIFS($Q$4:$Q$36,$E$4:$E$36,AE9) -> 289 | AQ9: =+AR9+AS9 -> 9 | AR9: =+SUMIFS($V$4:$V$36,$E$4:$E$36,AE9) -> 6 | AS9: =+SUMIFS($W$4:$W$36,$E$4:$E$36,AE9) -> 3 | AT9: =+AP9+AQ9 -> 298 | AU9: =+SUMIFS($P$4:$P$36,$E$4:$E$36,AE9) -> 1772 | AV9: =+SUMIFS($U$4:$U$36,$E$4:$E$36,AE9) -> 822 | AW9: =+SUM(AU9:AV9) -> 2594 | AX9: =+SUMIFS($X$4:$X$36,$E$4:$E$36,AE9)++SUMIFS($Y$4:$Y$36,$E$4:$E$36,AE9) -> 3075 | AY9: =+SUMIFS($X$4:$X$36,$E$4:$E$36,AE9)/AX9 -> 0.51739837 | AZ9: =SUMIFS($Y$4:$Y$36,$E$4:$E$36,AE9)/AX9 -> 0.48260163 | BA9: =+SUMIFS($S$4:$S$36,$E$4:$E$36,AE9) -> 6675.6 | BB9: =+SUMIFS($T$4:$T$36,$E$4:$E$36,AE9) -> 10708.32 | BC9: =+SUMIFS($Z$4:$Z$36,$E$4:$E$36,AE9) -> 675 | BD9: =+SUMIFS($AA$4:$AA$36,$E$4:$E$36,AE9) -> 212 | BE9: =+SUMIFS($AB$4:$AB$36,$E$4:$E$36,AE9) -> 10959
B10: =+B9+1 -> 7 | C10: School No. 39 in Bukhara city | D10: Ministry of Preschool and School Education | E10: Bukhara | F10: Ўчилов Ёдгор Ибодович Қодиров Ислом (ғазначилик) | G10: 93-626-16-33 97-798-77-27 | H10: 43850 | I10: 44216 | J10: Гала Осиё Сохтимон ИТК Х/к | K10: Private entity | L10: Reconstruction | M10: Reconstruction of the 39th school in Bukhara, which will increase the level of coverage of students of grades 1-11 at the age of 7-18 and create additional jobs | N10: Urban | O10: 11572.034 | P10: 600 | Q10: 50 | R10: Renovation of existing building and Construction of additional new building | S10: 1211 | T10: 3659 | U10: 1310 | V10: 98 | W10: 28 | X10: 828 | Y10: 1242 | Z10: 230 | AA10: 189 | AB10: 7355 | AE10: Namangan | AF10: =+SUMIFS($O$4:$O$36,$E$4:$E$36,AE10) -> 38220.342 | AG10: =+AF10/$AF$18 -> 0.15423537 | AH10: =+SUMIFS($O$4:$O$36,$E$4:$E$36,AE10,$N$4:$N$36,$N$4) -> 14462.204 | AI10: =+AH10/AF10 -> 0.37839024 | AJ10: =+SUMIFS($O$4:$O$36,$E$4:$E$36,AE10,$N$4:$N$36,$N$9) -> 23758.138 | AK10: =+AJ10/AF10 -> 0.62160976 | AL10: =+SUMIFS($O$4:$O$36,$E$4:$E$36,AE10,$L$4:$L$36,$L$11) -> 16204.842 | AM10: =+AL10/AF10 -> 0.42398475 | AN10: =+SUMIFS($O$4:$O$36,$E$4:$E$36,AE10,$L$4:$L$36,$L$10) -> 22015.5 | AO10: =+AN10/AF10 -> 0.57601525 | AP10: =+SUMIFS($Q$4:$Q$36,$E$4:$E$36,AE10) -> 295 | AQ10: =+AR10+AS10 -> 89 | AR10: =+SUMIFS($V$4:$V$36,$E$4:$E$36,AE10) -> 68 | AS10: =+SUMIFS($W$4:$W$36,$E$4:$E$36,AE10) -> 21 | AT10: =+AP10+AQ10 -> 384 | AU10: =+SUMIFS($P$4:$P$36,$E$4:$E$36,AE10) -> 2234 | AV10: =+SUMIFS($U$4:$U$36,$E$4:$E$36,AE10) -> 1620 | AW10: =+SUM(AU10:AV10) -> 3854 | AX10: =+SUMIFS($X$4:$X$36,$E$4:$E$36,AE10)++SUMIFS($Y$4:$Y$36,$E$4:$E$36,AE10) -> 5298 | AY10: =+SUMIFS($X$4:$X$36,$E$4:$E$36,AE10)/AX10 -> 0.52661382 | AZ10: =SUMIFS($Y$4:$Y$36,$E$4:$E$36,AE10)/AX10 -> 0.47338618 | BA10: =+SUMIFS($S$4:$S$36,$E$4:$E$36,AE10) -> 10473 | BB10: =+SUMIFS($T$4:$T$36,$E$4:$E$36,AE10) -> 22848 | BC10: =+SUMIFS($Z$4:$Z$36,$E$4:$E$36,AE10) -> 583 | BD10: =+SUMIFS($AA$4:$AA$36,$E$4:$E$36,AE10) -> 129 | BE10: =+SUMIFS($AB$4:$AB$36,$E$4:$E$36,AE10) -> 15864
B11: =+B10+1 -> 8 | C11: New Boarding school No. 17 in Kagan city | D11: Ministry of Preschool and School Education | E11: Bukhara | F11: Хикматова Сабохат Исматовна Эшов Ортиқ Насреддинович (ғазначилик) | G11: 91-409 17 43 88-183 50 05 | H11: 44256 | I11: 44440 | J11: ""Наврўз Акмал строй инвест" МЧЖ | K11: Private entity | L11: Construction | M11: Construction of a new boarding school No. 17 in Kogon city, which will increase the level of coverage of students of grades 1-11 at the age of 7-18 and create additional jobs | N11: Urban | O11: 6066.1263 | P11: 0 | Q11: 0 | R11: Construction of a new building | S11: 0 | T11: 7981.3 | U11: 336 | V11: 48 | W11: 13 | X11: 231 | Y11: 131 | Z11: 41 | AA11: 21 | AB11: 1145 | AE11: Navoi | AF11: =+SUMIFS($O$4:$O$36,$E$4:$E$36,AE11) -> 6089.4462 | AG11: =+AF11/$AF$18 -> 0.02457351 | AH11: =+SUMIFS($O$4:$O$36,$E$4:$E$36,AE11,$N$4:$N$36,$N$4) -> 6089.4462 | AI11: =+AH11/AF11 -> 1 | AJ11: =+SUMIFS($O$4:$O$36,$E$4:$E$36,AE11,$N$4:$N$36,$N$9) -> 0 | AK11: =+AJ11/AF11 -> 0 | AL11: =+SUMIFS($O$4:$O$36,$E$4:$E$36,AE11,$L$4:$L$36,$L$11) -> 0 | AM11: =+AL11/AF11 -> 0 | AN11: =+SUMIFS($O$4:$O$36,$E$4:$E$36,AE11,$L$4:$L$36,$L$10) -> 6089.4462 | AO11: =+AN11/AF11 -> 1 | AP11: =+SUMIFS($Q$4:$Q$36,$E$4:$E$36,AE11) -> 81 | AQ11: =+AR11+AS11 -> 13 | AR11: =+SUMIFS($V$4:$V$36,$E$4:$E$36,AE11) -> 10 | AS11: =+SUMIFS($W$4:$W$36,$E$4:$E$36,AE11) -> 3 | AT11: =+AP11+AQ11 -> 94 | AU11: =+SUMIFS($P$4:$P$36,$E$4:$E$36,AE11) -> 720 | AV11: =+SUMIFS($U$4:$U$36,$E$4:$E$36,AE11) -> 330 | AW11: =+SUM(AU11:AV11) -> 1050 | AX11: =+SUMIFS($X$4:$X$36,$E$4:$E$36,AE11)++SUMIFS($Y$4:$Y$36,$E$4:$E$36,AE11) -> 1348 | AY11: =+SUMIFS($X$4:$X$36,$E$4:$E$36,AE11)/AX11 -> 0.48961424 | AZ11: =SUMIFS($Y$4:$Y$36,$E$4:$E$36,AE11)/AX11 -> 0.51038576 | BA11: =+SUMIFS($S$4:$S$36,$E$4:$E$36,AE11) -> 2550 | BB11: =+SUMIFS($T$4:$T$36,$E$4:$E$36,AE11) -> 2780 | BC11: =+SUMIFS($Z$4:$Z$36,$E$4:$E$36,AE11) -> 224 | BD11: =+SUMIFS($AA$4:$AA$36,$E$4:$E$36,AE11) -> 72 | BE11: =+SUMIFS($AB$4:$AB$36,$E$4:$E$36,AE11) -> 3515
B12: =+B11+1 -> 9 | C12: School No. 20 in Khatirchi district | D12: Ministry of Preschool and School Education | E12: Navoi | F12: Сатторов Руслан | G12: 97-377-71-50 | H12: 44313 | I12: 44425 | J12: «BEKTOSH» МЧЖ | K12: Private entity | L12: Reconstruction | M12: Reconstruction of the 20th school in Khatirchi district, which will increase the level of coverage of students of grades 1-11 at the age of 7-18 and create additional jobs | N12: Rural | O12: 6089.4462 | P12: 720 | Q12: 81 | R12: Renovation of existing building and Construction of additional new building | S12: 2550 | T12: 2780 | U12: 330 | V12: 10 | W12: 3 | X12: 660 | Y12: 688 | Z12: 224 | AA12: 72 | AB12: 3515 | AE12: Republic of Karakalpakistan | AF12: =+SUMIFS($O$4:$O$36,$E$4:$E$36,AE12) -> 19970.334 | AG12: =+AF12/$AF$18 -> 0.080588807 | AH12: =+SUMIFS($O$4:$O$36,$E$4:$E$36,AE12,$N$4:$N$36,$N$4) -> 19970.334 | AI12: =+AH12/AF12 -> 1 | AJ12: =+SUMIFS($O$4:$O$36,$E$4:$E$36,AE12,$N$4:$N$36,$N$9) -> 0 | AK12: =+AJ12/AF12 -> 0 | AL12: =+SUMIFS($O$4:$O$36,$E$4:$E$36,AE12,$L$4:$L$36,$L$11) -> 0 | AM12: =+AL12/AF12 -> 0 | AN12: =+SUMIFS($O$4:$O$36,$E$4:$E$36,AE12,$L$4:$L$36,$L$10) -> 19970.334 | AO12: =+AN12/AF12 -> 1 | AP12: =+SUMIFS($Q$4:$Q$36,$E$4:$E$36,AE12) -> 400 | AQ12: =+AR12+AS12 -> 74 | AR12: =+SUMIFS($V$4:$V$36,$E$4:$E$36,AE12) -> 65 | AS12: =+SUMIFS($W$4:$W$36,$E$4:$E$36,AE12) -> 9 | AT12: =+AP12+AQ12 -> 474 | AU12: =+SUMIFS($P$4:$P$36,$E$4:$E$36,AE12) -> 2045 | AV12: =+SUMIFS($U$4:$U$36,$E$4:$E$36,AE12) -> 920 | AW12: =+SUM(AU12:AV12) -> 2965 | AX12: =+SUMIFS($X$4:$X$36,$E$4:$E$36,AE12)++SUMIFS($Y$4:$Y$36,$E$4:$E$36,AE12) -> 4127 | AY12: =+SUMIFS($X$4:$X$36,$E$4:$E$36,AE12)/AX12 -> 0.54785559 | AZ12: =SUMIFS($Y$4:$Y$36,$E$4:$E$36,AE12)/AX12 -> 0.45214441 | BA12: =+SUMIFS($S$4:$S$36,$E$4:$E$36,AE12) -> 10041.63 | BB12: =+SUMIFS($T$4:$T$36,$E$4:$E$36,AE12) -> 12761.34 | BC12: =+SUMIFS($Z$4:$Z$36,$E$4:$E$36,AE12) -> 788 | BD12: =+SUMIFS($AA$4:$AA$36,$E$4:$E$36,AE12) -> 335 | BE12: =+SUMIFS($AB$4:$AB$36,$E$4:$E$36,AE12) -> 14285
B13: =+B12+1 -> 10 | C13: New secondary school (315 seats) in Shaydo mahalla of Sharikhan district | D13: Ministry of Preschool and School Education | E13: Andijan | F13: Заитжонов Умиджон | G13: 93 4191131 | H13: 44428 | I13: 40877 | J13: Фирдавс замин барака МЧЖ | K13: Private entity | L13: Construction | M13: A new general education school (with 315 seats) will be built in the "Shaydo" neighborhood of Sharikhan district., which will increase the level of coverage of students of grades 1-11 at the age of 7-18 and create additional jobs | N13: Rural | O13: 6505.4644 | P13: 0 | Q13: 0 | R13: Construction of a new building | S13: 0 | T13: 5700 | U13: 315 | V13: 35 | W13: 12 | X13: 325 | Y13: 224 | Z13: 92 | AA13: 15 | AB13: 2137 | AE13: Samarkand | AF13: =+SUMIFS($O$4:$O$36,$E$4:$E$36,AE13) -> 7298.2785 | AG13: =+AF13/$AF$18 -> 0.029451663 | AH13: =+SUMIFS($O$4:$O$36,$E$4:$E$36,AE13,$N$4:$N$36,$N$4) -> 7298.2785 | AI13: =+AH13/AF13 -> 1 | AJ13: =+SUMIFS($O$4:$O$36,$E$4:$E$36,AE13,$N$4:$N$36,$N$9) -> 0 | AK13: =+AJ13/AF13 -> 0 | AL13: =+SUMIFS($O$4:$O$36,$E$4:$E$36,AE13,$L$4:$L$36,$L$11) -> 0 | AM13: =+AL13/AF13 -> 0 | AN13: =+SUMIFS($O$4:$O$36,$E$4:$E$36,AE13,$L$4:$L$36,$L$10) -> 7298.2785 | AO13: =+AN13/AF13 -> 1 | AP13: =+SUMIFS($Q$4:$Q$36,$E$4:$E$36,AE13) -> 120 | AQ13: =+AR13+AS13 -> 24 | AR13: =+SUMIFS($V$4:$V$36,$E$4:$E$36,AE13) -> 22 | AS13: =+SUMIFS($W$4:$W$36,$E$4:$E$36,AE13) -> 2 | AT13: =+AP13+AQ13 -> 144 | AU13: =+SUMIFS($P$4:$P$36,$E$4:$E$36,AE13) -> 960 | AV13: =+SUMIFS($U$4:$U$36,$E$4:$E$36,AE13) -> 360 | AW13: =+SUM(AU13:AV13) -> 1320 | AX13: =+SUMIFS($X$4:$X$36,$E$4:$E$36,AE13)++SUMIFS($Y$4:$Y$36,$E$4:$E$36,AE13) -> 1797 | AY13: =+SUMIFS($X$4:$X$36,$E$4:$E$36,AE13)/AX13 -> 0.50918197 | AZ13: =SUMIFS($Y$4:$Y$36,$E$4:$E$36,AE13)/AX13 -> 0.49081803 | BA13: =+SUMIFS($S$4:$S$36,$E$4:$E$36,AE13) -> 2496.7 | BB13: =+SUMIFS($T$4:$T$36,$E$4:$E$36,AE13) -> 3021.7 | BC13: =+SUMIFS($Z$4:$Z$36,$E$4:$E$36,AE13) -> 211 | BD13: =+SUMIFS($AA$4:$AA$36,$E$4:$E$36,AE13) -> 135 | BE13: =+SUMIFS($AB$4:$AB$36,$E$4:$E$36,AE13) -> 11872
B14: =+B13+1 -> 11 | C14: School No. 3 in Pakhtaabad district | D14: Ministry of Preschool and School Education | E14: Andijan | F14: Мадаминов Навруз | G14: 94 4344742 | H14: 44317 | I14: 40877 | J14: Яхшилик сари МЧЖ | K14: Private entity | L14: Reconstruction | M14: The 3rd school in Pakhtaabad district will be reconstructed, which will increase the level of coverage of students of grades 1-11 at the age of 7-18 and create additional jobs | N14: Urban | O14: 6934.687 | P14: 624 | Q14: 97 | R14: Renovation of existing building and Construction of additional new building | S14: 3612 | T14: 5232 | U14: 420 | V14: 23 | W14: 4 | X14: 860 | Y14: 840 | Z14: 170 | AA14: 70 | AB14: 9100 | AE14: Sirdarya | AF14: =+SUMIFS($O$4:$O$36,$E$4:$E$36,AE14) -> 7085.225 | AG14: =+AF14/$AF$18 -> 0.028591902 | AH14: =+SUMIFS($O$4:$O$36,$E$4:$E$36,AE14,$N$4:$N$36,$N$4) -> 7085.225 | AI14: =+AH14/AF14 -> 1 | AJ14: =+SUMIFS($O$4:$O$36,$E$4:$E$36,AE14,$N$4:$N$36,$N$9) -> 0 | AK14: =+AJ14/AF14 -> 0 | AL14: =+SUMIFS($O$4:$O$36,$E$4:$E$36,AE14,$L$4:$L$36,$L$11) -> 0 | AM14: =+AL14/AF14 -> 0 | AN14: =+SUMIFS($O$4:$O$36,$E$4:$E$36,AE14,$L$4:$L$36,$L$10) -> 7085.225 | AO14: =+AN14/AF14 -> 1 | AP14: =+SUMIFS($Q$4:$Q$36,$E$4:$E$36,AE14) -> 74 | AQ14: =+AR14+AS14 -> 0 | AR14: =+SUMIFS($V$4:$V$36,$E$4:$E$36,AE14) -> 0 | AS14: =+SUMIFS($W$4:$W$36,$E$4:$E$36,AE14) -> 0 | AT14: =+AP14+AQ14 -> 74 | AU14: =+SUMIFS($P$4:$P$36,$E$4:$E$36,AE14) -> 520 | AV14: =+SUMIFS($U$4:$U$36,$E$4:$E$36,AE14) -> 210 | AW14: =+SUM(AU14:AV14) -> 730 | AX14: =+SUMIFS($X$4:$X$36,$E$4:$E$36,AE14)++SUMIFS($Y$4:$Y$36,$E$4:$E$36,AE14) -> 760 | AY14: =+SUMIFS($X$4:$X$36,$E$4:$E$36,AE14)/AX14 -> 0.46578947 | AZ14: =SUMIFS($Y$4:$Y$36,$E$4:$E$36,AE14)/AX14 -> 0.53421053 | BA14: =+SUMIFS($S$4:$S$36,$E$4:$E$36,AE14) -> 2575.76 | BB14: =+SUMIFS($T$4:$T$36,$E$4:$E$36,AE14) -> 5431.24 | BC14: =+SUMIFS($Z$4:$Z$36,$E$4:$E$36,AE14) -> 180 | BD14: =+SUMIFS($AA$4:$AA$36,$E$4:$E$36,AE14) -> 71 | BE14: =+SUMIFS($AB$4:$AB$36,$E$4:$E$36,AE14) -> 4672
B15: =+B14+1 -> 12 | C15: School No. 6 in Shahrihan district | D15: Ministry of Preschool and School Education | E15: Andijan | F15: Тошназаров Одил | G15: 99 4411171 | H15: 44321 | I15: 44521 | J15: Тошсарфаргишт ХК | K15: Private entity | L15: Reconstruction | M15: Reconstruction of the 6th school in Shahrikhan district, which will increase the level of coverage of students of grades 1-11 at the age of 7-18 and create additional jobs | N15: Rural | O15: 6037.6153 | P15: 340 | Q15: 41 | R15: Renovation of existing building and Construction of additional new building | S15: 2052.38 | T15: 3339.38 | U15: 420 | V15: 20 | W15: 4 | X15: 782 | Y15: 447 | Z15: 235 | AA15: 60 | AB15: 8750 | AE15: Surkhandarya | AF15: =+SUMIFS($O$4:$O$36,$E$4:$E$36,AE15) -> 0 | AG15: =+AF15/$AF$18 -> 0 | AH15: =+SUMIFS($O$4:$O$36,$E$4:$E$36,AE15,$N$4:$N$36,$N$4) -> 0 | AI15: 0 | AJ15: =+SUMIFS($O$4:$O$36,$E$4:$E$36,AE15,$N$4:$N$36,$N$9) -> 0 | AK15: 0 | AL15: =+SUMIFS($O$4:$O$36,$E$4:$E$36,AE15,$L$4:$L$36,$L$11) -> 0 | AM15: 0 | AN15: =+SUMIFS($O$4:$O$36,$E$4:$E$36,AE15,$L$4:$L$36,$L$10) -> 0 | AO15: 0 | AP15: =+SUMIFS($Q$4:$Q$36,$E$4:$E$36,AE15) -> 0 | AQ15: =+AR15+AS15 -> 0 | AR15: =+SUMIFS($V$4:$V$36,$E$4:$E$36,AE15) -> 0 | AS15: =+SUMIFS($W$4:$W$36,$E$4:$E$36,AE15) -> 0 | AT15: =+AP15+AQ15 -> 0 | AU15: =+SUMIFS($P$4:$P$36,$E$4:$E$36,AE15) -> 0 | AV15: =+SUMIFS($U$4:$U$36,$E$4:$E$36,AE15) -> 0 | AW15: =+SUM(AU15:AV15) -> 0 | AX15: =+SUMIFS($X$4:$X$36,$E$4:$E$36,AE15)++SUMIFS($Y$4:$Y$36,$E$4:$E$36,AE15) -> 0 | AY15: 0 | AZ15: 0 | BA15: =+SUMIFS($S$4:$S$36,$E$4:$E$36,AE15) -> 0 | BB15: =+SUMIFS($T$4:$T$36,$E$4:$E$36,AE15) -> 0 | BC15: =+SUMIFS($Z$4:$Z$36,$E$4:$E$36,AE15) -> 0 | BD15: =+SUMIFS($AA$4:$AA$36,$E$4:$E$36,AE15) -> 0 | BE15: =+SUMIFS($AB$4:$AB$36,$E$4:$E$36,AE15) -> 0
B16: =+B15+1 -> 13 | C16: Secondary school No. 3 in Shahrihan district | D16: Ministry of Preschool and School Education | E16: Andijan | F16: Буронбоев Жахонгир | G16: 94 1009182 | H16: 44428 | I16: 44530 | J16: Янги замон курувчиси МЧЖ | K16: Private entity | L16: Reconstruction | M16: Reconstruction of secondary school No. 3 in Shahrikhan district with new building for 640 seats, which will increase the level of coverage of students of grades 1-11 at the age of 7-18 and create additional jobs | N16: Urban | O16: 8965.6333 | P16: 970 | Q16: 94 | R16: Renovation of existing building and Construction of additional new building | S16: 7381.7 | T16: 10300 | U16: 640 | V16: 34 | W16: 7 | X16: 804 | Y16: 690 | Z16: 322 | AA16: 18 | AB16: 12885 | AE16: Tashkent city | AF16: =+SUMIFS($O$4:$O$36,$E$4:$E$36,AE16) -> 21586.25 | AG16: =+AF16/$AF$18 -> 0.087109718 | AH16: =+SUMIFS($O$4:$O$36,$E$4:$E$36,AE16,$N$4:$N$36,$N$4) -> 0 | AI16: =+AH16/AF16 -> 0 | AJ16: =+SUMIFS($O$4:$O$36,$E$4:$E$36,AE16,$N$4:$N$36,$N$9) -> 21586.25 | AK16: =+AJ16/AF16 -> 1 | AL16: =+SUMIFS($O$4:$O$36,$E$4:$E$36,AE16,$L$4:$L$36,$L$11) -> 0 | AM16: =+AL16/AF16 -> 0 | AN16: =+SUMIFS($O$4:$O$36,$E$4:$E$36,AE16,$L$4:$L$36,$L$10) -> 21586.25 | AO16: =+AN16/AF16 -> 1 | AP16: =+SUMIFS($Q$4:$Q$36,$E$4:$E$36,AE16) -> 291 | AQ16: =+AR16+AS16 -> 90 | AR16: =+SUMIFS($V$4:$V$36,$E$4:$E$36,AE16) -> 74 | AS16: =+SUMIFS($W$4:$W$36,$E$4:$E$36,AE16) -> 16 | AT16: =+AP16+AQ16 -> 381 | AU16: =+SUMIFS($P$4:$P$36,$E$4:$E$36,AE16) -> 2120 | AV16: =+SUMIFS($U$4:$U$36,$E$4:$E$36,AE16) -> 1504 | AW16: =+SUM(AU16:AV16) -> 3624 | AX16: =+SUMIFS($X$4:$X$36,$E$4:$E$36,AE16)++SUMIFS($Y$4:$Y$36,$E$4:$E$36,AE16) -> 5168 | AY16: =+SUMIFS($X$4:$X$36,$E$4:$E$36,AE16)/AX16 -> 0.54315015 | AZ16: =SUMIFS($Y$4:$Y$36,$E$4:$E$36,AE16)/AX16 -> 0.45684985 | BA16: =+SUMIFS($S$4:$S$36,$E$4:$E$36,AE16) -> 12954 | BB16: =+SUMIFS($T$4:$T$36,$E$4:$E$36,AE16) -> 25015 | BC16: =+SUMIFS($Z$4:$Z$36,$E$4:$E$36,AE16) -> 590 | BD16: =+SUMIFS($AA$4:$AA$36,$E$4:$E$36,AE16) -> 280 | BE16: =+SUMIFS($AB$4:$AB$36,$E$4:$E$36,AE16) -> 20175
B17: =+B16+1 -> 14 | C17: School No. 53 in Kungrad district | D17: Ministry of Preschool and School Education | E17: Republic of Karakalpakistan | F17: Балтабаев Дамир | G17: +99897-500-99-88 | H17: 44317 | I17: 44484 | J17: ООО "MEKTEP QURILIS SERVIS" | K17: Private entity | L17: Reconstruction | M17: Reconstruction of the 53rd school in Kunirot district, which will increase the level of coverage of students of grades 1-11 at the age of 7-18 and create additional jobs | N17: Rural | O17: 6165.025 | P17: 865 | Q17: 114 | R17: Renovation of existing building and Construction of additional new building | S17: 2140 | T17: 2725.34 | U17: 360 | V17: 14 | W17: 2 | X17: 840 | Y17: 769 | Z17: 318 | AA17: 147 | AB17: 2475 | AE17: Tashkent region | AF17: =+SUMIFS($O$4:$O$36,$E$4:$E$36,AE17) -> 45768.043 | AG17: =+AF17/$AF$18 -> 0.18469355 | AH17: =+SUMIFS($O$4:$O$36,$E$4:$E$36,AE17,$N$4:$N$36,$N$4) -> 37467.071 | AI17: =+AH17/AF17 -> 0.81862952 | AJ17: =+SUMIFS($O$4:$O$36,$E$4:$E$36,AE17,$N$4:$N$36,$N$9) -> 8300.972 | AK17: =+AJ17/AF17 -> 0.18137048 | AL17: =+SUMIFS($O$4:$O$36,$E$4:$E$36,AE17,$L$4:$L$36,$L$11) -> 0 | AM17: =+AL17/AF17 -> 0 | AN17: =+SUMIFS($O$4:$O$36,$E$4:$E$36,AE17,$L$4:$L$36,$L$10) -> 45768.043 | AO17: =+AN17/AF17 -> 1 | AP17: =+SUMIFS($Q$4:$Q$36,$E$4:$E$36,AE17) -> 310 | AQ17: =+AR17+AS17 -> 69 | AR17: =+SUMIFS($V$4:$V$36,$E$4:$E$36,AE17) -> 52 | AS17: =+SUMIFS($W$4:$W$36,$E$4:$E$36,AE17) -> 17 | AT17: =+AP17+AQ17 -> 379 | AU17: =+SUMIFS($P$4:$P$36,$E$4:$E$36,AE17) -> 3096 | AV17: =+SUMIFS($U$4:$U$36,$E$4:$E$36,AE17) -> 1282 | AW17: =+SUM(AU17:AV17) -> 4378 | AX17: =+SUMIFS($X$4:$X$36,$E$4:$E$36,AE17)++SUMIFS($Y$4:$Y$36,$E$4:$E$36,AE17) -> 3760 | AY17: =+SUMIFS($X$4:$X$36,$E$4:$E$36,AE17)/AX17 -> 0.50904255 | AZ17: =SUMIFS($Y$4:$Y$36,$E$4:$E$36,AE17)/AX17 -> 0.49095745 | BA17: =+SUMIFS($S$4:$S$36,$E$4:$E$36,AE17) -> 13393.59 | BB17: =+SUMIFS($T$4:$T$36,$E$4:$E$36,AE17) -> 17376.65 | BC17: =+SUMIFS($Z$4:$Z$36,$E$4:$E$36,AE17) -> 554 | BD17: =+SUMIFS($AA$4:$AA$36,$E$4:$E$36,AE17) -> 245 | BE17: =+SUMIFS($AB$4:$AB$36,$E$4:$E$36,AE17) -> 18230
B18: =+B17+1 -> 15 | C18: School No. 38 in Chimbay district | D18: Ministry of Preschool and School Education | E18: Republic of Karakalpakistan | F18: Балтабаев Дамир | G18: +99897-500-99-88 | H18: 44328 | I18: 44676 | J18: "АМУ ДАРЬЯ" МЧЖ | K18: Private entity | L18: Reconstruction | M18: Reconstruction of school 38 in Chimboy district, which will increase the level of coverage of students of grades 1-11 at the age of 7-18 and create additional jobs | N18: Rural | O18: 7649.27 | P18: 940 | Q18: 220 | R18: Renovation of existing building and Construction of additional new building | S18: 6431.63 | T18: 8566 | U18: 420 | V18: 37 | W18: 5 | X18: 1188 | Y18: 970 | Z18: 427 | AA18: 148 | AB18: 5832 | AF18: =+SUM(AF4:AF17) -> 247805.31 | AH18: =+SUM(AH4:AH17) -> 160621.47 | AJ18: =+SUM(AJ4:AJ17) -> 87183.841 | AL18: =+SUM(AL4:AL17) -> 28776.433 | AN18: =+SUM(AN4:AN17) -> 219028.87 | AP18: =+SUM(AP4:AP17) -> 2404 | AQ18: =+SUM(AQ4:AQ17) -> 784 | AR18: =+SUM(AR4:AR17) -> 626 | AS18: =+SUM(AS4:AS17) -> 158 | AT18: =+SUM(AT4:AT17) -> 3188 | AU18: =+SUM(AU4:AU17) -> 18051 | AV18: =+SUM(AV4:AV17) -> 11929 | AW18: =+SUM(AW4:AW17) -> 29980 | AX18: =+SUM(AX4:AX17) -> 36407 | BA18: =+SUM(BA4:BA17) -> 82604.15 | BB18: =+SUM(BB4:BB17) -> 148419.45 | BC18: =+SUM(BC4:BC17) -> 5476 | BD18: =+SUM(BD4:BD17) -> 2040 | BE18: =+SUM(BE4:BE17) -> 160193
B19: =+B18+1 -> 16 | C19: School No. 13 in Ellikkala district | D19: Ministry of Preschool and School Education | E19: Republic of Karakalpakistan | F19: Балтабаев Дамир | G19: +99897-500-99-88 | H19: 44306 | I19: 44469 | J19: OOO "TUPROQQALA MAXSUS QURILISH" | K19: Private entity | L19: Reconstruction | M19: Reconstruction of the 13th school in Ellikkala district, which will increase the level of coverage of students of grades 1-11 at the age of 7-18 and create additional jobs. In addition, students accomodation for 240 beds will be constructed | N19: Rural | O19: 6156.039 | P19: 240 | Q19: 66 | R19: Renovation of an existing building | S19: 1470 | T19: 1470 | U19: 140 | V19: 14 | W19: 2 | X19: 233 | Y19: 127 | Z19: 43 | AA19: 40 | AB19: 5978 | AF19: =+AF18=O37 -> TRUE | AP19: =+AP18=Q37 -> TRUE | AR19: =+AR18=V37 -> TRUE | AS19: =+AS18=W37 -> TRUE | AT19: =+AP18+AQ18=AT18 -> TRUE | AU19: =+AU18=P37 -> TRUE | AV19: =+AV18=U37 -> TRUE | AX19: =+AX18=X37+Y37 -> TRUE | BA19: =+BA18=S37 -> TRUE | BB19: =+BB18=T37 -> TRUE | BC19: =+BC18=Z37 -> TRUE | BD19: =+BD18=AA37 -> TRUE | BE19: =+BE18=AB37 -> TRUE
B20: =+B19+1 -> 17 | C20: School No. 2 in Nurabad district | D20: Ministry of Preschool and School Education | E20: Samarkand | F20: Наханов Элбек Йулдошевич | G20: +998944723060 | H20: 44317 | I20: 44442 | J20: “Толиб бобо АКТ” МЧЖ | K20: Private entity | L20: Reconstruction | M20: Reconstruction of the 2nd school in Nurabad district, which will increase the level of coverage of students of grades 1-11 at the age of 7-18 and create additional jobs | N20: Rural | O20: 7298.2785 | P20: 960 | Q20: 120 | R20: Renovation of existing building and Construction of additional new building | S20: 2496.7 | T20: 3021.7 | U20: 360 | V20: 22 | W20: 2 | X20: 915 | Y20: 882 | Z20: 211 | AA20: 135 | AB20: 11872
B21: =+B20+1 -> 18 | C21: School 73 in Gallaorol district | D21: Ministry of Preschool and School Education | E21: Jizzakh | F21: Тиллаев Ахрорхон Акбарович | G21: 99-132-04-56 | H21: 28.04.2021 | I21: 25.08.2021 | J21: "Мукаммал қурилиш савдо" МЧЖ | K21: Private entity | L21: Reconstruction | M21: Reconstruction of school 73 in Gallaorol district, which will increase the level of coverage of students of grades 1-11 at the age of 7-18 and create additional jobs | N21: Rural | O21: 7659.6152 | P21: 700 | Q21: 72 | R21: Renovation of an existing building | S21: 1700 | T21: 1700 | U21: 0 | V21: - | W21: 1 | X21: 369 | Y21: 331 | Z21: 65 | AA21: 30 | AB21: 4811
B22: =+B21+1 -> 19 | C22: School No. 8 in Uchkurgan district | D22: Ministry of Preschool and School Education | E22: Namangan | F22: Каримов Бахтиёр | G22: +998882550024 | H22: 44310 | I22: 44545 | J22: Келажак замон сардори | K22: Private entity | L22: Reconstruction | M22: Reconstruction of the 8th school in Uchkurgan district, which will increase the level of coverage of students of grades 1-11 at the age of 7-18 and create additional jobs | N22: Rural | O22: 8290.7126 | P22: 779 | Q22: 93 | R22: Renovation of existing building and Construction of additional new building | S22: 5911 | T22: 6478 | U22: 360 | V22: 5 | W22: 2 | X22: 789 | Y22: 767 | Z22: 143 | AA22: 72 | AB22: 2814
B23: =+B22+1 -> 20 | C23: School No. 22 in Chartak district | D23: Ministry of Preschool and School Education | E23: Namangan | F23: ЖЎРАБАЕВ БОБУРЖОН МИРЗАЕВИЧ | G23: 934030644 | H23: 44296 | I23: 44428 | J23: BUNYODKOR BUNYOD SERVIS MCHJ | K23: Private entity | L23: Reconstruction | M23: Reconstruction of school 22 in Chortoq district with new building for 270 seats, which will increase the level of coverage of students of grades 1-11 at the age of 7-18 and create additional jobs | N23: Rural | O23: 6171.4916 | P23: 470 | Q23: 77 | R23: Renovation of existing building and Construction of additional new building | S23: 1404 | T23: 2270 | U23: 270 | V23: 3 | W23: 2 | X23: 500 | Y23: 342 | Z23: 52 | AA23: 9 | AB23: 2300
B24: =+B23+1 -> 21 | C24: School No. 29 in Namangan city | D24: Ministry of Preschool and School Education | E24: Namangan | F24: Мадаминов Бекмурод | G24: +998939013080 | H24: 44302 | I24: 44524 | J24: "Наманган Давр қурилиш" МЧЖ | K24: Private entity | L24: Reconstruction | M24: Reconstruction of the 29th school in the city of Namangan with new building for 330 seats, which will increase the level of coverage of students of grades 1-11 at the age of 7-18 and create additional jobs | N24: Urban | O24: 7553.2957 | P24: 985 | Q24: 125 | R24: Renovation of existing building and Construction of additional new building | S24: 3158 | T24: 4200 | U24: 330 | V24: 12 | W24: 4 | X24: 981 | Y24: 1046 | Z24: 370 | AA24: 48 | AB24: 6628
B25: =+B24+1 -> 22 | C25: New school in "Istiqbol" neighbourhood in Namangan city | D25: Ministry of Preschool and School Education | E25: Namangan | F25: А.Холиков | G25: +998999741047 | H25: 44389 | I25: 44614 | J25: "Мехнат нури" Хусусий қорхонаси | K25: Private entity | L25: Construction | M25: Construction of a new school for "Istiqbol" MFY in the city of Namangan, which will increase the level of coverage of students of grades 1-11 at the age of 7-18 and create additional jobs | N25: Urban | O25: 16204.842 | P25: 0 | Q25: 0 | R25: Construction of a new building | S25: 0 | T25: 9900 | U25: 660 | V25: 48 | W25: 13 | X25: 520 | Y25: 353 | Z25: 18 | AA25: 0 | AB25: 4122
B26: =+B25+1 -> 23 | C26: School No. 39 in Baghdad district | D26: Ministry of Preschool and School Education | E26: Fergana | F26: Қўзиева Гулнорахон Алижоновна | G26: 94-039-16-46 | H26: 43788 | I26: 44561 | J26: "SADDINSO-XABIBULLO" ХК | K26: Private entity | L26: Reconstruction | M26: Reconstruction of school No. 39 in Baghdad district, which will increase the level of coverage of students of grades 1-11 at the age of 7-18 and create additional jobs | N26: Rural | O26: 6489.7231 | P26: 620 | Q26: 64 | R26: Renovation of existing building and Construction of additional new building | S26: 2145 | T26: 3257 | U26: 360 | V26: 24 | W26: 5 | X26: 531 | Y26: 612 | Z26: 210 | AA26: 85 | AB26: 4581
B27: =+B26+1 -> 24 | C27: School No. 19 in Baghdad district | D27: Ministry of Preschool and School Education | E27: Fergana | F27: Тожибоева Набирахон Абдуллаевна | G27: 91-201-66-24 | H27: 44197 | I27: 44561 | J27: "Файз Бинокор Олтиарик" ХКМК | K27: Private entity | L27: Reconstruction | M27: Reconstruction of school No. 19 in Baghdad district, which will increase the level of coverage of students of grades 1-11 at the age of 7-18 and create additional jobs | N27: Rural | O27: 6754.1989 | P27: 360 | Q27: 64 | R27: Renovation of existing building and Construction of additional new building | S27: 1092 | T27: 2246 | U27: 330 | V27: 21 | W27: 3 | X27: 441 | Y27: 430 | Z27: 213 | AA27: 50 | AB27: 3708
B28: =+B27+1 -> 25 | C28: School No. 23 in Furqat district | D28: Ministry of Preschool and School Education | E28: Fergana | F28: Турсунов Фаррухбек Абдулазизович | G28: 91-687-33-17 | H28: 44197 | I28: 44561 | J28: "FAR JASMIN DISKO SERVIS" ХК | K28: Private entity | L28: Reconstruction | M28: Reconstruction of school No. 23 in Furqat district, which will increase the level of coverage of students of grades 1-11 at the age of 7-18 and create additional jobs | N28: Rural | O28: 6070.588 | P28: 250 | Q28: 35 | R28: Renovation of existing building and Construction of additional new building | S28: 1709.79 | T28: 2109.52 | U28: 330 | V28: 6 | W28: 5 | X28: 225 | Y28: 229 | Z28: 66 | AA28: 17 | AB28: 3450
B29: =+B28+1 -> 26 | C29: School No. 56 in Baghdad district | D29: Ministry of Preschool and School Education | E29: Fergana | F29: Насирдинова Муаттархон Рахимбердиевна | G29: 91-693-44-34 | H29: 44197 | I29: 44561 | J29: "Водий Юксак Омад таъмир" МЧЖ | K29: Private entity | L29: Reconstruction | M29: Reconstruction of school No. 56 in Baghdad district, which will increase the level of coverage of students of grades 1-11 at the age of 7-18 and create additional jobs | N29: Rural | O29: 9016.6815 | P29: 120 | Q29: 27 | R29: Renovation of existing building and Construction of additional new building | S29: 540 | T29: 2953 | U29: 420 | V29: 20 | W29: 5 | X29: 235 | Y29: 267 | Z29: 27 | AA29: 6 | AB29: 2699
B30: =+B29+1 -> 27 | C30: School No. 4 in Koshkopir district | D30: Ministry of Preschool and School Education | E30: Kharezm | F30: Юлдашев Шодлик Хаитбаевич | G30: +998997559935 | H30: 43788 | I30: 44561 | J30: "Янги кушупир" мчж | K30: Private entity | L30: Reconstruction | M30: Reconstruction of the 4th school in Koshkopir district, which will increase the level of coverage of students of grades 1-11 at the age of 7-18 and create additional jobs | N30: Rural | O30: 6281.2393 | P30: 624 | Q30: 85 | R30: Construction of a new building | S30: 2482.67 | T30: 5065.39 | U30: 6 | V30: 5 | W30: 0 | X30: 438 | Y30: 412 | Z30: 141 | AA30: 54 | AB30: 4198
B31: =+B30+1 -> 28 | C31: School No. 47 in Urgench district | D31: Ministry of Preschool and School Education | E31: Kharezm | F31: Усмонов Қодирали Шералиевич | G31: +998974568573 | H31: 43788 | I31: 44561 | J31: "Хоразм Инвест Холдинг" МЧЖ | K31: Private entity | L31: Reconstruction | M31: Reconstruction of school 47 in Urganch district, which will increase the level of coverage of students of grades 1-11 at the age of 7-18 and create additional jobs | N31: Rural | O31: 6278.591 | P31: 624 | Q31: 101 | R31: Renovation of an existing building | S31: 2892.93 | T31: 2892.93 | U31: 336 | V31: 0 | W31: 1 | X31: 624 | Y31: 594 | Z31: 341 | AA31: 88 | AB31: 4348
B32: =+B31+1 -> 29 | C32: School No. 14 in Khazarasp district | D32: Ministry of Preschool and School Education | E32: Kharezm | F32: Худайберганов Азамат Оллаберганович | G32: +998937085585 | H32: 44197 | I32: 44561 | J32: Ботир Техник МЧЖ | K32: Private entity | L32: Reconstruction | M32: Reconstruction of the 14th school in Khazorasp district with new building for 480 seats, which will increase the level of coverage of students of grades 1-11 at the age of 7-18 and create additional jobs | N32: Rural | O32: 7155.19 | P32: 524 | Q32: 103 | R32: Renovation of existing building and Construction of additional new building | S32: 1300 | T32: 2750 | U32: 480 | V32: 1 | W32: 2 | X32: 529 | Y32: 478 | Z32: 193 | AA32: 70 | AB32: 2413
B33: =+B32+1 -> 30 | C33: School No. 2 in Boyovut district | D33: Ministry of Preschool and School Education | E33: Sirdarya | F33: Шермаматов Рустам | G33: +99891-501-41-11 | H33: 44197 | I33: 44440 | J33: "Гулистон Мадад Қурилиш" МЧЖ | K33: Private entity | L33: Reconstruction | M33: Reconstruction of the 2nd school in Boyovut district, which will increase the level of coverage of students of grades 1-11 at the age of 7-18 and create additional jobs | N33: Rural | O33: 7085.225 | P33: 520 | Q33: 74 | R33: Renovation of existing building and Construction of additional new building | S33: 2575.76 | T33: 5431.24 | U33: 210 | V33: 0 | W33: 0 | X33: 354 | Y33: 406 | Z33: 180 | AA33: 71 | AB33: 4672
B34: =+B33+1 -> 31 | C34: School 203 in Uchtepa district | D34: Ministry of Preschool and School Education | E34: Tashkent city | F34: Салабаев Уткиржон расулжонович | G34: 90-906 90 27 | H34: 43976 | I34: 44440 | J34: Градус Билдинг | K34: Private entity | L34: Reconstruction | M34: Reconstruction of school 203 in Uchtepa district with new building for 420 seats, which will increase the level of coverage of students of grades 1-11 at the age of 7-18 and create additional jobs | N34: Urban | O34: 8822.7938 | P34: 840 | Q34: 110 | R34: Renovation of existing building and Construction of additional new building | S34: 1950 | T34: 4950 | U34: 424 | V34: 20 | W34: 4 | X34: 845 | Y34: 587 | Z34: 383 | AA34: 190 | AB34: 2689
B35: =+B34+1 -> 32 | C35: School No. 23 in Yashnabad district | D35: Ministry of Preschool and School Education | E35: Tashkent city | F35: Зафар Хабибуллаев | G35: (+998 99 802 77 06) | H35: 44547 | I35: 44635 | J35: "Adxambek Qurilish Omad" МЧЖ | K35: Private entity | L35: Reconstruction | M35: Reconstruction of school 23 in Yashnabad district with new building for 540 seats, which will increase the level of coverage of students of grades 1-11 at the age of 7-18 and create additional jobs | N35: Urban | O35: 6605.8276 | P35: 320 | Q35: 66 | R35: Renovation of existing building and Construction of additional new building | S35: 1680 | T35: 4536 | U35: 540 | V35: 27 | W35: 6 | X35: 739 | Y35: 726 | Z35: 67 | AA35: 25 | AB35: 3699
B36: =+B35+1 -> 33 | C36: School No. 61 in Yashnabad district | D36: Ministry of Preschool and School Education | E36: Tashkent city | F36: Зафар Хабибуллаев | G36: (+998 99 802 77 06) | H36: 44454 | I36: 44630 | J36: "Gallant Building " МЧЖ | K36: Private entity | L36: Reconstruction | M36: Reconstruction of school 61 in Yashnabad district with new building for 540 seats, which will increase the level of coverage of students of grades 1-11 at the age of 7-18 and create additional jobs | N36: Urban | O36: 6157.6289 | P36: 960 | Q36: 115 | R36: Renovation of existing building and Construction of additional new building | S36: 9324 | T36: 15529 | U36: 540 | V36: 27 | W36: 6 | X36: 1223 | Y36: 1048 | Z36: 140 | AA36: 65 | AB36: 13787
O37: =+SUM(O4:O36) -> 247805.31 | P37: =+SUM(P4:P36) -> 18051 | Q37: =+SUM(Q4:Q36) -> 2404 | S37: =+SUM(S4:S36) -> 82604.15 | T37: =+SUM(T4:T36) -> 148419.45 | U37: =+SUM(U4:U36) -> 11929 | V37: =+SUM(V4:V36) -> 626 | W37: =+SUM(W4:W36) -> 158 | X37: =+SUM(X4:X36) -> 18923 | Y37: =+SUM(Y4:Y36) -> 17484 | Z37: =+SUM(Z4:Z36) -> 5476 | ... AB37: =+SUM(AB4:AB36) -> 160193

Sheet Kindergartens
B1: KINDERGARTENS
B2: No. | C2: Name of the project | D2: Responsible ministry | E2: Area (region) where the project has been implemented | F2: Name of the responsible employee | G2: Phone number of the responsible employee | H2: Project start date | I2: Project end date | J2: Name of general contracting organization | K2: General contracting organization type | L2: Construction / Reconstruction | M2: Project summary | N2: Located in rural/urban area | O2: Amount of financing (in UZS'm) | P2: Number of renovated seats as a result of the project | Q2: Number of jobs before the implementation of the project | R2: Type of construction work done | S2: Area of the kindergarten building used for studying/education | U2: Number of new seats created as a result of the project | V2: Number of new/additional teachers and technical staff (non-teaching) employed as a result of the project | X2: Number of boys and girls currently studying | Z2: Number of kids graduated from kindergarten until June 1, 2024 since the project started (excluding 2024 results) | AA2: Number of graduated kids progressed to primary education (excluding 2024 results) | AB2: Number of people directly benefiting from the implementation of the project (population of the area) | AD2: Region | AE2: Allocation | AO2: Number of jobs | AT2: School capacity | AZ2: School area | BB2: Kids graduated and progressed to primary education | BC2: People benefited from the projects
S3: Before (m2) | T3: After (m2) | V3: New teachers | W3: New technical staff | X3: Boys | Y3: Girls | AE3: Total Financing (in UZS'm) | AF3: % | AG3: Rural (in UZS'm) | AH3: % | AI3: Urban (in UZS'm) | AJ3: % | AK3: Construction (in UZS'm) | AL3: % | AM3: Reconstruction (in UZS'm) | AN3: % | AO3: Number of jobs before | AP3: New staff, including: | AQ3: Teachers employed | AR3: Technical staff employed | AS3: TOTAL JOBS | AT3: Renovated seats | AU3: New seats | AV3: NEW CAPACITY | AW3: Current number of students | AX3: Boys | AY3: Girls | AZ3: Before (m2) | BA3: After (m2) | BH3: Area | BI3: Financing | BJ3: % | BK3: Construction | BL3: % | BM3: Reconstruction | BN3: % | BO3: Quantity of projects | BP3: Construction of new schools | BQ3: Reconstruction of existing schools | BR3: Number of jobs before | BS3: % | BT3: New teachers employed | BU3: % | BV3: New non-teaching staff employed | BW3: % | BX3: TOTAL STAFF | BY3: % | BZ3: Renovated seats | CA3: % | CB3: Additional seats created | CC3: % | CD3: Number of boys studying | CE3: % | CF3: Number of girls studying | CG3: % | CH3: Kids graduated | CI3: % | CJ3: People benefited from the projects | CK3: %
B4: 1 | C4: New kindergarten in "Toytepa" neighbourhood in Nurafshon | D4: Ministry of Preschool and School Education | E4: Tashkent region | F4: Исмоилова Мохидил Абдулатив қизи | G4: +99893 5920403 | H4: 44392 | I4: 44560 | J4: "Кухинур мадад хамрох" МЧЖ | K4: Private entity | L4: Construction | M4: Construction of a new kindergarten with 180 seats in "Toytepa" neighbourhood in Nurafshon, which will increase the level of coverage of children up to 3-6 years of age and create additional jobs | N4: Urban | O4: 6211.639 | P4: 0 | Q4: 0 | R4: Construction of a new building | S4: 0 | T4: 1133 | U4: 180 | V4: 12 | W4: 19 | X4: 95 | Y4: 85 | Z4: 40 | AA4: =+Z4 -> 40 | AB4: 2074 | AD4: Andijan | AE4: =+SUMIFS($O$4:$O$38,$E$4:$E$38,AD4) -> 29426.822 | AF4: =+AE4/$AE$18 -> 0.15401129 | AG4: =+SUMIFS($O$4:$O$38,$E$4:$E$38,AD4,$N$4:$N$38,$N$8) -> 17929.393 | AH4: =+AG4/$AG$18 -> 0.15878359 | AI4: =+SUMIFS($O$4:$O$38,$E$4:$E$38,AD4,$N$4:$N$38,$N$4) -> 11497.429 | AJ4: =+AI4/$AI$18 -> 0.14711609 | AK4: =+SUMIFS($O$4:$O$38,$E$4:$E$38,AD4,$L$4:$L$38,$L$4) -> 0 | AL4: =+AK4/$AK$18 -> 0 | AM4: =+SUMIFS($O$4:$O$38,$E$4:$E$38,AD4,$L$4:$L$38,$L$5) -> 29426.822 | AN4: =+AM4/$AM$18 -> 0.23840229 | AO4: =+SUMIFS($Q$4:$Q$38,$E$4:$E$38,AD4) -> 189 | AP4: =+AQ4+AR4 -> 154 | AQ4: =+SUMIFS($V$4:$V$38,$E$4:$E$38,AD4) -> 87 | AR4: =+SUMIFS($W$4:$W$38,$E$4:$E$38,AD4) -> 67 | AS4: =+AO4+AP4 -> 343 | AT4: =+SUMIFS($P$4:$P$38,$E$4:$E$38,AD4) -> 834 | AU4: =+SUMIFS($U$4:$U$38,$E$4:$E$38,AD4) -> 1130 | AV4: =+SUM(AT4:AU4) -> 1964 | AW4: =+SUMIFS($X$4:$X$38,$E$4:$E$38,AD4)++SUMIFS($Y$4:$Y$38,$E$4:$E$38,AD4) -> 1566.29 | AX4: =+SUMIFS($X$4:$X$38,$E$4:$E$38,AD4)/AW4 -> 0.68965517 | AY4: =SUMIFS($Y$4:$Y$38,$E$4:$E$38,AD4)/AW4 -> 0.31034483 | AZ4: =+SUMIFS($S$4:$S$38,$E$4:$E$38,AD4) -> 3180 | BA4: =+SUMIFS($T$4:$T$38,$E$4:$E$38,AD4) -> 8740 | BB4: =+SUMIFS($Z$4:$Z$38,$E$4:$E$38,AD4) -> 810 | BC4: =+SUMIFS($AB$4:$AB$38,$E$4:$E$38,AD4) -> 22395 | BH4: Rural | BI4: =+SUMIFS($O$4:$O$38,$N$4:$N$38,BH4) -> 112917.17 | BJ4: =+BI4/$BI$6 -> 0.59097509 | BK4: =+SUMIFS($O$4:$O$38,$N$4:$N$38,BH4,$L$4:$L$38,$BK$3) -> 44994.311 | BL4: =+BK4/$BK$6 -> 0.66524424 | BM4: =+SUMIFS($O$4:$O$38,$N$4:$N$38,BH4,$L$4:$L$38,$BM$3) -> 67922.856 | BN4: =+BM4/$BM$6 -> 0.55027906 | BO4: =+COUNTIFS($N$4:$N$38,BH4) -> 22 | BP4: =+COUNTIFS($N$4:$N$38,BH4,$L$4:$L$38,$BK$3) -> 8 | BQ4: =+COUNTIFS($N$4:$N$38,BH4,$L$4:$L$38,$BM$3) -> 14 | BR4: =+SUMIFS($Q$4:$Q$38,$N$4:$N$38,BH4) -> 449.34 | BS4: =+BR4/BR6 -> 0.51041643 | BT4: =+SUMIFS($V$4:$V$38,$N$4:$N$38,BH4) -> 322 | BU4: =+BT4/BT6 -> 0.66528926 | BV4: =+SUMIFS($W$4:$W$38,$N$4:$N$38,BH4) -> 210 | BW4: =+BV4/BV6 -> 0.6402439 | BX4: =+BR4+BT4+BV4 -> 981.34 | BY4: =+BX4/BX6 -> 0.57987166 | BZ4: =+SUMIFS($P$4:$P$38,$N$4:$N$38,BH4) -> 1849 | CA4: =+BZ4/BZ6 -> 0.43981922 | CB4: =+SUMIFS($U$4:$U$38,$N$4:$N$38,BH4) -> 2830 | CC4: =+CB4/CB6 -> 0.66745283 | CD4: =+SUMIFS($X$4:$X$38,$N$4:$N$38,BH4) -> 2345.45 | CE4: =+CD4/CD6 -> 0.56459728 | CF4: =+SUMIFS($Y$4:$Y$38,$N$4:$N$38,BH4) -> 1970.0525 | CG4: =+CF4/CF6 -> 0.56756019 | CH4: =+SUMIFS($Z$4:$Z$38,$N$4:$N$38,BH4) -> 2767 | CI4: =+CH4/CH6 -> 0.68574969 | CJ4: =+SUMIFS($AB$4:$AB$38,$N$4:$N$38,BH4) -> 78872 | CK4: =+CJ4/CJ6 -> 0.59020908
B5: =+B4+1 -> 2 | C5: Kindergarten No. 33 in Chirchik city | D5: Ministry of Preschool and School Education | E5: Tashkent region | F5: Махмудов Музафар | G5: +998901197710 | H5: 44349 | I5: 44560 | J5: Ризо КТХФ | K5: Private entity | L5: Reconstruction | M5: Reconstruction of kindergarten No. 33 in Chirchik city, which will increase the level of coverage of children up to 3-6 years of age and create additional jobs | N5: Urban | O5: 5498.699 | P5: 140 | Q5: 28 | R5: Renovation of existing building and Construction of additional new building | S5: 1560 | T5: 1769 | U5: 100 | V5: 19 | W5: 1 | X5: 108 | Y5: 94 | Z5: 65 | AA5: =+Z5 -> 65 | AB5: 2388 | AD5: Bukhara | AE5: =+SUMIFS($O$4:$O$38,$E$4:$E$38,AD5) -> 7461.6853 | AF5: =+AE5/$AE$18 -> 0.039052256 | AG5: =+SUMIFS($O$4:$O$38,$E$4:$E$38,AD5,$N$4:$N$38,$N$8) -> 7461.6853 | AH5: =+AG5/$AG$18 -> 0.066081053 | AI5: =+SUMIFS($O$4:$O$38,$E$4:$E$38,AD5,$N$4:$N$38,$N$4) -> 0 | AJ5: =+AI5/$AI$18 -> 0 | AK5: =+SUMIFS($O$4:$O$38,$E$4:$E$38,AD5,$L$4:$L$38,$L$4) -> 0 | AL5: =+AK5/$AK$18 -> 0 | AM5: =+SUMIFS($O$4:$O$38,$E$4:$E$38,AD5,$L$4:$L$38,$L$5) -> 7461.6853 | AN5: =+AM5/$AM$18 -> 0.060451068 | AO5: =+SUMIFS($Q$4:$Q$38,$E$4:$E$38,AD5) -> 47 | AP5: =+AQ5+AR5 -> 16 | AQ5: =+SUMIFS($V$4:$V$38,$E$4:$E$38,AD5) -> 11 | AR5: =+SUMIFS($W$4:$W$38,$E$4:$E$38,AD5) -> 5 | AS5: =+AO5+AP5 -> 63 | AT5: =+SUMIFS($P$4:$P$38,$E$4:$E$38,AD5) -> 180 | AU5: =+SUMIFS($U$4:$U$38,$E$4:$E$38,AD5) -> 120 | AV5: =+SUM(AT5:AU5) -> 300 | AW5: =+SUMIFS($X$4:$X$38,$E$4:$E$38,AD5)++SUMIFS($Y$4:$Y$38,$E$4:$E$38,AD5) -> 300 | AX5: =+SUMIFS($X$4:$X$38,$E$4:$E$38,AD5)/AW5 -> 0.45333333 | AY5: =SUMIFS($Y$4:$Y$38,$E$4:$E$38,AD5)/AW5 -> 0.54666667 | AZ5: =+SUMIFS($S$4:$S$38,$E$4:$E$38,AD5) -> 2112 | BA5: =+SUMIFS($T$4:$T$38,$E$4:$E$38,AD5) -> 2485.9 | BB5: =+SUMIFS($Z$4:$Z$38,$E$4:$E$38,AD5) -> 355 | BC5: =+SUMIFS($AB$4:$AB$38,$E$4:$E$38,AD5) -> 9771 | BH5: Urban | BI5: =+SUMIFS($O$4:$O$38,$N$4:$N$38,BH5) -> 78152.083 | BJ5: =+BI5/$BI$6 -> 0.40902491 | BK5: =+SUMIFS($O$4:$O$38,$N$4:$N$38,BH5,$L$4:$L$38,$BK$3) -> 22641.466 | BL5: =+BK5/$BK$6 -> 0.33475576 | BM5: =+SUMIFS($O$4:$O$38,$N$4:$N$38,BH5,$L$4:$L$38,$BM$3) -> 55510.617 | BN5: =+BM5/$BM$6 -> 0.44972094 | BO5: =+COUNTIFS($N$4:$N$38,BH5) -> 13 | BP5: =+COUNTIFS($N$4:$N$38,BH5,$L$4:$L$38,$BK$3) -> 4 | BQ5: =+COUNTIFS($N$4:$N$38,BH5,$L$4:$L$38,$BM$3) -> 9 | BR5: =+SUMIFS($Q$4:$Q$38,$N$4:$N$38,BH5) -> 431 | BS5: =+BR5/BR6 -> 0.48958357 | BT5: =+SUMIFS($V$4:$V$38,$N$4:$N$38,BH5) -> 162 | BU5: =+BT5/BT6 -> 0.33471074 | BV5: =+SUMIFS($W$4:$W$38,$N$4:$N$38,BH5) -> 118 | BW5: =+BV5/BV6 -> 0.3597561 | BX5: =+BR5+BT5+BV5 -> 711 | BY5: =+BX5/BX6 -> 0.42012834 | BZ5: =+SUMIFS($P$4:$P$38,$N$4:$N$38,BH5) -> 2355 | CA5: =+BZ5/BZ6 -> 0.56018078 | CB5: =+SUMIFS($U$4:$U$38,$N$4:$N$38,BH5) -> 1410 | CC5: =+CB5/CB6 -> 0.33254717 | CD5: =+SUMIFS($X$4:$X$38,$N$4:$N$38,BH5) -> 1808.75 | CE5: =+CD5/CD6 -> 0.43540272 | CF5: =+SUMIFS($Y$4:$Y$38,$N$4:$N$38,BH5) -> 1501.0375 | CG5: =+CF5/CF6 -> 0.43243981 | CH5: =+SUMIFS($Z$4:$Z$38,$N$4:$N$38,BH5) -> 1268 | CI5: =+CH5/CH6 -> 0.31425031 | CJ5: =+SUMIFS($AB$4:$AB$38,$N$4:$N$38,BH5) -> 54762 | CK5: =+CJ5/CJ6 -> 0.40979092
B6: =+B5+1 -> 3 | C6: Kindergarten No. 8 in Yangiyol city | D6: Ministry of Preschool and School Education | E6: Tashkent region | F6: Махатов Абдували | G6: +998976096700 | H6: 44420 | I6: 44560 | J6: ООО "Нурафшон замин гавхари" | K6: Private entity | L6: Reconstruction | M6: Reconstruction of kindergarten No. 8 in Yangiyol city, in which the level of coverage of children aged 3-6 years will be increased and additional jobs will be created | N6: Urban | O6: 5230.564 | P6: 180 | Q6: 27 | R6: Renovation of an existing building | S6: 1498.9 | T6: 1498.9 | U6: 30 | V6: 9 | W6: 2 | X6: 70 | Y6: 73 | Z6: 27 | AA6: =+Z6 -> 27 | AB6: 2531 | AD6: Fergana | AE6: =+SUMIFS($O$4:$O$38,$E$4:$E$38,AD6) -> 20775.205 | AF6: =+AE6/$AE$18 -> 0.10873129 | AG6: =+SUMIFS($O$4:$O$38,$E$4:$E$38,AD6,$N$4:$N$38,$N$8) -> 7267.6381 | AH6: =+AG6/$AG$18 -> 0.064362562 | AI6: =+SUMIFS($O$4:$O$38,$E$4:$E$38,AD6,$N$4:$N$38,$N$4) -> 13507.567 | AJ6: =+AI6/$AI$18 -> 0.17283694 | AK6: =+SUMIFS($O$4:$O$38,$E$4:$E$38,AD6,$L$4:$L$38,$L$4) -> 7267.6381 | AL6: =+AK6/$AK$18 -> 0.10745257 | AM6: =+SUMIFS($O$4:$O$38,$E$4:$E$38,AD6,$L$4:$L$38,$L$5) -> 13507.567 | AN6: =+AM6/$AM$18 -> 0.10943196 | AO6: =+SUMIFS($Q$4:$Q$38,$E$4:$E$38,AD6) -> 118 | AP6: =+AQ6+AR6 -> 44 | AQ6: =+SUMIFS($V$4:$V$38,$E$4:$E$38,AD6) -> 32 | AR6: =+SUMIFS($W$4:$W$38,$E$4:$E$38,AD6) -> 12 | AS6: =+AO6+AP6 -> 162 | AT6: =+SUMIFS($P$4:$P$38,$E$4:$E$38,AD6) -> 640 | AU6: =+SUMIFS($U$4:$U$38,$E$4:$E$38,AD6) -> 260 | AV6: =+SUM(AT6:AU6) -> 900 | AW6: =+SUMIFS($X$4:$X$38,$E$4:$E$38,AD6)++SUMIFS($Y$4:$Y$38,$E$4:$E$38,AD6) -> 869 | AX6: =+SUMIFS($X$4:$X$38,$E$4:$E$38,AD6)/AW6 -> 0.51783659 | AY6: =SUMIFS($Y$4:$Y$38,$E$4:$E$38,AD6)/AW6 -> 0.48216341 | AZ6: =+SUMIFS($S$4:$S$38,$E$4:$E$38,AD6) -> 3376.9 | BA6: =+SUMIFS($T$4:$T$38,$E$4:$E$38,AD6) -> 6091.13 | BB6: =+SUMIFS($Z$4:$Z$38,$E$4:$E$38,AD6) -> 580 | BC6: =+SUMIFS($AB$4:$AB$38,$E$4:$E$38,AD6) -> 13309 | BI6: =+SUM(BI4:BI5) -> 191069.25 | BK6: =+SUM(BK4:BK5) -> 67635.777 | BM6: =+SUM(BM4:BM5) -> 123433.47 | BO6: =+SUM(BO4:BO5) -> 35 | BP6: =+SUM(BP4:BP5) -> 12 | BQ6: =+SUM(BQ4:BQ5) -> 23 | BR6: =+SUM(BR4:BR5) -> 880.34 | BT6: =+SUM(BT4:BT5) -> 484 | BV6: =+SUM(BV4:BV5) -> 328 | BX6: =+SUM(BX4:BX5) -> 1692.34 | BZ6: =+SUM(BZ4:BZ5) -> 4204 | CB6: =+SUM(CB4:CB5) -> 4240 | CD6: =+SUM(CD4:CD5) -> 4154.2 | CF6: =+SUM(CF4:CF5) -> 3471.09 | CH6: =+SUM(CH4:CH5) -> 4035 | CJ6: =+SUM(CJ4:CJ5) -> 133634
B7: =+B6+1 -> 4 | C7: Kindergarten No. 5 in Chirchik city | D7: Ministry of Preschool and School Education | E7: Tashkent region | F7: Махмудов Музафар | G7: +998901197710 | H7: 44438 | I7: 44560 | J7: OOO DZ Inshoat Service | K7: Private entity | L7: Reconstruction | M7: Reconstruction of kindergarten No. 5 in Chirchik city, where the level of coverage of children up to 3-6 years of age will be increased and additional jobs will be created | N7: Urban | O7: 6306.0741 | P7: 280 | Q7: 58 | R7: Renovation of existing building and Construction of additional new building | S7: 1150 | T7: 1669 | U7: 80 | V7: 12 | W7: 1 | X7: 131 | Y7: 137 | Z7: 87 | AA7: =+Z7 -> 87 | AB7: 2910 | AD7: Jizzakh | AE7: =+SUMIFS($O$4:$O$38,$E$4:$E$38,AD7) -> 7620.5777 | AF7: =+AE7/$AE$18 -> 0.039883852 | AG7: =+SUMIFS($O$4:$O$38,$E$4:$E$38,AD7,$N$4:$N$38,$N$8) -> 7620.5777 | AH7: =+AG7/$AG$18 -> 0.067488212 | AI7: =+SUMIFS($O$4:$O$38,$E$4:$E$38,AD7,$N$4:$N$38,$N$4) -> 0 | AJ7: =+AI7/$AI$18 -> 0 | AK7: =+SUMIFS($O$4:$O$38,$E$4:$E$38,AD7,$L$4:$L$38,$L$4) -> 0 | AL7: =+AK7/$AK$18 -> 0 | AM7: =+SUMIFS($O$4:$O$38,$E$4:$E$38,AD7,$L$4:$L$38,$L$5) -> 7620.5777 | AN7: =+AM7/$AM$18 -> 0.06173834 | AO7: =+SUMIFS($Q$4:$Q$38,$E$4:$E$38,AD7) -> 59 | AP7: =+AQ7+AR7 -> 36 | AQ7: =+SUMIFS($V$4:$V$38,$E$4:$E$38,AD7) -> 23 | AR7: =+SUMIFS($W$4:$W$38,$E$4:$E$38,AD7) -> 13 | AS7: =+AO7+AP7 -> 95 | AT7: =+SUMIFS($P$4:$P$38,$E$4:$E$38,AD7) -> 195 | AU7: =+SUMIFS($U$4:$U$38,$E$4:$E$38,AD7) -> 195 | AV7: =+SUM(AT7:AU7) -> 390 | AW7: =+SUMIFS($X$4:$X$38,$E$4:$E$38,AD7)++SUMIFS($Y$4:$Y$38,$E$4:$E$38,AD7) -> 270 | AX7: =+SUMIFS($X$4:$X$38,$E$4:$E$38,AD7)/AW7 -> 0.57777778 | AY7: =SUMIFS($Y$4:$Y$38,$E$4:$E$38,AD7)/AW7 -> 0.42222222 | AZ7: =+SUMIFS($S$4:$S$38,$E$4:$E$38,AD7) -> 8283.18 | BA7: =+SUMIFS($T$4:$T$38,$E$4:$E$38,AD7) -> 11045.18 | BB7: =+SUMIFS($Z$4:$Z$38,$E$4:$E$38,AD7) -> 90 | BC7: =+SUMIFS($AB$4:$AB$38,$E$4:$E$38,AD7) -> 3760 | BI7: =+BI6=O39 -> TRUE | BK7: =+BK6=AK18 -> TRUE | BM7: =+BM6=AM18 -> TRUE | BO7: =+BO6=B38 -> TRUE | BQ7: =+BP6+BQ6=BO6 -> TRUE | BR7: =+BR6=Q39 -> TRUE | BT7: =+BT6=V39 -> TRUE | BV7: =+BV6=W39 -> TRUE | BX7: =+BX6=AS18 -> TRUE | BZ7: =+BZ6=P39 -> TRUE | CB7: =+CB6=U39 -> TRUE | CD7: =+CD6=X39 -> TRUE | CF7: =+CF6=Y39 -> TRUE | CH7: =+CH6=Z39 -> TRUE | CJ7: =+CJ6=AB39 -> TRUE
B8: =+B7+1 -> 5 | C8: Kindergarten No. 22 in Jondor district | D8: Ministry of Preschool and School Education | E8: Bukhara | F8: Избосаров Ахтам Абдукарим угли Ҳикматов Файзилло Сайфуллович (ғазначилик) | G8: 93-453-82-36 93-476-03-61 | H8: 11.05.2021 | I8: 11.10.2021 | J8: "Қурилиш стандарт таъминот сервис" МЧЖ | K8: Private entity | L8: Reconstruction | M8: Reconstruction of kindergarten No. 22 in Jondor district, which will increase the level of coverage of children up to 3-6 years old and create additional jobs | N8: Rural | O8: 3705.8767 | P8: 90 | Q8: 23 | R8: Renovation of existing building and Construction of additional new building | S8: 804 | T8: 1177.9 | U8: 60 | V8: 6 | W8: 1 | X8: 59 | Y8: 91 | Z8: 175 | AA8: =+Z8 -> 175 | AB8: 2851 | AD8: Kashkadarya | AE8: =+SUMIFS($O$4:$O$38,$E$4:$E$38,AD8) -> 8670.1375 | AF8: =+AE8/$AE$18 -> 0.045376938 | AG8: =+SUMIFS($O$4:$O$38,$E$4:$E$38,AD8,$N$4:$N$38,$N$8) -> 8670.1375 | AH8: =+AG8/$AG$18 -> 0.076783165 | AI8: =+SUMIFS($O$4:$O$38,$E$4:$E$38,AD8,$N$4:$N$38,$N$4) -> 0 | AJ8: =+AI8/$AI$18 -> 0 | AK8: =+SUMIFS($O$4:$O$38,$E$4:$E$38,AD8,$L$4:$L$38,$L$4) -> 0 | AL8: =+AK8/$AK$18 -> 0 | AM8: =+SUMIFS($O$4:$O$38,$E$4:$E$38,AD8,$L$4:$L$38,$L$5) -> 8670.1375 | AN8: =+AM8/$AM$18 -> 0.07024138 | AO8: =+SUMIFS($Q$4:$Q$38,$E$4:$E$38,AD8) -> 97 | AP8: =+AQ8+AR8 -> 14 | AQ8: =+SUMIFS($V$4:$V$38,$E$4:$E$38,AD8) -> 11 | AR8: =+SUMIFS($W$4:$W$38,$E$4:$E$38,AD8) -> 3 | AS8: =+AO8+AP8 -> 111 | AT8: =+SUMIFS($P$4:$P$38,$E$4:$E$38,AD8) -> 235 | AU8: =+SUMIFS($U$4:$U$38,$E$4:$E$38,AD8) -> 95 | AV8: =+SUM(AT8:AU8) -> 330 | AW8: =+SUMIFS($X$4:$X$38,$E$4:$E$38,AD8)++SUMIFS($Y$4:$Y$38,$E$4:$E$38,AD8) -> 330 | AX8: =+SUMIFS($X$4:$X$38,$E$4:$E$38,AD8)/AW8 -> 0.49090909 | AY8: =SUMIFS($Y$4:$Y$38,$E$4:$E$38,AD8)/AW8 -> 0.50909091 | AZ8: =+SUMIFS($S$4:$S$38,$E$4:$E$38,AD8) -> 1330 | BA8: =+SUMIFS($T$4:$T$38,$E$4:$E$38,AD8) -> 2454 | BB8: =+SUMIFS($Z$4:$Z$38,$E$4:$E$38,AD8) -> 210 | BC8: =+SUMIFS($AB$4:$AB$38,$E$4:$E$38,AD8) -> 9238
B9: =+B8+1 -> 6 | C9: Kindergarten No. 18 in Bukhara district | D9: Ministry of Preschool and School Education | E9: Bukhara | F9: Одилова Маржона Собировна Каримов Набижон Олимович (ғазначилик) | G9: 91-412-02-58 91-413-99-95 | H9: 44348 | I9: 44489 | J9: Бухоро Гидро Техника МЧЖ | K9: Private entity | L9: Reconstruction | M9: Reconstruction of kindergarten No. 18 in Bukhara district, which will increase the level of coverage of children up to 3-6 years old and create additional jobs | N9: Rural | O9: 3755.8086 | P9: 90 | Q9: 24 | R9: Renovation of an existing building | S9: 1308 | T9: 1308 | U9: 60 | V9: 5 | W9: 4 | X9: 77 | Y9: 73 | Z9: 180 | AA9: =+Z9 -> 180 | AB9: 6920 | AD9: Kharezm | AE9: =+SUMIFS($O$4:$O$38,$E$4:$E$38,AD9) -> 14609.267 | AF9: =+AE9/$AE$18 -> 0.076460584 | AG9: =+SUMIFS($O$4:$O$38,$E$4:$E$38,AD9,$N$4:$N$38,$N$8) -> 7324.4307 | AH9: =+AG9/$AG$18 -> 0.06486552 | AI9: =+SUMIFS($O$4:$O$38,$E$4:$E$38,AD9,$N$4:$N$38,$N$4) -> 7284.8358 | AJ9: =+AI9/$AI$18 -> 0.093213584 | AK9: =+SUMIFS($O$4:$O$38,$E$4:$E$38,AD9,$L$4:$L$38,$L$4) -> 0 | AL9: =+AK9/$AK$18 -> 0 | AM9: =+SUMIFS($O$4:$O$38,$E$4:$E$38,AD9,$L$4:$L$38,$L$5) -> 14609.267 | AN9: =+AM9/$AM$18 -> 0.11835741 | AO9: =+SUMIFS($Q$4:$Q$38,$E$4:$E$38,AD9) -> 105 | AP9: =+AQ9+AR9 -> 20 | AQ9: =+SUMIFS($V$4:$V$38,$E$4:$E$38,AD9) -> 15 | AR9: =+SUMIFS($W$4:$W$38,$E$4:$E$38,AD9) -> 5 | AS9: =+AO9+AP9 -> 125 | AT9: =+SUMIFS($P$4:$P$38,$E$4:$E$38,AD9) -> 600 | AU9: =+SUMIFS($U$4:$U$38,$E$4:$E$38,AD9) -> 120 | AV9: =+SUM(AT9:AU9) -> 720 | AW9: =+SUMIFS($X$4:$X$38,$E$4:$E$38,AD9)++SUMIFS($Y$4:$Y$38,$E$4:$E$38,AD9) -> 607 | AX9: =+SUMIFS($X$4:$X$38,$E$4:$E$38,AD9)/AW9 -> 0.51400329 | AY9: =SUMIFS($Y$4:$Y$38,$E$4:$E$38,AD9)/AW9 -> 0.48599671 | AZ9: =+SUMIFS($S$4:$S$38,$E$4:$E$38,AD9) -> 2559.73 | BA9: =+SUMIFS($T$4:$T$38,$E$4:$E$38,AD9) -> 2559.73 | BB9: =+SUMIFS($Z$4:$Z$38,$E$4:$E$38,AD9) -> 343 | BC9: =+SUMIFS($AB$4:$AB$38,$E$4:$E$38,AD9) -> 5853
B10: =+B9+1 -> 7 | C10: New kindergarten in "New Zarafshon" neighbourhood in Zarafshon | D10: Ministry of Preschool and School Education | E10: Navoi | F10: Сатторов Руслан | G10: 97-377-71-50 | H10: 14.04.2021й | I10: 15.05.2021 й | J10: «BINOKOR» МЧЖ | K10: Private entity | L10: Construction | M10: Construction of a new kindergarten with 120 beds in "New Zarafshon" neighbourhood in Zarafshon, which will increase the level of coverage of children up to 3-6 years of age and create additional jobs | N10: Urban | O10: 4017.3876 | P10: 0 | Q10: 0 | R10: Construction of a new building | S10: 0 | T10: 1276 | U10: 120 | V10: 11 | W10: 17 | X10: 59 | Y10: 57 | Z10: 42 | AA10: =+Z10 -> 42 | AB10: 6889 | AD10: Namangan | AE10: =+SUMIFS($O$4:$O$38,$E$4:$E$38,AD10) -> 38131.485 | AF10: =+AE10/$AE$18 -> 0.19956892 | AG10: =+SUMIFS($O$4:$O$38,$E$4:$E$38,AD10,$N$4:$N$38,$N$8) -> 25719.045 | AH10: =+AG10/$AG$18 -> 0.22776913 | AI10: =+SUMIFS($O$4:$O$38,$E$4:$E$38,AD10,$N$4:$N$38,$N$4) -> 12412.439 | AJ10: =+AI10/$AI$18 -> 0.15882417 | AK10: =+SUMIFS($O$4:$O$38,$E$4:$E$38,AD10,$L$4:$L$38,$L$4) -> 38131.485 | AL10: =+AK10/$AK$18 -> 0.56377684 | AM10: =+SUMIFS($O$4:$O$38,$E$4:$E$38,AD10,$L$4:$L$38,$L$5) -> 0 | AN10: =+AM10/$AM$18 -> 0 | AO10: =+SUMIFS($Q$4:$Q$38,$E$4:$E$38,AD10) -> 0 | AP10: =+AQ10+AR10 -> 241 | AQ10: =+SUMIFS($V$4:$V$38,$E$4:$E$38,AD10) -> 127 | AR10: =+SUMIFS($W$4:$W$38,$E$4:$E$38,AD10) -> 114 | AS10: =+AO10+AP10 -> 241 | AT10: =+SUMIFS($P$4:$P$38,$E$4:$E$38,AD10) -> 0 | AU10: =+SUMIFS($U$4:$U$38,$E$4:$E$38,AD10) -> 1110 | AV10: =+SUM(AT10:AU10) -> 1110 | AW10: =+SUMIFS($X$4:$X$38,$E$4:$E$38,AD10)++SUMIFS($Y$4:$Y$38,$E$4:$E$38,AD10) -> 1237 | AX10: =+SUMIFS($X$4:$X$38,$E$4:$E$38,AD10)/AW10 -> 0.51333872 | AY10: =SUMIFS($Y$4:$Y$38,$E$4:$E$38,AD10)/AW10 -> 0.48666128 | AZ10: =+SUMIFS($S$4:$S$38,$E$4:$E$38,AD10) -> 0 | BA10: =+SUMIFS($T$4:$T$38,$E$4:$E$38,AD10) -> 17197 | BB10: =+SUMIFS($Z$4:$Z$38,$E$4:$E$38,AD10) -> 399 | BC10: =+SUMIFS($AB$4:$AB$38,$E$4:$E$38,AD10) -> 17505
B11: =+B10+1 -> 8 | C11: Kindergarten No. 14 in Andijan district | D11: Ministry of Preschool and School Education | E11: Andijan | F11: Жураев Акбаржон | G11: 91 4800040 | H11: 44306 | I11: 44561 | J11: Азимут строй МЧЖ | K11: Private entity | L11: Reconstruction | M11: Reconstruction of kindergarten No. 14 in Andijan district, the level of coverage of children up to 3-6 years will be increased and additional jobs will be created | N11: Rural | O11: 6192.1926 | P11: 175 | Q11: 35 | R11: Renovation of existing building and Construction of additional new building | S11: 500 | T11: 1500 | U11: 240 | V11: 18 | W11: 12 | X11: 228.25 | Y11: 102.7125 | Z11: 180 | AA11: =+Z11 -> 180 | AB11: 4079 | AD11: Navoi | AE11: =+SUMIFS($O$4:$O$38,$E$4:$E$38,AD11) -> 4017.3876 | AF11: =+AE11/$AE$18 -> 0.021025819 | AG11: =+SUMIFS($O$4:$O$38,$E$4:$E$38,AD11,$N$4:$N$38,$N$8) -> 0 | AH11: =+AG11/$AG$18 -> 0 | AI11: =+SUMIFS($O$4:$O$38,$E$4:$E$38,AD11,$N$4:$N$38,$N$4) -> 4017.3876 | AJ11: =+AI11/$AI$18 -> 0.051404741 | AK11: =+SUMIFS($O$4:$O$38,$E$4:$E$38,AD11,$L$4:$L$38,$L$4) -> 4017.3876 | AL11: =+AK11/$AK$18 -> 0.059397375 | AM11: =+SUMIFS($O$4:$O$38,$E$4:$E$38,AD11,$L$4:$L$38,$L$5) -> 0 | AN11: =+AM11/$AM$18 -> 0 | AO11: =+SUMIFS($Q$4:$Q$38,$E$4:$E$38,AD11) -> 0 | AP11: =+AQ11+AR11 -> 28 | AQ11: =+SUMIFS($V$4:$V$38,$E$4:$E$38,AD11) -> 11 | AR11: =+SUMIFS($W$4:$W$38,$E$4:$E$38,AD11) -> 17 | AS11: =+AO11+AP11 -> 28 | AT11: =+SUMIFS($P$4:$P$38,$E$4:$E$38,AD11) -> 0 | AU11: =+SUMIFS($U$4:$U$38,$E$4:$E$38,AD11) -> 120 | AV11: =+SUM(AT11:AU11) -> 120 | AW11: =+SUMIFS($X$4:$X$38,$E$4:$E$38,AD11)++SUMIFS($Y$4:$Y$38,$E$4:$E$38,AD11) -> 116 | AX11: =+SUMIFS($X$4:$X$38,$E$4:$E$38,AD11)/AW11 -> 0.50862069 | AY11: =SUMIFS($Y$4:$Y$38,$E$4:$E$38,AD11)/AW11 -> 0.49137931 | AZ11: =+SUMIFS($S$4:$S$38,$E$4:$E$38,AD11) -> 0 | BA11: =+SUMIFS($T$4:$T$38,$E$4:$E$38,AD11) -> 1276 | BB11: =+SUMIFS($Z$4:$Z$38,$E$4:$E$38,AD11) -> 42 | BC11: =+SUMIFS($AB$4:$AB$38,$E$4:$E$38,AD11) -> 6889
B12: =+B11+1 -> 9 | C12: Kindergarten No. 38 in Andijan city | D12: Ministry of Preschool and School Education | E12: Andijan | F12: Артиков Сардор | G12: 88 2171777 | H12: 44256 | I12: 44555 | J12: "Шодлик Гранд Хаус" МЧЖ | K12: Private entity | L12: Reconstruction | M12: Reconstruction of kindergarten No. 38 in the Andijan city, in which the level of coverage of children aged 3-6 years will be increased and additional jobs will be created | N12: Urban | O12: 5449.2225 | P12: 220 | Q12: 54 | R12: Renovation of existing building and Construction of additional new building | S12: 650 | T12: 2150 | U12: 280 | V12: 19 | W12: 14 | X12: 275 | Y12: 123.75 | Z12: 74 | AA12: =+Z12 -> 74 | AB12: 6800 | AD12: Republic of Karakalpakistan | AE12: =+SUMIFS($O$4:$O$38,$E$4:$E$38,AD12) -> 7016.5955 | AF12: =+AE12/$AE$18 -> 0.036722788 | AG12: =+SUMIFS($O$4:$O$38,$E$4:$E$38,AD12,$N$4:$N$38,$N$8) -> 7016.5955 | AH12: =+AG12/$AG$18 -> 0.062139316 | AI12: =+SUMIFS($O$4:$O$38,$E$4:$E$38,AD12,$N$4:$N$38,$N$4) -> 0 | AJ12: =+AI12/$AI$18 -> 0 | AK12: =+SUMIFS($O$4:$O$38,$E$4:$E$38,AD12,$L$4:$L$38,$L$4) -> 7016.5955 | AL12: =+AK12/$AK$18 -> 0.10374089 | AM12: =+SUMIFS($O$4:$O$38,$E$4:$E$38,AD12,$L$4:$L$38,$L$5) -> 0 | AN12: =+AM12/$AM$18 -> 0 | AO12: =+SUMIFS($Q$4:$Q$38,$E$4:$E$38,AD12) -> 0 | AP12: =+AQ12+AR12 -> 57 | AQ12: =+SUMIFS($V$4:$V$38,$E$4:$E$38,AD12) -> 49 | AR12: =+SUMIFS($W$4:$W$38,$E$4:$E$38,AD12) -> 8 | AS12: =+AO12+AP12 -> 57 | AT12: =+SUMIFS($P$4:$P$38,$E$4:$E$38,AD12) -> 0 | AU12: =+SUMIFS($U$4:$U$38,$E$4:$E$38,AD12) -> 240 | AV12: =+SUM(AT12:AU12) -> 240 | AW12: =+SUMIFS($X$4:$X$38,$E$4:$E$38,AD12)++SUMIFS($Y$4:$Y$38,$E$4:$E$38,AD12) -> 237 | AX12: =+SUMIFS($X$4:$X$38,$E$4:$E$38,AD12)/AW12 -> 0.45147679 | AY12: =SUMIFS($Y$4:$Y$38,$E$4:$E$38,AD12)/AW12 -> 0.54852321 | AZ12: =+SUMIFS($S$4:$S$38,$E$4:$E$38,AD12) -> 0 | BA12: =+SUMIFS($T$4:$T$38,$E$4:$E$38,AD12) -> 1700 | BB12: =+SUMIFS($Z$4:$Z$38,$E$4:$E$38,AD12) -> 132 | BC12: =+SUMIFS($AB$4:$AB$38,$E$4:$E$38,AD12) -> 9052
B13: =+B12+1 -> 10 | C13: Kindergarten No. 35 in Andijan city | D13: Ministry of Preschool and School Education | E13: Andijan | F13: Абдуллаев Донёр | G13: 90 7725069 | H13: 44379 | I13: 44554 | J13: "Андижон Тезкор Курилиш" МЧЖ | K13: Private entity | L13: Reconstruction | M13: Reconstruction of kindergarten No. 35 in Andijan city, in which the level of coverage of children aged 3-6 years will be increased and additional jobs will be created | N13: Urban | O13: 6048.2066 | P13: 175 | Q13: 32 | R13: Renovation of existing building and Construction of additional new building | S13: 320 | T13: 1520 | U13: 210 | V13: 17 | W13: 11 | X13: 211.75 | Y13: 95.2875 | Z13: 66 | AA13: =+Z13 -> 66 | AB13: 3500 | AD13: Samarkand | AE13: =+SUMIFS($O$4:$O$38,$E$4:$E$38,AD13) -> 9627.8685 | AF13: =+AE13/$AE$18 -> 0.050389419 | AG13: =+SUMIFS($O$4:$O$38,$E$4:$E$38,AD13,$N$4:$N$38,$N$8) -> 9627.8685 | AH13: =+AG13/$AG$18 -> 0.085264878 | AI13: =+SUMIFS($O$4:$O$38,$E$4:$E$38,AD13,$N$4:$N$38,$N$4) -> 0 | AJ13: =+AI13/$AI$18 -> 0 | AK13: =+SUMIFS($O$4:$O$38,$E$4:$E$38,AD13,$L$4:$L$38,$L$4) -> 0 | AL13: =+AK13/$AK$18 -> 0 | AM13: =+SUMIFS($O$4:$O$38,$E$4:$E$38,AD13,$L$4:$L$38,$L$5) -> 9627.8685 | AN13: =+AM13/$AM$18 -> 0.078000466 | AO13: =+SUMIFS($Q$4:$Q$38,$E$4:$E$38,AD13) -> 52 | AP13: =+AQ13+AR13 -> 58 | AQ13: =+SUMIFS($V$4:$V$38,$E$4:$E$38,AD13) -> 27 | AR13: =+SUMIFS($W$4:$W$38,$E$4:$E$38,AD13) -> 31 | AS13: =+AO13+AP13 -> 110 | AT13: =+SUMIFS($P$4:$P$38,$E$4:$E$38,AD13) -> 280 | AU13: =+SUMIFS($U$4:$U$38,$E$4:$E$38,AD13) -> 230 | AV13: =+SUM(AT13:AU13) -> 510 | AW13: =+SUMIFS($X$4:$X$38,$E$4:$E$38,AD13)++SUMIFS($Y$4:$Y$38,$E$4:$E$38,AD13) -> 535 | AX13: =+SUMIFS($X$4:$X$38,$E$4:$E$38,AD13)/AW13 -> 0.54205607 | AY13: =SUMIFS($Y$4:$Y$38,$E$4:$E$38,AD13)/AW13 -> 0.45794393 | AZ13: =+SUMIFS($S$4:$S$38,$E$4:$E$38,AD13) -> 1875 | BA13: =+SUMIFS($T$4:$T$38,$E$4:$E$38,AD13) -> 3189.18 | BB13: =+SUMIFS($Z$4:$Z$38,$E$4:$E$38,AD13) -> 390 | BC13: =+SUMIFS($AB$4:$AB$38,$E$4:$E$38,AD13) -> 9811
B14: =+B13+1 -> 11 | C14: Kindergarten No. 24 in Pakhtaabad district | D14: Ministry of Preschool and School Education | E14: Andijan | F14: Хошимов Даврон | G14: 99 4335353 | H14: 44288 | I14: 44374 | J14: Ферум декор МЧЖ | K14: Private entity | L14: Reconstruction | M14: Reconstruction of kindergarten No. 24 in Pakhtaabad District, which will increase the level of coverage of children up to 3-6 years of age and create additional jobs | N14: Rural | O14: 6477.4875 | P14: 180 | Q14: 50 | R14: Renovation of existing building and Construction of additional new building | S14: 1170 | T14: 1950 | U14: 120 | V14: 14 | W14: 16 | X14: 165 | Y14: 74.25 | Z14: 240 | AA14: =+Z14 -> 240 | AB14: 5560 | AD14: Sirdarya | AE14: =+SUMIFS($O$4:$O$38,$E$4:$E$38,AD14) -> 10400.492 | AF14: =+AE14/$AE$18 -> 0.054433104 | AG14: =+SUMIFS($O$4:$O$38,$E$4:$E$38,AD14,$N$4:$N$38,$N$8) -> 10400.492 | AH14: =+AG14/$AG$18 -> 0.092107274 | AI14: =+SUMIFS($O$4:$O$38,$E$4:$E$38,AD14,$N$4:$N$38,$N$4) -> 0 | AJ14: =+AI14/$AI$18 -> 0 | AK14: =+SUMIFS($O$4:$O$38,$E$4:$E$38,AD14,$L$4:$L$38,$L$4) -> 4991.0319 | AL14: =+AK14/$AK$18 -> 0.073792779 | AM14: =+SUMIFS($O$4:$O$38,$E$4:$E$38,AD14,$L$4:$L$38,$L$5) -> 5409.4605 | AN14: =+AM14/$AM$18 -> 0.043824907 | AO14: =+SUMIFS($Q$4:$Q$38,$E$4:$E$38,AD14) -> 26.34 | AP14: =+AQ14+AR14 -> 38 | AQ14: =+SUMIFS($V$4:$V$38,$E$4:$E$38,AD14) -> 25 | AR14: =+SUMIFS($W$4:$W$38,$E$4:$E$38,AD14) -> 13 | AS14: =+AO14+AP14 -> 64.34 | AT14: =+SUMIFS($P$4:$P$38,$E$4:$E$38,AD14) -> 140 | AU14: =+SUMIFS($U$4:$U$38,$E$4:$E$38,AD14) -> 190 | AV14: =+SUM(AT14:AU14) -> 330 | AW14: =+SUMIFS($X$4:$X$38,$E$4:$E$38,AD14)++SUMIFS($Y$4:$Y$38,$E$4:$E$38,AD14) -> 346 | AX14: =+SUMIFS($X$4:$X$38,$E$4:$E$38,AD14)/AW14 -> 0.46242775 | AY14: =SUMIFS($Y$4:$Y$38,$E$4:$E$38,AD14)/AW14 -> 0.53757225 | AZ14: =+SUMIFS($S$4:$S$38,$E$4:$E$38,AD14) -> 923.72 | BA14: =+SUMIFS($T$4:$T$38,$E$4:$E$38,AD14) -> 7365.77 | BB14: =+SUMIFS($Z$4:$Z$38,$E$4:$E$38,AD14) -> 255 | BC14: =+SUMIFS($AB$4:$AB$38,$E$4:$E$38,AD14) -> 9804
B15: =+B14+1 -> 12 | C15: Kindergarten No. 25 in Balıkchi district | D15: Ministry of Preschool and School Education | E15: Andijan | F15: Солиев Лутфилло | G15: 93 2502277 | H15: 43501 | I15: 43748 | J15: Иқтисослашган Шахрихон қурилиш МЧЖ | K15: Private entity | L15: Reconstruction | M15: Reconstruction of the former kindergarten No. 25 in Balıkchi district, which will increase the level of coverage of children up to 3-6 years of age and create additional jobs | N15: Rural | O15: 5259.713 | P15: 84 | Q15: 18 | R15: Renovation of existing building and Construction of additional new building | S15: 540 | T15: 1620 | U15: 280 | V15: 19 | W15: 14 | X15: 200.2 | Y15: 90.09 | Z15: 250 | AA15: =+Z15 -> 250 | AB15: 2456 | AD15: Surkhandarya | AE15: =+SUMIFS($O$4:$O$38,$E$4:$E$38,AD15) -> 3879.3029 | AF15: =+AE15/$AE$18 -> 0.020303125 | AG15: =+SUMIFS($O$4:$O$38,$E$4:$E$38,AD15,$N$4:$N$38,$N$8) -> 3879.3029 | AH15: =+AG15/$AG$18 -> 0.034355298 | AI15: =+SUMIFS($O$4:$O$38,$E$4:$E$38,AD15,$N$4:$N$38,$N$4) -> 0 | AJ15: =+AI15/$AI$18 -> 0 | AK15: =+SUMIFS($O$4:$O$38,$E$4:$E$38,AD15,$L$4:$L$38,$L$4) -> 0 | AL15: =+AK15/$AK$18 -> 0 | AM15: =+SUMIFS($O$4:$O$38,$E$4:$E$38,AD15,$L$4:$L$38,$L$5) -> 3879.3029 | AN15: =+AM15/$AM$18 -> 0.031428289 | AO15: =+SUMIFS($Q$4:$Q$38,$E$4:$E$38,AD15) -> 25 | AP15: =+AQ15+AR15 -> 6 | AQ15: =+SUMIFS($V$4:$V$38,$E$4:$E$38,AD15) -> 4 | AR15: =+SUMIFS($W$4:$W$38,$E$4:$E$38,AD15) -> 2 | AS15: =+AO15+AP15 -> 31 | AT15: =+SUMIFS($P$4:$P$38,$E$4:$E$38,AD15) -> 140 | AU15: =+SUMIFS($U$4:$U$38,$E$4:$E$38,AD15) -> 40 | AV15: =+SUM(AT15:AU15) -> 180 | AW15: =+SUMIFS($X$4:$X$38,$E$4:$E$38,AD15)++SUMIFS($Y$4:$Y$38,$E$4:$E$38,AD15) -> 90 | AX15: =+SUMIFS($X$4:$X$38,$E$4:$E$38,AD15)/AW15 -> 0.5 | AY15: =SUMIFS($Y$4:$Y$38,$E$4:$E$38,AD15)/AW15 -> 0.5 | AZ15: =+SUMIFS($S$4:$S$38,$E$4:$E$38,AD15) -> 1135 | BA15: =+SUMIFS($T$4:$T$38,$E$4:$E$38,AD15) -> 1289 | BB15: =+SUMIFS($Z$4:$Z$38,$E$4:$E$38,AD15) -> 50 | BC15: =+SUMIFS($AB$4:$AB$38,$E$4:$E$38,AD15) -> 1224
B16: =+B15+1 -> 13 | C16: New kindergarten in "Buzotov" neighbourhood in Bozotov district | D16: Ministry of Preschool and School Education | E16: Republic of Karakalpakistan | F16: Балтабаев Дамир | G16: +99897-500-99-88 | H16: 44263 | I16: 44484 | J16: Айдос Курылыс Монтаж | K16: Private entity | L16: Construction | M16: Construction of a new 120-seat kindergarten in Bozotov district, which will increase the level of coverage of children up to 3-6 years of age and create additional jobs | N16: Rural | O16: 3791.0101 | P16: 0 | Q16: 0 | R16: Construction of a new building | T16: 800 | U16: 120 | V16: 20 | W16: 4 | X16: 57 | Y16: 63 | Z16: 51 | AA16: =+Z16 -> 51 | AB16: 5552 | AD16: Tashkent city | AE16: =+SUMIFS($O$4:$O$38,$E$4:$E$38,AD16) -> 6185.448 | AF16: =+AE16/$AE$18 -> 0.032372807 | AG16: =+SUMIFS($O$4:$O$38,$E$4:$E$38,AD16,$N$4:$N$38,$N$8) -> 0 | AH16: =+AG16/$AG$18 -> 0 | AI16: =+SUMIFS($O$4:$O$38,$E$4:$E$38,AD16,$N$4:$N$38,$N$4) -> 6185.448 | AJ16: =+AI16/$AI$18 -> 0.079146297 | AK16: =+SUMIFS($O$4:$O$38,$E$4:$E$38,AD16,$L$4:$L$38,$L$4) -> 0 | AL16: =+AK16/$AK$18 -> 0 | AM16: =+SUMIFS($O$4:$O$38,$E$4:$E$38,AD16,$L$4:$L$38,$L$5) -> 6185.448 | AN16: =+AM16/$AM$18 -> 0.050111593 | AO16: =+SUMIFS($Q$4:$Q$38,$E$4:$E$38,AD16) -> 49 | AP16: =+AQ16+AR16 -> 25 | AQ16: =+SUMIFS($V$4:$V$38,$E$4:$E$38,AD16) -> 10 | AR16: =+SUMIFS($W$4:$W$38,$E$4:$E$38,AD16) -> 15 | AS16: =+AO16+AP16 -> 74 | AT16: =+SUMIFS($P$4:$P$38,$E$4:$E$38,AD16) -> 360 | AU16: =+SUMIFS($U$4:$U$38,$E$4:$E$38,AD16) -> 0 | AV16: =+SUM(AT16:AU16) -> 360 | AW16: =+SUMIFS($X$4:$X$38,$E$4:$E$38,AD16)++SUMIFS($Y$4:$Y$38,$E$4:$E$38,AD16) -> 329 | AX16: =+SUMIFS($X$4:$X$38,$E$4:$E$38,AD16)/AW16 -> 0.48024316 | AY16: =SUMIFS($Y$4:$Y$38,$E$4:$E$38,AD16)/AW16 -> 0.51975684 | AZ16: =+SUMIFS($S$4:$S$38,$E$4:$E$38,AD16) -> 3817 | BA16: =+SUMIFS($T$4:$T$38,$E$4:$E$38,AD16) -> 3817 | BB16: =+SUMIFS($Z$4:$Z$38,$E$4:$E$38,AD16) -> 160 | BC16: =+SUMIFS($AB$4:$AB$38,$E$4:$E$38,AD16) -> 5120
B17: =+B16+1 -> 14 | C17: New kindergarten in "Kumjikkin" OFY in Khojaly district | D17: Ministry of Preschool and School Education | E17: Republic of Karakalpakistan | F17: Балтабаев Дамир | G17: +99897-500-99-88 | H17: 44313 | I17: 44676 | J17: ПП ООО `Сантехгазмонтаж` | K17: Private entity | L17: Construction | M17: Construction of a new kindergarten with 90 searts in "Kumjikkin" neighbourhood in Khojaly district, which will increase the level of coverage of children aged 3-6 years and create additional jobs | N17: Rural | O17: 3225.5854 | P17: 0 | Q17: 0 | R17: Construction of a new building | S17: 0 | T17: 900 | U17: 120 | V17: 29 | W17: 4 | X17: 50 | Y17: 67 | Z17: 81 | AA17: =+Z17 -> 81 | AB17: 3500 | AD17: Tashkent region | AE17: =+SUMIFS($O$4:$O$38,$E$4:$E$38,AD17) -> 23246.976 | AF17: =+AE17/$AE$18 -> 0.1216678 | AG17: =+SUMIFS($O$4:$O$38,$E$4:$E$38,AD17,$N$4:$N$38,$N$8) -> 0 | AH17: =+AG17/$AG$18 -> 0 | AI17: =+SUMIFS($O$4:$O$38,$E$4:$E$38,AD17,$N$4:$N$38,$N$4) -> 23246.976 | AJ17: =+AI17/$AI$18 -> 0.29745818 | AK17: =+SUMIFS($O$4:$O$38,$E$4:$E$38,AD17,$L$4:$L$38,$L$4) -> 6211.639 | AL17: =+AK17/$AK$18 -> 0.091839546 | AM17: =+SUMIFS($O$4:$O$38,$E$4:$E$38,AD17,$L$4:$L$38,$L$5) -> 17035.337 | AN17: =+AM17/$AM$18 -> 0.1380123 | AO17: =+SUMIFS($Q$4:$Q$38,$E$4:$E$38,AD17) -> 113 | AP17: =+AQ17+AR17 -> 75 | AQ17: =+SUMIFS($V$4:$V$38,$E$4:$E$38,AD17) -> 52 | AR17: =+SUMIFS($W$4:$W$38,$E$4:$E$38,AD17) -> 23 | AS17: =+AO17+AP17 -> 188 | AT17: =+SUMIFS($P$4:$P$38,$E$4:$E$38,AD17) -> 600 | AU17: =+SUMIFS($U$4:$U$38,$E$4:$E$38,AD17) -> 390 | AV17: =+SUM(AT17:AU17) -> 990 | AW17: =+SUMIFS($X$4:$X$38,$E$4:$E$38,AD17)++SUMIFS($Y$4:$Y$38,$E$4:$E$38,AD17) -> 793 | AX17: =+SUMIFS($X$4:$X$38,$E$4:$E$38,AD17)/AW17 -> 0.50945776 | AY17: =SUMIFS($Y$4:$Y$38,$E$4:$E$38,AD17)/AW17 -> 0.49054224 | AZ17: =+SUMIFS($S$4:$S$38,$E$4:$E$38,AD17) -> 4208.9 | BA17: =+SUMIFS($T$4:$T$38,$E$4:$E$38,AD17) -> 6069.9 | BB17: =+SUMIFS($Z$4:$Z$38,$E$4:$E$38,AD17) -> 219 | BC17: =+SUMIFS($AB$4:$AB$38,$E$4:$E$38,AD17) -> 9903
B18: =+B17+1 -> 15 | C18: Kindergarten No. 13 in "Ghazira" neighbourhood in Jomboy district | D18: Ministry of Preschool and School Education | E18: Samarkand | F18: Бойхуразов Бахром Элибоевич | G18: +998979198186 | H18: 44287 | I18: 44461 | J18: Жомбой қурилиш МЧЖ | K18: Private entity | L18: Reconstruction | M18: Reconstruction of non-functioning kindergarten No. 13 in "Gazira" neighbourhood in Jomboy district, which will increase the level of coverage of children up to 3-6 years of age and create additional jobs | N18: Rural | O18: 4268.9073 | P18: 0 | Q18: 0 | R18: Construction of a new building | S18: 150 | T18: 1092.18 | U18: 150 | V18: 15 | W18: 13 | X18: 90 | Y18: 85 | Z18: 110 | AA18: =+Z18 -> 110 | AB18: 4441 | AE18: =+SUM(AE4:AE17) -> 191069.25 | AG18: =+SUM(AG4:AG17) -> 112917.17 | AI18: =+SUM(AI4:AI17) -> 78152.083 | AK18: =+SUM(AK4:AK17) -> 67635.777 | AM18: =+SUM(AM4:AM17) -> 123433.47 | AO18: =+SUM(AO4:AO17) -> 880.34 | AP18: =+SUM(AP4:AP17) -> 812 | AQ18: =+SUM(AQ4:AQ17) -> 484 | AR18: =+SUM(AR4:AR17) -> 328 | AS18: =+SUM(AS4:AS17) -> 1692.34 | AT18: =+SUM(AT4:AT17) -> 4204 | AU18: =+SUM(AU4:AU17) -> 4240 | AV18: =+SUM(AV4:AV17) -> 8444 | AW18: =+SUM(AW4:AW17) -> 7625.29 | AZ18: =+SUM(AZ4:AZ17) -> 32801.43 | BA18: =+SUM(BA4:BA17) -> 75279.79 | BB18: =+SUM(BB4:BB17) -> 4035 | BC18: =+SUM(BC4:BC17) -> 133634
B19: =+B18+1 -> 16 | C19: Kindergarten No. 15 in Samarkand district | D19: Ministry of Preschool and School Education | E19: Samarkand | F19: Элбоев Илхом Субхонкулович | G19: +998982738224 | H19: 44146 | I19: 44531 | J19: "Темир Қалқон"МЧЖ | K19: Private entity | L19: Reconstruction | M19: Reconstruction of kindergarten No. 15 in Samarkand district, which will increase the level of coverage of children up to 3-6 years of age and create additional jobs | N19: Rural | O19: 5358.9612 | P19: 280 | Q19: 52 | R19: Renovation of existing building and Construction of additional new building | S19: 1725 | T19: 2097 | U19: 80 | V19: 12 | W19: 18 | X19: 200 | Y19: 160 | Z19: 280 | AA19: =+Z19 -> 280 | AB19: 5370 | AE19: =+AE18=O39 -> TRUE | AI19: =+SUM(AG18:AI18)=AE18 -> TRUE | AM19: =+SUM(AK18:AM18)=AE18 -> TRUE | AO19: =+AO18=Q39 -> TRUE | AQ19: =+AQ18=V39 -> TRUE | AR19: =+AR18=W39 -> TRUE | AS19: =+AO18+AP18=AS18 -> TRUE | AT19: =+AT18=P39 -> TRUE | AU19: =+AU18=U39 -> TRUE | AW19: =+AW18=X39+Y39 -> TRUE | AZ19: =+AZ18=S39 -> TRUE | BA19: =+BA18=T39 -> TRUE | BB19: =+BB18=Z39 -> TRUE | BC19: =+BC18=AB39 -> TRUE
B20: =+B19+1 -> 17 | C20: Kindergarten No. 3 in Bakhmal district | D20: Ministry of Preschool and School Education | E20: Jizzakh | F20: Жалилов Суннатилло Мухддинович | G20: 94-197-11-80 | H20: 20.04.2021 | I20: 15.11.2021 | J20: Жиззах туманлараро сув тармоқ таъмир МЧЖ | K20: Private entity | L20: Reconstruction | M20: Reconstruction of kindergarten No. 3 in Bakhmal district, which will increase the level of coverage of children up to 3-6 years of age and create additional jobs | N20: Rural | O20: 3616.2788 | P20: 75 | Q20: 23 | R20: Renovation of existing building and Construction of additional new building | S20: 1236 | T20: 3998 | U20: 75 | V20: 9 | W20: 3 | X20: 86 | Y20: 64 | Z20: 90 | AA20: =+Z20 -> 90 | AB20: 1350
B21: =+B20+1 -> 18 | C21: Kindergarten located in Guliston neighbourhood in Zomin district | D21: Ministry of Preschool and School Education | E21: Jizzakh | F21: Эргашев Азамат Улуғбек ўғли | G21: 99-166-88-00 | H21: 05.08.2022 | I21: 01.04.2023 | J21: FAYZ BARAKA KLASSIK MCHJ | K21: Private entity | L21: Reconstruction | M21: Reconstruction of kindergarten located in Guliston neighbourhood in Zomin district, where the level of coverage of children up to 3-6 years will be increased and additional jobs will be created. | N21: Rural | O21: 4004.2989 | P21: 120 | Q21: 36 | R21: Renovation of an existing building | S21: 7047.18 | T21: 7047.18 | U21: 120 | V21: 14 | W21: 10 | X21: 70 | Y21: 50 | Z21: - | AA21: =+Z21 -> - | AB21: 2410
B22: =+B21+1 -> 19 | C22: New kindergarten in Chindovul neighbourhood in Kosonsoy district | D22: Ministry of Preschool and School Education | E22: Namangan | F22: Абдуллаев Бахтиёр | G22: 97-253-67-89 | H22: 45444 | I22: 45626 | J22: "Олтин водий" Х/К | K22: Private entity | L22: Construction | M22: Construction of a new kindergarten with 180 seats in "Chindovul" neighbourhood in Kosonsoi district, which will increase the level of coverage of children aged 3-6 and create additional jobs | N22: Rural | O22: 6121.7118 | P22: 0 | Q22: 0 | R22: Construction of a new building | S22: 0 | T22: 3000 | U22: 180 | V22: 21 | W22: 11 | X22: 88 | Y22: 98 | Z22: 45 | AA22: =+Z22 -> 45 | AB22: 1384
B23: =+B22+1 -> 20 | C23: New kindergarten in the territory of Tegirmonboshi neighbourhood, Mingbuloq district | D23: Ministry of Preschool and School Education | E23: Namangan | F23: Содиков Нумонжон | G23: (+99893 403-46-76) | H23: 44409 | I23: 44560 | J23: Мирхолдоршо Ота хусусий корхонаси | K23: Private entity | L23: Construction | M23: Construction of a new kindergarten with 240 seats in "Tegirmonboshi" neighbourhood in Mingbuloq district, which will increase the level of coverage of children aged 3-6 years and create additional jobs | N23: Rural | O23: 7329.1171 | P23: 0 | Q23: 0 | R23: Construction of a new building | S23: 0 | T23: 2000 | U23: 240 | V23: 20 | W23: 19 | X23: 150 | Y23: 106 | Z23: 59 | AA23: =+Z23 -> 59 | AB23: 2692
B24: =+B23+1 -> 21 | C24: New kindergarten in Ovchibulok neighbourhood in Uychi district | D24: Ministry of Preschool and School Education | E24: Namangan | F24: М.Эргашева | G24: 94-273-93-92 | H24: 44287 | I24: 44621 | J24: Обиджон Акмалхон МЧЖ | K24: Private entity | L24: Construction | M24: Construction of a new kindergarten with 180 seats in "Ovchibulok" neighbourhood in Uychi district, which will increase the level of coverage of children aged 3-6 and create additional jobs | N24: Rural | O24: 6153.2015 | P24: 0 | Q24: 0 | R24: Construction of a new building | S24: 0 | T24: 2417 | U24: 180 | V24: 27 | W24: 33 | X24: 78 | Y24: 102 | Z24: 74 | AA24: =+Z24 -> 74 | AB24: 1568
B25: =+B24+1 -> 22 | C25: New kindergarten in Sumalak Guzari neighbourhood in Namangan city | D25: Ministry of Preschool and School Education | E25: Namangan | F25: Қодиров Фахриддин Рўзматович | G25: +998945904437 | H25: 44391 | I25: 44545 | J25: "Наманган НХМКК" МЧЖ | K25: Private entity | L25: Construction | M25: Construction of a new kindergarten with 180 seats in Sumalak Guzari neighbourhood in Namangan city, which will increase the level of coverage of children aged 3-6 years and create additional jobs | N25: Urban | O25: 6229.336 | P25: 0 | Q25: 0 | R25: Construction of a new building | S25: 0 | T25: 3600 | U25: 180 | V25: 13 | W25: 20 | X25: 118 | Y25: 112 | Z25: 117 | AA25: =+Z25 -> 117 | AB25: 4589
B26: =+B25+1 -> 23 | C26: New kindergarten in Istiqbol neighbourhood in Namangan city | D26: Ministry of Preschool and School Education | E26: Namangan | F26: Р.Мирзаева | G26: +998936782238 | H26: 44385 | I26: 44535 | J26: "Мехнат нури" Хусусий қорхонаси | K26: Private entity | L26: Construction | M26: Construction of a new kindergarten with 150 seats in "Istiqbol" neighbourhood in Namangan city, which will increase the level of coverage of children aged 3-6 years and create additional jobs | N26: Urban | O26: 6183.1034 | P26: 0 | Q26: 0 | R26: Construction of a new building | S26: 0 | T26: 3500 | U26: 150 | V26: 32 | W26: 15 | X26: 89 | Y26: 86 | Z26: 41 | AA26: =+Z26 -> 41 | AB26: 4122
B27: =+B26+1 -> 24 | C27: New kindergarten in Ibrat neighbourhood in Namangan district | D27: Ministry of Preschool and School Education | E27: Namangan | F27: А.Турсунова | G27: 90 694 66 77 | H27: 2021 апрел | I27: 2022 йил декабр | J27: Ягона буюртмачи инжинеринг компанияси | K27: State enterprise | L27: Construction | M27: Construction of a new kindergarten with 180 seats in "Ibrat" neighbourhood in Namangan district, which will increase the level of coverage of children aged 3-6 and create additional jobs | N27: Rural | O27: 6115.0148 | P27: 0 | Q27: 0 | R27: Construction of a new building | S27: 0 | T27: 2680 | U27: 180 | V27: 14 | W27: 16 | X27: 112 | Y27: 98 | Z27: 63 | AA27: =+Z27 -> 63 | AB27: 3150
B28: =+B27+1 -> 25 | C28: Kindergarten No. 14 in Guzor district | D28: Ministry of Preschool and School Education | E28: Kashkadarya | F28: Бекзод Абдирахмонов | G28: 91-950-78-88 | H28: 44287 | I28: 44454 | J28: "Саноат уй-жой қурилиш сервис" МЧЖ | K28: Private entity | L28: Reconstruction | M28: Reconstruction of kindergarten No. 14 in Guzor district, which will increase the level of coverage of children up to 3-6 years of age and create additional jobs | N28: Rural | O28: 4198.5062 | P28: 55 | Q28: 35 | R28: Renovation of existing building and Construction of additional new building | S28: 530 | T28: 1234 | U28: 95 | V28: 5 | W28: 2 | X28: 80 | Y28: 70 | Z28: 60 | AA28: =+Z28 -> 60 | AB28: 6098
B29: =+B28+1 -> 26 | C29: Kindergarten No. 26 in Karshi district | D29: Ministry of Preschool and School Education | E29: Kashkadarya | F29: Бекзод Абдирахмонов | G29: 91-950-78-88 | H29: 44280 | I29: 44460 | J29: "NISHONMAXSUSSUVPUDRA" | K29: Private entity | L29: Reconstruction | M29: Reconstruction of kindergarten No. 26 in Karshi district, which will increase the level of coverage of children up to 3-6 years old and create extra jobs | N29: Rural | O29: 4471.6312 | P29: 180 | Q29: 62 | R29: Renovation of existing building and Construction of additional new building | S29: 800 | T29: 1220 | U29: 0 | V29: 6 | W29: 1 | X29: 82 | Y29: 98 | Z29: 150 | AA29: =+Z29 -> 150 | AB29: 3140
B30: =+B29+1 -> 27 | C30: New kindergarten in "Sarikanda" neighbourhood in Sokh district | D30: Ministry of Preschool and School Education | E30: Fergana | F30: Ёрматов Ҳасанхон | G30: 99 177 71 26 | H30: 44193 | I30: 44561 | J30: "Инвест Жаҳон Қурилиш" МЧЖ | K30: Private entity | L30: Construction | M30: Construction of a new kindergarten with 180 seats in "Sarikanda" neighbourhood of Sokh district, which will increase the level of coverage of children aged 3-6 and create additional jobs | N30: Rural | O30: 7267.6381 | P30: 0 | Q30: 0 | R30: Construction of a new building | S30: 0 | T30: 1460 | U30: 180 | V30: 24 | W30: 9 | X30: 88 | Y30: 71 | Z30: 74 | AA30: =+Z30 -> 74 | AB30: 3170
B31: =+B30+1 -> 28 | C31: Kindergarten No. 26 in Margilan city | D31: Ministry of Preschool and School Education | E31: Fergana | F31: Ғиёсов Жохонгир Саминджогович | G31: 998916935995 | H31: 44193 | I31: 44561 | J31: "Саддинсо Хабибулло" Х/К | K31: Private entity | L31: Reconstruction | M31: Reconstruction of kindergarten No. 26 in Margilon city, in which the level of coverage of children up to 3-6 years old will be increased and additional jobs will be created | N31: Urban | O31: 6433.7051 | P31: 280 | Q31: 57 | R31: Renovation of existing building and Construction of additional new building | S31: 1743.63 | T31: 2453.36 | U31: 80 | V31: 8 | W31: 2 | X31: 180 | Y31: 171 | Z31: 206 | AA31: =+Z31 -> 206 | AB31: 6241
B32: =+B31+1 -> 29 | C32: Kindergarten No. 11 in Kokand city | D32: Ministry of Preschool and School Education | E32: Fergana | F32: Ражабалиев Шухрат | G32: 91-145-95-55 | H32: 44193 | I32: 44561 | J32: "Маргилон Бинокор Таъмир Курилиш" МЧЖ | K32: Private entity | L32: Reconstruction | M32: Reconstruction of kindergarten No. 11 in Kokand city, which will increase the level of coverage of children up to 3-6 years of age and create additional jobs | N32: Urban | O32: 7073.8622 | P32: 360 | Q32: 61 | R32: Renovation of existing building and Construction of additional new building | S32: 1633.27 | T32: 2177.77 | U32: 0 | V32: 0 | W32: 1 | X32: 182 | Y32: 177 | Z32: 300 | AA32: =+Z32 -> 300 | AB32: 3898
B33: =+B32+1 -> 30 | C33: Kindergarten No. 16 in Khiva city | D33: Ministry of Preschool and School Education | E33: Kharezm | F33: Садуллаев Музаффар Камилович | G33: +998914333233 | H33: 44193 | I33: 44561 | J33: Хива Пирнахос курилиш Х/К | K33: Private entity | L33: Reconstruction | M33: Reconstruction of non-functioning kindergarten No. 16 in Khiva city, in which the level of coverage of children up to 3-6 years of age will be increased and additional jobs will be created | N33: Urban | O33: 7284.8358 | P33: 360 | Q33: =48+17 -> 65 | R33: Renovation of an existing building | S33: 1399.73 | T33: 1399.73 | U33: 0 | V33: 0 | W33: 0 | X33: 132 | Y33: 119 | Z33: 43 | AA33: =+Z33 -> 43 | AB33: 3700
B34: =+B33+1 -> 31 | C34: Kindergarten No. 7 in Hazorasp district | D34: Ministry of Preschool and School Education | E34: Kharezm | F34: Худайберганов Азамат Оллаберганович | G34: +998937085585 | H34: 44193 | I34: 44561 | J34: Хазорасп Агрокурилиш Сервис МЧЖ | K34: Private entity | L34: Reconstruction | M34: Reconstruction of kindergarten No. 7 in Hazorasp district, which will increase the level of coverage of children up to 3-6 years old and create additional jobs | N34: Rural | O34: 7324.4307 | P34: 240 | Q34: 40 | R34: Renovation of an existing building | S34: 1160 | T34: 1160 | U34: 120 | V34: 15 | W34: 5 | X34: 180 | Y34: 176 | Z34: 300 | AA34: =+Z34 -> 300 | AB34: 2153
B35: =+B34+1 -> 32 | C35: Kindergarten No. 17 in Sariosia district | D35: Ministry of Preschool and School Education | E35: Surkhandarya | F35: Эшкобилов Хуршид | G35: +998-90-523-4288 | H35: 44193 | I35: 44561 | J35: Узун Қурилиш Инвест | K35: Private entity | L35: Reconstruction | M35: Reconstruction of kindergarten No. 17 in the Saryosi district, which will increase the level of coverage of children up to 3-6 years old and create additional jobs | N35: Rural | O35: 3879.3029 | P35: 140 | Q35: 25 | R35: Renovation of existing building and Construction of additional new building | S35: 1135 | T35: =1135+154 -> 1289 | U35: 40 | V35: 4 | W35: 2 | X35: 45 | Y35: 45 | Z35: =25+25 -> 50 | AA35: =+Z35 -> 50 | AB35: 1224
B36: =+B35+1 -> 33 | C36: New kindergarten in "Mirzo Ulugbek" neighbourhood in Mirzaabad district | D36: Ministry of Preschool and School Education | E36: Sirdarya | F36: Шермаматов Рустам | G36: +99891-501-41-11 | H36: 44340 | I36: 44585 | J36: "O'rta sharq invest" MCHJ | K36: Private entity | L36: Construction | M36: Construction of a new kindergarten with 150 seats in Mirzo Ulugbek neighbourhood in Mirzaabad district, which will increase the level of coverage of children up to 3-6 years old and create additional jobs | N36: Rural | O36: 4991.0319 | P36: 0 | Q36: 0 | R36: Construction of a new building | S36: 0 | T36: 6000 | U36: 150 | V36: 22 | W36: 8 | X36: 62 | Y36: 74 | Z36: 150 | AA36: =+Z36 -> 150 | AB36: 5354
B37: =+B36+1 -> 34 | C37: Kindergarten No. 29 in "Dostlik" neighbourhood in Boyovut district | D37: Ministry of Preschool and School Education | E37: Sirdarya | F37: Шермаматов Рустам | G37: +99891-501-41-11 | H37: 44197 | I37: 44440 | J37: "Majestik Fngineer" MCHJ | K37: Private entity | L37: Reconstruction | M37: Reconstruction of kindergarten No. 29 in "Dostlik" neighbourhood in Boyovut district, the level of coverage of children up to 3-6 years will be increased and additional jobs will be created | N37: Rural | O37: 5409.4605 | P37: 140 | Q37: 26.34 | R37: Renovation of existing building and Construction of additional new building | S37: 923.72 | T37: 1365.77 | U37: 40 | V37: 3 | W37: 5 | X37: 98 | Y37: 112 | Z37: 105 | AA37: =+Z37 -> 105 | AB37: 4450
B38: =+B37+1 -> 35 | C38: Kindergarten No. 24 in Chilonzor district | D38: Ministry of Preschool and School Education | E38: Tashkent city | F38: Хасан | G38: +998-97-138-59-59 | H38: 44193 | I38: 44561 | J38: "AXATBEK QURILISH OMAD" MCHJ | K38: Private entity | L38: Reconstruction | M38: Reconstruction of kindergarten No. 24 in Chilonzor district, the level of coverage of children up to 3-6 years will be increased and additional jobs will be created | N38: Urban | O38: 6185.448 | P38: 360 | Q38: 49 | R38: Renovation of an existing building | S38: 3817 | T38: 3817 | U38: 0 | V38: 10 | W38: 15 | X38: 158 | Y38: 171 | Z38: 160 | AA38: =+Z38 -> 160 | AB38: 5120
O39: =+SUM(O4:O38) -> 191069.25 | P39: =+SUM(P4:P38) -> 4204 | Q39: =+SUM(Q4:Q38) -> 880.34 | S39: =+SUM(S4:S38) -> 32801.43 | T39: =+SUM(T4:T38) -> 75279.79 | U39: =+SUM(U4:U38) -> 4240 | V39: =+SUM(V4:V38) -> 484 | W39: =+SUM(W4:W38) -> 328 | X39: =+SUM(X4:X38) -> 4154.2 | Y39: =+SUM(Y4:Y38) -> 3471.09 | Z39: =+SUM(Z4:Z38) -> 4035 | ... AB39: =+SUM(AB4:AB38) -> 133634

Sheet Hospitals
B1: MEDICAL ESTABLISHMENTS
B2: No. | C2: Лойиҳанинг номи | D2: Name of the project | E2: Responsible ministry | F2: Area (region) where the project has been implemented | G2: Name of the responsible employee | H2: Phone number of the responsible employee | I2: Project start date | J2: Project end date | K2: Name of general contracting organization | L2: General contracting organization type | M2: Construction / Reconstruction | N2: Type of medical establishment | O2: Project summary | P2: Located in rural/urban area | Q2: Amount of financing (in UZS'm) | R2: Number of RENOVATED BEDS | T2: Number of jobs before the implementation of the project | U2: Type of construction work done | V2: Area of the medical establishment | X2: Number of NEW BEDS created | Z2: Number of new/additional medical staff and technical staff (non-medical professionals) employed as a result of the project | AB2: Number of population (directly benefited) in the area served by the health facility | AC2: Number of patients treated since the project start till June 1, 2024 | AF2: Region | AG2: Allocation | AQ2: Number of jobs | AV2: Medical establishment capacity | BB2: Area | BD2: Number of patients treated | BE2: People benefited from the projects (by region)
R3: Fixed beds | S3: Ambulatory | V3: Before (m2) | W3: After (m2) | X3: New fixed beds | Y3: New ambulatory | Z3: New medical staff | AA3: New technical staff | AG3: Total Financing (in UZS'm) | AH3: % | AI3: Rural (in UZS'm) | AJ3: % | AK3: Urban (in UZS'm) | AL3: % | AM3: Construction (in UZS'm) | AN3: % | AO3: Reconstruction (in UZS'm) | AP3: % | AQ3: Number of jobs before | AR3: New staff, including: | AS3: Medical staff employed | AT3: Technical staff employed | AU3: TOTAL JOBS | AV3: Renovated fixed beds | AW3: Renovated ambulatory beds | AX3: New fixed beds created | AY3: New ambulatory beds created | AZ3: Total fixed beds | BA3: Total ambulatory beds | BB3: Before (m2) | BC3: After (m2)
B4: 1 | C4: Тошкент туман тиббиёт бирлашмаси (300 қатновли кўп тармоқли янги марказий поликлиника биноси) | D4: Tashkent District Hospital | E4: Ministry of Health | F4: Tashkent region | G4: Асадов Хусан Даминовмч | H4: 95-020-8338 | I4: 44256 | J4: 44560 | K4: "Тошкент метрожилстрой" МЧЖ | L4: Private entity | M4: Construction | N4: Multidisciplinary hospital | O4: Construction of a new building for multidisciplinary central polyclinic of the Tashkent District Hospital with 300 ambulator beds | P4: Urban | Q4: 8475.053 | R4: 0 | S4: 0 | T4: 0 | U4: Construction of a new building | V4: 0 | W4: 1275.8 | X4: 0 | Y4: 300 | Z4: 290 | AA4: 20 | AB4: 187673 | AC4: 186420 | AF4: Andijan | AG4: =+SUMIFS(Q:Q,F:F,AF4) -> 48123.993 | AH4: =+AG4/$AG$18 -> 0.1399388 | AI4: =SUMIFS(Q:Q,F:F,AF4,P:P,$P$5) -> 30289.112 | AJ4: =+AI4/$AI$18 -> 0.17020898 | AK4: =SUMIFS(Q:Q,F:F,AF4,P:P,$P$4) -> 17834.881 | AL4: =+AK4/$AK$18 -> 0.10747747 | AM4: =SUMIFS(Q:Q,F:F,AF4,M:M,$M$4) -> 9393.3399 | AN4: =+AM4/$AM$18 -> 0.14384505 | AO4: =SUMIFS(Q:Q,F:F,AF4,M:M,$M$6) -> 38730.653 | AP4: =+AO4/$AO$18 -> 0.13902318 | AQ4: =+SUMIFS(T:T,F:F,AF4) -> 642 | AR4: =+AS4+AT4 -> 417 | AS4: =+SUMIFS(Z:Z,F:F,AF4) -> 342 | AT4: =+SUMIFS(AA:AA,F:F,AF4) -> 75 | AU4: =+AQ4+AR4 -> 1059 | AV4: =+SUMIFS(R:R,F:F,AF4) -> 460 | AW4: =+SUMIFS(S:S,F:F,AF4) -> 0 | AX4: =+SUMIFS(X:X,F:F,AF4) -> 295 | AY4: =+SUMIFS(Y:Y,F:F,AF4) -> 350 | AZ4: =+AV4+AX4 -> 755 | BA4: =+AW4+AY4 -> 350 | BB4: =+SUMIFS(V:V,F:F,AF4) -> 11660.8 | BC4: =+SUMIFS(W:W,F:F,AF4) -> 17078.8 | BD4: =+SUMIFS(AC:AC,F:F,AF4) -> 113509 | BE4: =+SUMIFS(AB:AB,F:F,AF4)-AB12-AB13-AB14-AB15-AB16-AB18 -> 3231689 | BF4: Removed number of people being double counted
B5: =+B4+1 -> 2 | C5: Қибрай туманида 100 ўринга мўлжаланган иқтисослаштирилган шифохона қуриш | D5: New 100-bed specialized hospital in Kibrai district | E5: Ministry of Health | F5: Tashkent region | G5: Азиззанова Гулнора | H5: 93-375-23-35 | I5: 44296 | J5: 44500 | K5: "Нурафшон гранд продуктион " МЧЖ | L5: Private entity | M5: Construction | N5: Infectious diseases hospital | O5: Construction of a 100-fixed-bed specialized hospital in Kibrai district | P5: Rural | Q5: 25000 | R5: 0 | S5: 0 | T5: 0 | U5: Construction of a new building | V5: 0 | W5: 6000 | X5: 100 | Y5: 0 | Z5: 46 | AA5: 5 | AB5: 173088 | AC5: 55000 | AF5: Bukhara | AG5: =+SUMIFS(Q:Q,F:F,AF5) -> 5359.3169 | AH5: =+AG5/$AG$18 -> 0.015584251 | AI5: =SUMIFS(Q:Q,F:F,AF5,P:P,$P$5) -> 0 | AJ5: =+AI5/$AI$18 -> 0 | AK5: =SUMIFS(Q:Q,F:F,AF5,P:P,$P$4) -> 5359.3169 | AL5: =+AK5/$AK$18 -> 0.03229659 | AM5: =SUMIFS(Q:Q,F:F,AF5,M:M,$M$4) -> 5359.3169 | AN5: =+AM5/$AM$18 -> 0.082069979 | AO5: =SUMIFS(Q:Q,F:F,AF5,M:M,$M$6) -> 0 | AP5: =+AO5/$AO$18 -> 0 | AQ5: =+SUMIFS(T:T,F:F,AF5) -> 0 | AR5: =+AS5+AT5 -> 114 | AS5: =+SUMIFS(Z:Z,F:F,AF5) -> 102 | AT5: =+SUMIFS(AA:AA,F:F,AF5) -> 12 | AU5: =+AQ5+AR5 -> 114 | AV5: =+SUMIFS(R:R,F:F,AF5) -> 0 | AW5: =+SUMIFS(S:S,F:F,AF5) -> 0 | AX5: =+SUMIFS(X:X,F:F,AF5) -> 8 | AY5: =+SUMIFS(Y:Y,F:F,AF5) -> 250 | AZ5: =+AV5+AX5 -> 8 | BA5: =+AW5+AY5 -> 250 | BB5: =+SUMIFS(V:V,F:F,AF5) -> 0 | BC5: =+SUMIFS(W:W,F:F,AF5) -> 933.92 | BD5: =+SUMIFS(AC:AC,F:F,AF5) -> 21950 | BE5: =+SUMIFS(AB:AB,F:F,AF5) -> 26134
B6: =+B5+1 -> 3 | C6: Тошкент вилояти Силга қарши кураш диспансери (3-босқич қабул диагностика бўлими, режали жарроҳлик ва операция бўлимлари) | D6: Tuberculosis Dispensary of Tashkent region | E6: Ministry of Health | F6: Tashkent region | G6: Зияев Тулкин | H6: 93-396-78-96 | I6: 44530 | J6: 44926 | K6: "Меъмор Номе" МЧЖ | L6: Private entity | M6: Reconstruction | N6: Tuberculosis dispensary | O6: Reconstruction of reception, diagnostic department, planned surgery and operation departments of the Tashkent Regional Tuberculosis Dispensary | P6: Urban | Q6: 7843.4691 | R6: 220 | S6: 0 | T6: 268 | U6: Construction of a new building | V6: 0 | W6: 2124 | X6: 0 | Y6: 0 | Z6: 0 | AA6: 0 | AB6: 3090000 | AC6: 13200 | AF6: Fergana | AG6: =+SUMIFS(Q:Q,F:F,AF6) -> 40940.305 | AH6: =+AG6/$AG$18 -> 0.1190495 | AI6: =SUMIFS(Q:Q,F:F,AF6,P:P,$P$5) -> 15045.066 | AJ6: =+AI6/$AI$18 -> 0.084545411 | AK6: =SUMIFS(Q:Q,F:F,AF6,P:P,$P$4) -> 25895.239 | AL6: =+AK6/$AK$18 -> 0.15605122 | AM6: =SUMIFS(Q:Q,F:F,AF6,M:M,$M$4) -> 8349.2876 | AN6: =+AM6/$AM$18 -> 0.12785694 | AO6: =SUMIFS(Q:Q,F:F,AF6,M:M,$M$6) -> 32591.017 | AP6: =+AO6/$AO$18 -> 0.11698504 | AQ6: =+SUMIFS(T:T,F:F,AF6) -> 486.25 | AR6: =+AS6+AT6 -> 397.25 | AS6: =+SUMIFS(Z:Z,F:F,AF6) -> 358 | AT6: =+SUMIFS(AA:AA,F:F,AF6) -> 39.25 | AU6: =+AQ6+AR6 -> 883.5 | AV6: =+SUMIFS(R:R,F:F,AF6) -> 530 | AW6: =+SUMIFS(S:S,F:F,AF6) -> 0 | AX6: =+SUMIFS(X:X,F:F,AF6) -> 394 | AY6: =+SUMIFS(Y:Y,F:F,AF6) -> 0 | AZ6: =+AV6+AX6 -> 924 | BA6: =+AW6+AY6 -> 0 | BB6: =+SUMIFS(V:V,F:F,AF6) -> 49599 | BC6: =+SUMIFS(W:W,F:F,AF6) -> 51419 | BD6: =+SUMIFS(AC:AC,F:F,AF6) -> 64531 | BE6: =+SUMIFS(AB:AB,F:F,AF6)-AB30-AB31 -> 650379 | BF6: Removed number of people being double counted
B7: =+B6+1 -> 4 | C7: Янгийўл шаҳар тиббиёт бирлашмаси (кир ювиш, морг ҳамда бошқалар) | D7: Yangiyol City Hospital | E7: Ministry of Health | F7: Tashkent region | G7: Самандаров Рустам | H7: 99-763-10-57 | I7: 44530 | J7: 44560 | K7: "Озода МРТ" МЧЖ | L7: Private entity | M7: Reconstruction | N7: Multidisciplinary hospital | O7: Reconstruction of the laundry, morgue and other departments of the Yangiyol City Hospital | P7: Urban | Q7: 13130.756 | R7: 0 | S7: 0 | T7: 20 | U7: Renovation of an existing building | V7: 500 | W7: 500 | X7: 0 | Y7: 0 | Z7: 0 | AA7: 0 | AB7: 79733 | AC7: 45000 | AF7: Jizzakh | AG7: =+SUMIFS(Q:Q,F:F,AF7) -> 3557.822 | AH7: =+AG7/$AG$18 -> 0.01034572 | AI7: =SUMIFS(Q:Q,F:F,AF7,P:P,$P$5) -> 3557.822 | AJ7: =+AI7/$AI$18 -> 0.019993101 | AK7: =SUMIFS(Q:Q,F:F,AF7,P:P,$P$4) -> 0 | AL7: =+AK7/$AK$18 -> 0 | AM7: =SUMIFS(Q:Q,F:F,AF7,M:M,$M$4) -> 0 | AN7: =+AM7/$AM$18 -> 0 | AO7: =SUMIFS(Q:Q,F:F,AF7,M:M,$M$6) -> 3557.822 | AP7: =+AO7/$AO$18 -> 0.012770756 | AQ7: =+SUMIFS(T:T,F:F,AF7) -> 159 | AR7: =+AS7+AT7 -> 0 | AS7: =+SUMIFS(Z:Z,F:F,AF7) -> 0 | AT7: =+SUMIFS(AA:AA,F:F,AF7) -> 0 | AU7: =+AQ7+AR7 -> 159 | AV7: =+SUMIFS(R:R,F:F,AF7) -> 50 | AW7: =+SUMIFS(S:S,F:F,AF7) -> 150 | AX7: =+SUMIFS(X:X,F:F,AF7) -> 0 | AY7: =+SUMIFS(Y:Y,F:F,AF7) -> 0 | AZ7: =+AV7+AX7 -> 50 | BA7: =+AW7+AY7 -> 150 | BB7: =+SUMIFS(V:V,F:F,AF7) -> 11685 | BC7: =+SUMIFS(W:W,F:F,AF7) -> 14046 | BD7: =+SUMIFS(AC:AC,F:F,AF7) -> 48811 | BE7: =+SUMIFS(AB:AB,F:F,AF7) -> 171334
B8: =+B7+1 -> 5 | C8: Чирчиқ шаҳар тиббиёт бирлашмаси (қабул диагностика бўлими, ошхона, кир ювиш, лабаратория, ички дорихона, оқова сув тизими ҳамда бошқалар) | D8: Chirchik City Hospital | E8: Ministry of Health | F8: Tashkent region | G8: Даниева Холида Очиловна | H8: 97-454-41-03 | I8: 44316 | J8: 44681 | K8: "Меъмор Номе" МЧЖ | L8: Private entity | M8: Reconstruction | N8: Multidisciplinary hospital | O8: Reconstruction of reception, diagnostic department, kitchen, laundry, laboratory, internal pharmacy, waste water systems and other departments of Chirchik City Hospital | P8: Urban | Q8: 13001.419 | R8: 0 | S8: 0 | T8: 37 | U8: Renovation of an existing building | V8: 2652.16 | W8: 2652.16 | X8: 40 | Y8: 0 | Z8: 21 | AA8: 3 | AB8: 146254 | AC8: 36500 | AF8: Kashkadarya | AG8: =+SUMIFS(Q:Q,F:F,AF8) -> 15656.824 | AH8: =+AG8/$AG$18 -> 0.045528168 | AI8: =SUMIFS(Q:Q,F:F,AF8,P:P,$P$5) -> 8724.7969 | AJ8: =+AI8/$AI$18 -> 0.049028801 | AK8: =SUMIFS(Q:Q,F:F,AF8,P:P,$P$4) -> 6932.027 | AL8: =+AK8/$AK$18 -> 0.041774137 | AM8: =SUMIFS(Q:Q,F:F,AF8,M:M,$M$4) -> 8724.7969 | AN8: =+AM8/$AM$18 -> 0.13360731 | AO8: =SUMIFS(Q:Q,F:F,AF8,M:M,$M$6) -> 6932.027 | AP8: =+AO8/$AO$18 -> 0.024882422 | AQ8: =+SUMIFS(T:T,F:F,AF8) -> 130 | AR8: =+AS8+AT8 -> 176 | AS8: =+SUMIFS(Z:Z,F:F,AF8) -> 145 | AT8: =+SUMIFS(AA:AA,F:F,AF8) -> 31 | AU8: =+AQ8+AR8 -> 306 | AV8: =+SUMIFS(R:R,F:F,AF8) -> 220 | AW8: =+SUMIFS(S:S,F:F,AF8) -> 0 | AX8: =+SUMIFS(X:X,F:F,AF8) -> 90 | AY8: =+SUMIFS(Y:Y,F:F,AF8) -> 0 | AZ8: =+AV8+AX8 -> 310 | BA8: =+AW8+AY8 -> 0 | BB8: =+SUMIFS(V:V,F:F,AF8) -> 2285 | BC8: =+SUMIFS(W:W,F:F,AF8) -> 4560 | BD8: =+SUMIFS(AC:AC,F:F,AF8) -> 186044 | BE8: =+SUMIFS(AB:AB,F:F,AF8) -> 986180
B9: =+B8+1 -> 6 | C9: Охангарон туман тиббиёт бирлашмаси (Нурабод қўрғонида жойлашган собиқ реабилитация шифохонасини 20 ўринли шошилинч тез ёрдам, 20 ўринли жарроҳлик, 20 ўринли болалар, 55 ўринли туғруқ, 25 ўринли терапия бўлимлари биносини ва туман Санитария эпедимиология хизмати биноси) | D9: Okhangaron District Hospital | E9: Ministry of Health | F9: Tashkent region | G9: Юлдашева Гулчехра | H9: 93 - 958 06 09 | I9: 44530 | J9: 44560 | K9: "Охангарон Шохрух Файз" МЧЖ | L9: Private entity | M9: Reconstruction | N9: Multidisciplinary hospital | O9: Reconstruction of the former rehabilitation hospital located in the Nurabad fortress as a new district hospital with 20-fixed-bed emergency ambulance, 20-fixed-bed surgery, 20-fixed-bed pediatric, 55-fixed-bed maternity and 25-fixed-bed therapy departments | P9: Rural | Q9: 30063.939 | R9: 0 | S9: - | T9: - | U9: Construction of a new building | V9: 0 | W9: 4695.37 | X9: 140 | Y9: - | Z9: 137 | AA9: 43 | AB9: 111219 | AC9: 20605 | AF9: Kharezm | AG9: =+SUMIFS(Q:Q,F:F,AF9) -> 15923.213 | AH9: =+AG9/$AG$18 -> 0.046302796 | AI9: =SUMIFS(Q:Q,F:F,AF9,P:P,$P$5) -> 0 | AJ9: =+AI9/$AI$18 -> 0 | AK9: =SUMIFS(Q:Q,F:F,AF9,P:P,$P$4) -> 15923.213 | AL9: =+AK9/$AK$18 -> 0.095957284 | AM9: =SUMIFS(Q:Q,F:F,AF9,M:M,$M$4) -> 0 | AN9: =+AM9/$AM$18 -> 0 | AO9: =SUMIFS(Q:Q,F:F,AF9,M:M,$M$6) -> 15923.213 | AP9: =+AO9/$AO$18 -> 0.057156169 | AQ9: =+SUMIFS(T:T,F:F,AF9) -> 36 | AR9: =+AS9+AT9 -> 0 | AS9: =+SUMIFS(Z:Z,F:F,AF9) -> 0 | AT9: =+SUMIFS(AA:AA,F:F,AF9) -> 0 | AU9: =+AQ9+AR9 -> 36 | AV9: =+SUMIFS(R:R,F:F,AF9) -> 35 | AW9: =+SUMIFS(S:S,F:F,AF9) -> 10 | AX9: =+SUMIFS(X:X,F:F,AF9) -> 0 | AY9: =+SUMIFS(Y:Y,F:F,AF9) -> 0 | AZ9: =+AV9+AX9 -> 35 | BA9: =+AW9+AY9 -> 10 | BB9: =+SUMIFS(V:V,F:F,AF9) -> 8448 | BC9: =+SUMIFS(W:W,F:F,AF9) -> 8448 | BD9: =+SUMIFS(AC:AC,F:F,AF9) -> 2894 | BE9: =+SUMIFS(AB:AB,F:F,AF9) -> 1924163
B10: =+B9+1 -> 7 | C10: Бекабод шаҳар тиббиёт бирлашмаси (45 ўринли юқумли касалликлар бўлими) | D10: Bekabad City Hospital | E10: Ministry of Health | F10: Tashkent region | G10: Ахмедов Рустам Лутфиллаевич | H10: 90-922-57-38 | I10: 44530 | J10: 44560 | K10: "Кўхинур Мадад Ҳамкор" МЧЖ | L10: Private entity | M10: Reconstruction | N10: Multidisciplinary hospital | O10: Reconstruction of the 45-fixed-bed department of infectious diseases of Bekabad City Hospital | P10: Urban | Q10: 8277.123 | R10: 45 | S10: 0 | T10: 65 | U10: Renovation of an existing building | V10: 2829 | W10: 2829 | X10: 0 | Y10: 0 | Z10: 0 | AA10: 0 | AB10: 103789 | AC10: 9228 | AF10: Namangan | AG10: =+SUMIFS(Q:Q,F:F,AF10) -> 32682.813 | AH10: =+AG10/$AG$18 -> 0.095037704 | AI10: =SUMIFS(Q:Q,F:F,AF10,P:P,$P$5) -> 6208.1021 | AJ10: =+AI10/$AI$18 -> 0.034886291 | AK10: =SUMIFS(Q:Q,F:F,AF10,P:P,$P$4) -> 26474.711 | AL10: =+AK10/$AK$18 -> 0.15954326 | AM10: =SUMIFS(Q:Q,F:F,AF10,M:M,$M$4) -> 0 | AN10: =+AM10/$AM$18 -> 0 | AO10: =SUMIFS(Q:Q,F:F,AF10,M:M,$M$6) -> 32682.813 | AP10: =+AO10/$AO$18 -> 0.11731454 | AQ10: =+SUMIFS(T:T,F:F,AF10) -> 547 | AR10: =+AS10+AT10 -> 124 | AS10: =+SUMIFS(Z:Z,F:F,AF10) -> 109 | AT10: =+SUMIFS(AA:AA,F:F,AF10) -> 15 | AU10: =+AQ10+AR10 -> 671 | AV10: =+SUMIFS(R:R,F:F,AF10) -> 685 | AW10: =+SUMIFS(S:S,F:F,AF10) -> 0 | AX10: =+SUMIFS(X:X,F:F,AF10) -> 0 | AY10: =+SUMIFS(Y:Y,F:F,AF10) -> 0 | AZ10: =+AV10+AX10 -> 685 | BA10: =+AW10+AY10 -> 0 | BB10: =+SUMIFS(V:V,F:F,AF10) -> 36607.12 | BC10: =+SUMIFS(W:W,F:F,AF10) -> 37988.27 | BD10: =+SUMIFS(AC:AC,F:F,AF10) -> 200724 | BE10: =+SUMIFS(AB:AB,F:F,AF10)-AB24 -> 864700 | BF10: Removed number of people being double counted
B11: =+B10+1 -> 8 | C11: Бух.обл Бух.ш 7-кичик худудида 250 катновга мулжалланган янги оилавий поликлиника биносини куриш (29.01.2021й 02РА 1-2003 4-сон ташриф) | D11: New family polyclinic building in the 7th sub-district of Bukhara city | E11: Ministry of Health | F11: Bukhara | G11: Хусенов Икром Халилович Кодиров Ислом Савритдинович (ғазначилик) | H11: 91-797-44-04 97-798-77-27 | I11: 01.01.2021 | J11: 15.11.2021 | K11: Ғиждувон Говшун Махсус курулиш монтаж МЧЖ | L11: Private entity | M11: Construction | N11: Multidisciplinary hospital | O11: Construction of a new family polyclinic building with 8 fixed beds and 250 ambulator beds in the 7th sub-district of Bukhara city | P11: Urban | Q11: 5359.3169 | R11: - | S11: - | T11: - | U11: Construction of a new building | V11: 0 | W11: 933.92 | X11: 8 | Y11: 250 | Z11: 102 | AA11: 12 | AB11: 26134 | AC11: 21950 | AF11: Navoi | AG11: =+SUMIFS(Q:Q,F:F,AF11) -> 0 | AH11: =+AG11/$AG$18 -> 0 | AI11: =SUMIFS(Q:Q,F:F,AF11,P:P,$P$5) -> 0 | AJ11: =+AI11/$AI$18 -> 0 | AK11: =SUMIFS(Q:Q,F:F,AF11,P:P,$P$4) -> 0 | AL11: =+AK11/$AK$18 -> 0 | AM11: =SUMIFS(Q:Q,F:F,AF11,M:M,$M$4) -> 0 | AN11: =+AM11/$AM$18 -> 0 | AO11: =SUMIFS(Q:Q,F:F,AF11,M:M,$M$6) -> 0 | AP11: =+AO11/$AO$18 -> 0 | AQ11: =+SUMIFS(T:T,F:F,AF11) -> 0 | AR11: =+AS11+AT11 -> 0 | AS11: =+SUMIFS(Z:Z,F:F,AF11) -> 0 | AT11: =+SUMIFS(AA:AA,F:F,AF11) -> 0 | AU11: =+AQ11+AR11 -> 0 | AV11: =+SUMIFS(R:R,F:F,AF11) -> 0 | AW11: =+SUMIFS(S:S,F:F,AF11) -> 0 | AX11: =+SUMIFS(X:X,F:F,AF11) -> 0 | AY11: =+SUMIFS(Y:Y,F:F,AF11) -> 0 | AZ11: =+AV11+AX11 -> 0 | BA11: =+AW11+AY11 -> 0 | BB11: =+SUMIFS(V:V,F:F,AF11) -> 0 | BC11: =+SUMIFS(W:W,F:F,AF11) -> 0 | BD11: =+SUMIFS(AC:AC,F:F,AF11) -> 0 | BE11: =+SUMIFS(AB:AB,F:F,AF11) -> 0
B12: =+B11+1 -> 9 | C12: * Андижон шахридаги 8-сон оилавий поликлиникани янгидан қуриш | D12: New building for family polyclinic No. 8 in Andijan city | E12: Ministry of Health | F12: Andijan | G12: Кодиров Зафаржон | H12: 906240550 | I12: 44166 | J12: 44555 | K12: "Азимут Сртой" МЧЖ | L12: Private entity | M12: Construction | N12: Multidisciplinary hospital | O12: Construction of a new building for a family polyclinic No. 8 in Andijan city with 350 ambulatory beds | P12: Urban | Q12: 9393.3399 | R12: 0 | S12: 0 | T12: 0 | U12: Renovation of existing building and Construction of additional new building | V12: 4500 | W12: 5710 | X12: 0 | Y12: 350 | Z12: 257 | AA12: 47 | AB12: 44000 | AC12: 28640 | AF12: Republic of Karakalpakistan | AG12: =+SUMIFS(Q:Q,F:F,AF12) -> 13653.577 | AH12: =+AG12/$AG$18 -> 0.039702966 | AI12: =SUMIFS(Q:Q,F:F,AF12,P:P,$P$5) -> 7252.531 | AJ12: =+AI12/$AI$18 -> 0.040755435 | AK12: =SUMIFS(Q:Q,F:F,AF12,P:P,$P$4) -> 6401.046 | AL12: =+AK12/$AK$18 -> 0.038574312 | AM12: =SUMIFS(Q:Q,F:F,AF12,M:M,$M$4) -> 0 | AN12: =+AM12/$AM$18 -> 0 | AO12: =SUMIFS(Q:Q,F:F,AF12,M:M,$M$6) -> 13653.577 | AP12: =+AO12/$AO$18 -> 0.049009339 | AQ12: =+SUMIFS(T:T,F:F,AF12) -> 210.25 | AR12: =+AS12+AT12 -> 45 | AS12: =+SUMIFS(Z:Z,F:F,AF12) -> 29 | AT12: =+SUMIFS(AA:AA,F:F,AF12) -> 16 | AU12: =+AQ12+AR12 -> 255.25 | AV12: =+SUMIFS(R:R,F:F,AF12) -> 165 | AW12: =+SUMIFS(S:S,F:F,AF12) -> 100 | AX12: =+SUMIFS(X:X,F:F,AF12) -> 0 | AY12: =+SUMIFS(Y:Y,F:F,AF12) -> 0 | AZ12: =+AV12+AX12 -> 165 | BA12: =+AW12+AY12 -> 100 | BB12: =+SUMIFS(V:V,F:F,AF12) -> 9138.78 | BC12: =+SUMIFS(W:W,F:F,AF12) -> 9138.78 | BD12: =+SUMIFS(AC:AC,F:F,AF12) -> 20201 | BE12: =+SUMIFS(AB:AB,F:F,AF12) -> 2024507
B13: =+B12+1 -> 10 | C13: Хўжаобод тумани тиббиёт бирлашмаси (15 ўринли жарроҳлик, 15 ўринли шошилинч тез ёрдам бўлими, 45 ўринли терапия, 35 ўринли болалар бўлимлари) | D13: Khojaabad District Hospital | E13: Ministry of Health | F13: Andijan | G13: Камолов Аваз | H13: 934137731 | I13: 44306 | J13: 44682 | K13: "Стандарт бинокор қурилиш" МЧЖ | L13: Private entity | M13: Reconstruction | N13: Multidisciplinary hospital | O13: Reconstruction of 5-fixed-bed surgery, 15-fixed-bed emergency, 45-fixed-bed therapy and 35-fixed-bed pediatric departments in Khojaabad District Hospital | P13: Rural | Q13: 9113.8143 | R13: 110 | S13: 0 | T13: 137 | U13: Renovation of existing building and Construction of additional new building | V13: 800 | W13: 1200 | X13: 0 | Y13: 0 | Z13: 17 | AA13: 7 | AB13: 115000 | AC13: 45941 | AF13: Samarkand | AG13: =+SUMIFS(Q:Q,F:F,AF13) -> 14277.279 | AH13: =+AG13/$AG$18 -> 0.041516618 | AI13: =SUMIFS(Q:Q,F:F,AF13,P:P,$P$5) -> 14277.279 | AJ13: =+AI13/$AI$18 -> 0.080230852 | AK13: =SUMIFS(Q:Q,F:F,AF13,P:P,$P$4) -> 0 | AL13: =+AK13/$AK$18 -> 0 | AM13: =SUMIFS(Q:Q,F:F,AF13,M:M,$M$4) -> 0 | AN13: =+AM13/$AM$18 -> 0 | AO13: =SUMIFS(Q:Q,F:F,AF13,M:M,$M$6) -> 14277.279 | AP13: =+AO13/$AO$18 -> 0.051248111 | AQ13: =+SUMIFS(T:T,F:F,AF13) -> 231 | AR13: =+AS13+AT13 -> 20 | AS13: =+SUMIFS(Z:Z,F:F,AF13) -> 20 | AT13: =+SUMIFS(AA:AA,F:F,AF13) -> 0 | AU13: =+AQ13+AR13 -> 251 | AV13: =+SUMIFS(R:R,F:F,AF13) -> 315 | AW13: =+SUMIFS(S:S,F:F,AF13) -> 0 | AX13: =+SUMIFS(X:X,F:F,AF13) -> 20 | AY13: =+SUMIFS(Y:Y,F:F,AF13) -> 0 | AZ13: =+AV13+AX13 -> 335 | BA13: =+AW13+AY13 -> 0 | BB13: =+SUMIFS(V:V,F:F,AF13) -> 3712.61 | BC13: =+SUMIFS(W:W,F:F,AF13) -> 3860.11 | BD13: =+SUMIFS(AC:AC,F:F,AF13) -> 453500 | BE13: =+SUMIFS(AB:AB,F:F,AF13) -> 564022
B14: =+B13+1 -> 11 | C14: Қўрғонтепа тумани тиббиёт бирлашмаси (50 ўринли болалар бўлими ва қабул диагностика бўлимини собиқ туғруқ комплекси биносига жойлаштириш ва ёрдамчи бинолар) | D14: Kurgontepa District Hospital | E14: Ministry of Health | F14: Andijan | G14: Мамажонов Лазиз | H14: 994350544 | I14: 44317 | J14: 44531 | K14: Азимут Строй МЧЖ | L14: Private entity | M14: Reconstruction | N14: Multidisciplinary hospital | O14: Relocating the 50-fixed-bed children's department and admission diagnostic department to the building of the former maternity complex of Kurgontepa District Hospital | P14: Rural | Q14: 7771.0439 | R14: 50 | S14: 0 | T14: 45 | U14: Renovation of an existing building | V14: 1035.8 | W14: 1035.8 | X14: 0 | Y14: 0 | Z14: 0 | AA14: 0 | AB14: 230000 | AC14: 14600 | AF14: Sirdarya | AG14: =+SUMIFS(Q:Q,F:F,AF14) -> 10392.385 | AH14: =+AG14/$AG$18 -> 0.030219811 | AI14: =SUMIFS(Q:Q,F:F,AF14,P:P,$P$5) -> 0 | AJ14: =+AI14/$AI$18 -> 0 | AK14: =SUMIFS(Q:Q,F:F,AF14,P:P,$P$4) -> 10392.385 | AL14: =+AK14/$AK$18 -> 0.062627126 | AM14: =SUMIFS(Q:Q,F:F,AF14,M:M,$M$4) -> 0 | AN14: =+AM14/$AM$18 -> 0 | AO14: =SUMIFS(Q:Q,F:F,AF14,M:M,$M$6) -> 10392.385 | AP14: =+AO14/$AO$18 -> 0.037303334 | AQ14: =+SUMIFS(T:T,F:F,AF14) -> 45 | AR14: =+AS14+AT14 -> 0 | AS14: =+SUMIFS(Z:Z,F:F,AF14) -> 0 | AT14: =+SUMIFS(AA:AA,F:F,AF14) -> 0 | AU14: =+AQ14+AR14 -> 45 | AV14: =+SUMIFS(R:R,F:F,AF14) -> 63 | AW14: =+SUMIFS(S:S,F:F,AF14) -> 0 | AX14: =+SUMIFS(X:X,F:F,AF14) -> 0 | AY14: =+SUMIFS(Y:Y,F:F,AF14) -> 0 | AZ14: =+AV14+AX14 -> 63 | BA14: =+AW14+AY14 -> 0 | BB14: =+SUMIFS(V:V,F:F,AF14) -> 976 | BC14: =+SUMIFS(W:W,F:F,AF14) -> 1451 | BD14: =+SUMIFS(AC:AC,F:F,AF14) -> 19037 | BE14: =+SUMIFS(AB:AB,F:F,AF14) -> 878591
B15: =+B14+1 -> 12 | C15: Марҳамат тумани тиббиёт бирлашмаси (50 ўринли болалар бўлими ёрдамчи бинолар) | D15: Merhamat District Hospital | E15: Ministry of Health | F15: Andijan | G15: Шарипов Нозимжон | H15: 979924664 | I15: 44166 | J15: 44197 | K15: "Барака Файз" МЧЖ | L15: Private entity | M15: Reconstruction | N15: Multidisciplinary hospital | O15: Reconstruction of 50-fixed-bed children's department with additional buildings for extra 50 fixed beds in Merhamat District Hospital | P15: Rural | Q15: 6349.7535 | R15: 50 | S15: 0 | T15: 190 | U15: Renovation of existing building and Construction of additional new building | V15: 525 | W15: 1200 | X15: 50 | Y15: 0 | Z15: 6 | AA15: 3 | AB15: 190000 | AC15: 8448 | AF15: Surkhandarya | AG15: =+SUMIFS(Q:Q,F:F,AF15) -> 37533.837 | AH15: =+AG15/$AG$18 -> 0.1091439 | AI15: =SUMIFS(Q:Q,F:F,AF15,P:P,$P$5) -> 37533.837 | AJ15: =+AI15/$AI$18 -> 0.21092056 | AK15: =SUMIFS(Q:Q,F:F,AF15,P:P,$P$4) -> 0 | AL15: =+AK15/$AK$18 -> 0 | AM15: =SUMIFS(Q:Q,F:F,AF15,M:M,$M$4) -> 0 | AN15: =+AM15/$AM$18 -> 0 | AO15: =SUMIFS(Q:Q,F:F,AF15,M:M,$M$6) -> 37533.837 | AP15: =+AO15/$AO$18 -> 0.13472723 | AQ15: =+SUMIFS(T:T,F:F,AF15) -> 170 | AR15: =+AS15+AT15 -> 107 | AS15: =+SUMIFS(Z:Z,F:F,AF15) -> 66 | AT15: =+SUMIFS(AA:AA,F:F,AF15) -> 41 | AU15: =+AQ15+AR15 -> 277 | AV15: =+SUMIFS(R:R,F:F,AF15) -> 240 | AW15: =+SUMIFS(S:S,F:F,AF15) -> 0 | AX15: =+SUMIFS(X:X,F:F,AF15) -> 120 | AY15: =+SUMIFS(Y:Y,F:F,AF15) -> 0 | AZ15: =+AV15+AX15 -> 360 | BA15: =+AW15+AY15 -> 0 | BB15: =+SUMIFS(V:V,F:F,AF15) -> 4590.36 | BC15: =+SUMIFS(W:W,F:F,AF15) -> 6444.76 | BD15: =+SUMIFS(AC:AC,F:F,AF15) -> 37052 | BE15: =+SUMIFS(AB:AB,F:F,AF15) -> 560754
B16: =+B15+1 -> 13 | C16: Избоскан туманидаги Чуама "Мурувват" ногиронлиги бўлган аёллар учун интернат уйи | D16: Boarding house "Chuama "Muruvat" for women with disabilities in Izboskan district | E16: Ministry of Health | F16: Andijan | G16: Абдулатибов Абдулхамид | H16: 914819888 | I16: 43952 | J16: 44378 | K16: Иззатбек савдо капитали МЧЖ | L16: Private entity | M16: Reconstruction | N16: Hospital for disabled people | O16: Reconstruction of 200-fixed-bed boarding house Chuama "Muruvat" for women with disabilities in Izboskan district with additional 145 fixed beds | P16: Rural | Q16: 7054.5 | R16: 200 | S16: 0 | T16: 190 | U16: Renovation of existing building and Construction of additional new building | V16: 1600 | W16: 2500 | X16: 145 | Y16: 0 | Z16: 8 | AA16: 12 | AB16: 255000 | AC16: 8280 | AF16: Tashkent city | AG16: =+SUMIFS(Q:Q,F:F,AF16) -> 0 | AH16: =+AG16/$AG$18 -> 0 | AI16: =SUMIFS(Q:Q,F:F,AF16,P:P,$P$5) -> 0 | AJ16: =+AI16/$AI$18 -> 0 | AK16: =SUMIFS(Q:Q,F:F,AF16,P:P,$P$4) -> 0 | AL16: =+AK16/$AK$18 -> 0 | AM16: =SUMIFS(Q:Q,F:F,AF16,M:M,$M$4) -> 0 | AN16: =+AM16/$AM$18 -> 0 | AO16: =SUMIFS(Q:Q,F:F,AF16,M:M,$M$6) -> 0 | AP16: =+AO16/$AO$18 -> 0 | AQ16: =+SUMIFS(T:T,F:F,AF16) -> 0 | AR16: =+AS16+AT16 -> 0 | AS16: =+SUMIFS(Z:Z,F:F,AF16) -> 0 | AT16: =+SUMIFS(AA:AA,F:F,AF16) -> 0 | AU16: =+AQ16+AR16 -> 0 | AV16: =+SUMIFS(R:R,F:F,AF16) -> 0 | AW16: =+SUMIFS(S:S,F:F,AF16) -> 0 | AX16: =+SUMIFS(X:X,F:F,AF16) -> 0 | AY16: =+SUMIFS(Y:Y,F:F,AF16) -> 0 | AZ16: =+AV16+AX16 -> 0 | BA16: =+AW16+AY16 -> 0 | BB16: =+SUMIFS(V:V,F:F,AF16) -> 0 | BC16: =+SUMIFS(W:W,F:F,AF16) -> 0 | BD16: =+SUMIFS(AC:AC,F:F,AF16) -> 0 | BE16: =+SUMIFS(AB:AB,F:F,AF16) -> 0
B17: =+B16+1 -> 14 | C17: Вилоят Ногиронлиги бўлган шахсларни реабилитация қилиш ва протезлаш маркази | D17: Regional Rehabilitation and Prosthetic Center for People with Disabilities | E17: Ministry of Health | F17: Andijan | G17: Шералихонов Нозимхон | H17: 978370036 | I17: 43952 | J17: 44499 | K17: "Азимут Сртой" МЧЖ | L17: Private entity | M17: Reconstruction | N17: Hospital for disabled people | O17: Reconstruction of 50-fixed-bed Regional Rehabilitation and Prosthetic Center for Persons with Disabilities with additional 100 fixed beds | P17: Urban | Q17: 8441.541 | R17: 50 | S17: 0 | T17: 80 | U17: Renovation of existing building and Construction of additional new building | V17: 3200 | W17: 5433 | X17: 100 | Y17: 0 | Z17: 54 | AA17: 6 | AB17: 3253528 | AC17: 7600 | AF17: Tashkent region | AG17: =+SUMIFS(Q:Q,F:F,AF17) -> 105791.76 | AH17: =+AG17/$AG$18 -> 0.30762976 | AI17: =SUMIFS(Q:Q,F:F,AF17,P:P,$P$5) -> 55063.939 | AJ17: =+AI17/$AI$18 -> 0.30943057 | AK17: =SUMIFS(Q:Q,F:F,AF17,P:P,$P$4) -> 50727.82 | AL17: =+AK17/$AK$18 -> 0.30569859 | AM17: =SUMIFS(Q:Q,F:F,AF17,M:M,$M$4) -> 33475.053 | AN17: =+AM17/$AM$18 -> 0.51262072 | AO17: =SUMIFS(Q:Q,F:F,AF17,M:M,$M$6) -> 72316.706 | AP17: =+AO17/$AO$18 -> 0.25957989 | AQ17: =+SUMIFS(T:T,F:F,AF17) -> 390 | AR17: =+AS17+AT17 -> 565 | AS17: =+SUMIFS(Z:Z,F:F,AF17) -> 494 | AT17: =+SUMIFS(AA:AA,F:F,AF17) -> 71 | AU17: =+AQ17+AR17 -> 955 | AV17: =+SUMIFS(R:R,F:F,AF17) -> 265 | AW17: =+SUMIFS(S:S,F:F,AF17) -> 0 | AX17: =+SUMIFS(X:X,F:F,AF17) -> 280 | AY17: =+SUMIFS(Y:Y,F:F,AF17) -> 300 | AZ17: =+AV17+AX17 -> 545 | BA17: =+AW17+AY17 -> 300 | BB17: =+SUMIFS(V:V,F:F,AF17) -> 5981.16 | BC17: =+SUMIFS(W:W,F:F,AF17) -> 20076.33 | BD17: =+SUMIFS(AC:AC,F:F,AF17) -> 365953 | BE17: =+SUMIFS(AB:AB,F:F,AF17)-AB4-AB5-AB7-AB8-AB9-AB10 -> 3090000 | BF17: Removed number of people being double counted
B18: =+B17+1 -> 15 | C18: Бўзатов туманидаги тиббиёт бирлашмаси (100 қатновли кўп тармоқли марказий поликлиника, 15 ўринли шошилинч тез ёрдам бўлими, 5 ўринли юқумли касалликлар, 10 ўринли терапия, 10 ўринли туғруқ, 5 ўринли болалар бўлимлари ҳамда Бўзатов тумани Санитария эпедимиология хизматини жойлаштириш) | D18: Bozatov District Hospital | E18: Ministry of Health | F18: Republic of Karakalpakistan | G18: Балтабаев Дамир | H18: +99897-500-99-88 | I18: 12.05.2021 | J18: 44528 | K18: ООО "Бахыт миратдин курылыс" | L18: Private entity | M18: Reconstruction | N18: Multidisciplinary hospital | O18: Reconstruction of a multidisciplinary central polyclinic with 100 ambulator beds, 15-fixed-bed emergency, 5-fixed-bed infectious diseases, 10-fixed-bed therapy, 10-fixed-bed maternity and 5-fixed-bed children's departments as well as district sanitary epidemiology service in Bozatov District Hospital | P18: Rural | Q18: 7252.531 | R18: 45 | S18: 100 | T18: =79+2+43.25+2 -> 126.25 | U18: Renovation of an existing building | V18: 5111 | W18: 5111 | X18: 0 | Y18: 0 | Z18: 29 | AA18: 16 | AB18: 21839 | AC18: =2329+2696+2634+1987 -> 9646 | AG18: =+SUM(AG4:AG17) -> 343893.12 | AI18: =+SUM(AI4:AI17) -> 177952.48 | AK18: =+SUM(AK4:AK17) -> 165940.64 | AM18: =+SUM(AM4:AM17) -> 65301.794 | AO18: =+SUM(AO4:AO17) -> 278591.33 | AQ18: =+SUM(AQ4:AQ17) -> 3046.5 | AR18: =+SUM(AR4:AR17) -> 1965.25 | AS18: =+SUM(AS4:AS17) -> 1665 | AT18: =+SUM(AT4:AT17) -> 300.25 | AU18: =+SUM(AU4:AU17) -> 5011.75 | AV18: =+SUM(AV4:AV17) -> 3028 | AW18: =+SUM(AW4:AW17) -> 260 | AX18: =+SUM(AX4:AX17) -> 1207 | ... BE18: =+SUM(BE4:BE17) -> 14972453
B19: =+B18+1 -> 16 | C19: Республика болалар юқумли касалликлар шифохонаси (120 ўринли даволаш бўлими) | D19: Republican Hospital for Children's Infectious Diseases | E19: Ministry of Health | F19: Republic of Karakalpakistan | G19: Балтабаев Дамир | H19: +99897-500-99-88 | I19: 20.04.2021 | J19: 44525 | K19: OOO "NOKIS ILDYAR QURILISH" | L19: Private entity | M19: Reconstruction | N19: Children's Infectious Diseases hospital | O19: Reconstruction of 120-fixed-bed treatment department of Children's Infectious Diseases Hospital of the Republic of Karakalpakstan | P19: Urban | Q19: 6401.046 | R19: 120 | S19: 0 | T19: 84 | U19: Renovation of an existing building | V19: 4027.78 | W19: 4027.78 | X19: 0 | Y19: 0 | Z19: 0 | AA19: 0 | AB19: 2002668 | AC19: 10555 | AG19: =+AG18=Q40 -> TRUE | AK19: =+AI18+AK18=AG18 -> TRUE | AO19: =+AM18+AO18=AG18 -> TRUE | AQ19: =+AQ18=T40 -> TRUE | AR19: =+AT18+AS18=AR18 -> TRUE | AS19: =+AS18=Z40 -> TRUE | AT19: =+AT18=AA40 -> TRUE | AU19: =+AU18=AQ18+AR18 -> TRUE | AV19: =+AV18=R40 -> TRUE | AW19: =+AW18=S40 -> TRUE | AX19: =+AX18=X40 -> TRUE | AY19: =+AY18=Y40 -> TRUE | AZ19: =+AZ18=AV18+AX18 -> TRUE | BA19: =+BA18=AW18+AY18 -> TRUE | BB19: =+BB18=V40 -> TRUE | BC19: =+BC18=W40 -> TRUE | BD19: =+BD18=AC40 -> TRUE | BE19: =+BE18=AB40 -> TRUE
B20: =+B19+1 -> 17 | C20: Каттақўрғон туман тиббиёт бирлашмаси (30 ўринли жарроҳлик, 110 ўринли туғруқ, қабул диагностика ва бошқа ёрдамчи бинолар) | D20: Kattakurgan District Hospital | E20: Ministry of Health | F20: Samarkand | G20: Васиев Нурали Рустамович | H20: 93 346 46 16 | I20: 44197 | J20: 44645 | K20: "Турон" хк | L20: Private entity | M20: Reconstruction | N20: Multidisciplinary hospital | O20: Reconstruction of the 30-fixed-bed surgery and 110-fixed-bed maternity departments, admission diagnostics and other auxiliary buildings with 35 fixed beds of the Kattakurgan District Hospital | P20: Rural | Q20: 7169.8076 | R20: 175 | T20: 147 | U20: Renovation of existing building and Construction of additional new building | V20: 2009.1 | W20: 2156.6 | X20: 0 | Y20: 0 | Z20: 0 | AA20: 0 | AB20: 291179 | AC20: 282200
B21: =+B20+1 -> 18 | C21: Самарканд туман тиббиёт бирлашмаси (140 уринли терапия мажмуаси) | D21: Samarkand District Hospital | E21: Ministry of Health | F21: Samarkand | G21: Элбоев Илхом Субхонкулович | H21: +998982738224 | I21: 30 12.2021 | J21: 30 12 2022 | K21: МКК 7 МЧЖ | L21: Private entity | M21: Reconstruction | N21: Multidisciplinary hospital | O21: Reconstruction of a 140-fixed-bed therapy department of the Samarkand District Hospital with additional 20 fixed beds. Cardiology 40 beds, Neurology 40 beds, Endocrinology 40 beds and Physiotherapy 20+20 beds | P21: Rural | Q21: 7107.4718 | R21: 140 | T21: 84 | U21: Renovation of an existing building | V21: 1703.51 | W21: 1703.51 | X21: 20 | Y21: 0 | Z21: 20 | AA21: 0 | AB21: 272843 | AC21: 171300
B22: =+B21+1 -> 19 | C22: Зомин туман тиббиёт бирлашмаси (150 қатновли кўп тармоқли марказий поликлиника, 50 ўринли болалар бўлими биноси) | D22: Zomin District Hospital | E22: Ministry of Health | F22: Jizzakh | G22: Эргашев Азамат Улуғбек ўғли | H22: 99-166-88-00 | I22: 27.04.2020 | J22: 01.11.2021 | K22: "Ж-Қурувчи"МЧЖ | L22: Private entity | M22: Reconstruction | N22: Multidisciplinary hospital | O22: Reconstruction of the building of the multidisciplinary central polyclinic with 150 ambulator beds and children's department with 50 fixed beds in Zomin District Hospital | P22: Rural | Q22: 3557.822 | R22: 50 | S22: 150 | T22: 159 | U22: Renovation of existing building and Construction of additional new building | V22: 11685 | W22: 14046 | X22: 0 | Y22: 0 | Z22: 0 | AA22: 0 | AB22: 171334 | AC22: 48811
B23: =+B22+1 -> 20 | C23: Наманган шаҳар 300 ўринли болалар шифохонаси (даволаш бўлими) | D23: Children's Hospital in Namangan city | E23: Ministry of Health | F23: Namangan | G23: Исмаилов самад Абдусаламович | H23: +998913526975 | I23: 43521 | J23: 44530 | K23: "Бунёдкор Мубошер" МЧЖ | L23: Private entity | M23: Reconstruction | N23: Children's multidisciplinary hospital | O23: Reconstruction of a 300-fixed-bed children's hospital in Namangan city | P23: Urban | Q23: 14260.615 | R23: 300 | S23: 0 | T23: 228 | U23: Renovation of existing building and Construction of additional new building | V23: 16846 | W23: 17926 | X23: 0 | Y23: 0 | Z23: 52 | AA23: 0 | AB23: 672000 | AC23: 97938
B24: =+B23+1 -> 21 | C24: Наманган шаҳар 230 ўринли 2-сон туғруқ мажмуаси | D24: Maternity complex No. 2 in Namangan city | E24: Ministry of Health | F24: Namangan | G24: Ибрагимова Дилбар Исмаиловна | H24: +998973727625 | I24: 43538 | J24: 44530 | K24: "Чортьоқ архитек қурилиш" МЧЖ | L24: Private entity | M24: Reconstruction | N24: Maternity & perinatal hospitals | O24: Reconstruction of a 230-fixed-bed maternity complex No. 2 in Namangan city | P24: Urban | Q24: 12214.096 | R24: 230 | S24: 0 | T24: 210 | U24: Renovation of an existing building | V24: 14258 | W24: 14258 | X24: 0 | Y24: 0 | Z24: 0 | AA24: 0 | AB24: 672000 | AC24: 79861
B25: =+B24+1 -> 22 | C25: Наманган туман тиббиёт бирлашмаси биносини қайта қуриш | D25: Namangan District Hospital | E25: Ministry of Health | F25: Namangan | G25: Махкамов Қосимжон | H25: 99 534 20 02 | I25: 43831 | J25: 44561 | K25: Чортоқ Баркамол сервис МЧЖ | L25: Private entity | M25: Reconstruction | N25: Multidisciplinary hospital | O25: Reconstruction of 95-fixed-bed children's, 30-fixed-bed emergency and 30-fixed-bed planned surgery departments of Namangan District Hospital | P25: Rural | Q25: 6208.1021 | R25: 155 | S25: 0 | T25: 109 | U25: Renovation of existing building and Construction of additional new building | V25: 5503.12 | W25: 5804.27 | X25: 0 | Y25: 0 | Z25: 57 | AA25: 15 | AB25: 192700 | AC25: 22925
B26: =+B25+1 -> 23 | C26: Яккабоғ қўрғонидаги туман шифохонаси (авария ҳолатидаги 65 ўринли туғруқ комплекси) | D26: District hospital in Yakkabog fortress | E26: Ministry of Health | F26: Kashkadarya | G26: Бекзод Абдирахмонов | H26: 91-950-78-88 | I26: 25.03.2021 | J26: 44469 | K26: "YAKKABOG`-MAXSUSSUVPUDRAT" МЧЖ | L26: Private entity | M26: Construction | N26: Multidisciplinary hospital | O26: Construction of a new building for 65-fixed-bed maternity complex at the district hospital in Yakkabog fortress | P26: Rural | Q26: 5568.3761 | R26: 0 | S26: 0 | T26: 0 | U26: Construction of a new building | V26: 0 | W26: 675 | X26: 65 | Y26: 0 | Z26: 45 | AA26: 25 | AB26: 271041 | AC26: 7250
B27: =+B26+1 -> 24 | C27: Чироқчи туман тиббиёт бирлашмаси (25 ўринли Уйшун филиали) | D27: New Uyshun branch of Chirakchi District Hospital | E27: Ministry of Health | F27: Kashkadarya | G27: Бекзод Абдирахмонов | H27: 91-950-78-88 | I27: 15.04.2021 | J27: 44469 | K27: Алибек Файз Люкс МЧЖ | L27: Private entity | M27: Construction | N27: Multidisciplinary hospital | O27: Construction of a new 25-fixed-seat Uyshun branch in the Chirakchi District Medical Association | P27: Rural | Q27: 3156.4207 | R27: 0 | S27: 0 | T27: 0 | U27: Construction of a new building | V27: 0 | W27: 1600 | X27: 25 | Y27: 0 | Z27: 20 | AA27: 6 | AB27: 431993 | AC27: 6670
B28: =+B27+1 -> 25 | C28: Қарши шаҳридаги 220 ўринли Республика шошилинч тиббий ёрдам илмий маркази Қашқадарё филиалини реконструкция қилиш | D28: Kashkadarya branch of the Republican Emergency Medical Research Center in Karshi city | E28: Ministry of Health | F28: Kashkadarya | G28: Бекзод Абдирахмонов | H28: 91-950-78-88 | I28: 43191 | J28: 45214 | K28: "QURILISH-MONTAJ VA TA'MIRLASH" unitar korxonasi | L28: Private entity | M28: Reconstruction | N28: Emergency medical center | O28: Reconstruction of the Kashkadarya branch of the 220-fixed-bed Republican Emergency Medical Research Center in Karshi city | P28: Urban | Q28: 6932.027 | R28: 220 | S28: 0 | T28: 130 | U28: Renovation of an existing building | V28: 2285 | W28: 2285 | X28: 0 | Y28: 0 | Z28: 80 | AA28: 0 | AB28: 283146 | AC28: 172124
B29: =+B28+1 -> 26 | C29: Қўқон шаҳридаги вилоят болалар суяк сили санаторияси | D29: Regional Children's Bone Tuberculosis Sanatorium in Kokand city | E29: Ministry of Health | F29: Fergana | G29: Ўринов Жамолхон | H29: +998905061427 | I29: 44197 | J29: 44561 | K29: "Фарғона Меъмор Қурилиш" МЧЖ | L29: Private entity | M29: Construction | N29: Children's Bone Tuberculosis Sanatorium | O29: Сonstruction of 200-fixed-bed regional children's tuberculosis sanatorium in Kokand city | P29: Urban | Q29: 8349.2876 | R29: 0 | S29: 0 | T29: 0 | U29: Renovation of an existing building | V29: =+W29 -> 3616 | W29: 3616 | X29: 200 | Y29: 0 | Z29: 180 | AA29: 20 | AB29: 309148 | AC29: 2852
B30: =+B29+1 -> 27 | C30: Қўқон шаҳар шошилинч тез-тиббий ёрдам маркази | D30: Kokand City Emergency Medical Center | E30: Ministry of Health | F30: Fergana | G30: Назиров Б.М | H30: 93.418-88-75 | I30: 44197 | J30: 44561 | K30: "Водий Юксак Омад Таъмир" МЧЖ | L30: Private entity | M30: Reconstruction | N30: Emergency medical center | O30: Reconstruction of Kokand emergency medical center increasing fixed beds from 110 to 237 | P30: Urban | Q30: 11322.334 | R30: 110 | S30: 0 | T30: 120 | U30: Renovation of an existing building | V30: 23915 | W30: 23915 | X30: 127 | Y30: 0 | Z30: 136 | AA30: 10 | AB30: 309148 | AC30: 45498
B31: =+B30+1 -> 28 | C31: Қўқон шаҳридаги "Мурувват" ногиронлиги бўлган эркаклар учун интернат уйи | D31: Boarding house "Muruvat" for men with disabilities in Kokand city | E31: Ministry of Health | F31: Fergana | G31: Солиев Ойбек | H31: 90-290-6220 | I31: 43831 | J31: 44561 | K31: "Фарғона Кристал Қурилиш" ХК | L31: Private entity | M31: Reconstruction | N31: Hospital for disabled people | O31: Reconstruction of boarding house for men with disabilities "Muruvat" in Kokand city increasing fixed beds from 300 to 355 | P31: Urban | Q31: 6223.6178 | R31: 300 | S31: 0 | T31: 197.25 | U31: Renovation of an existing building | V31: 20248 | W31: 20248 | X31: 55 | Y31: 0 | Z31: 21 | AA31: 2.25 | AB31: 309148 | AC31: 355
B32: =+B31+1 -> 29 | C32: Фарғона туман тиббиёт бирлашмаси (30 ўринли шошилинч тез ёрдам ва 30 ўринли жарроҳлик бўлимлари) | D32: Fergana District Hospital | E32: Ministry of Health | F32: Fergana | G32: Рахмонов Машхурбек | H32: 90-584-55-05 | I32: 44197 | J32: 44561 | K32: "296-ХИКМК" МЧЖ | L32: Private entity | M32: Reconstruction | N32: Multidisciplinary hospital | O32: Reconstruction of 30-fixed-bed emergency ambulance and 30-fixed-bed surgical departments of the Fergana District Hospital | P32: Rural | Q32: 7416.5808 | R32: 60 | S32: 0 | T32: 99 | U32: Renovation of existing building and Construction of additional new building | V32: 1370 | W32: 2240 | X32: 0 | Y32: 0 | Z32: 7 | AA32: 3 | AB32: 221458 | AC32: 10341
B33: =+B32+1 -> 30 | C33: Ёзёвон туман тиббиёт бирлашмаси (30 ўринли шошилинч тез ёрдам, 30 ўринли жарроҳлик бўлимлари) | D33: Yozhiovon District Hospital | E33: Ministry of Health | F33: Fergana | G33: Саримсақов Тош мухаммад Хамидович | H33: 91 662 04 44 | I33: 44197 | J33: 44561 | K33: "296-ХИКМК" МЧЖ | L33: Private entity | M33: Reconstruction | N33: Multidisciplinary hospital | O33: Reconstruction of 30-fixed-bed emergency ambulance and 30-fixed-bed surgical departments of the Yozhiovon District Hospital with additional 12 fixed beds | P33: Rural | Q33: 7628.4851 | R33: 60 | S33: 0 | T33: 70 | U33: Construction of a new building | V33: 450 | W33: 1400 | X33: 12 | Y33: 0 | Z33: 14 | AA33: 4 | AB33: 119773 | AC33: 5485
B34: =+B33+1 -> 31 | C34: Вилоят перинатал маркази (45 ўринли даволаш бўлими) | D34: Regional perinatal center | E34: Ministry of Health | F34: Kharezm | G34: Атаджанов Атаджон Дилшодович | H34: +998977440227 | I34: 43831 | J34: 44561 | K34: Бунёткор МЧЖ | L34: Private entity | M34: Reconstruction | N34: Maternity & perinatal hospitals | O34: Reconstruction of the regional perinatal center's treatment department with 35 fixed and 10 ambulator beds | P34: Urban | Q34: 15923.213 | R34: 35 | S34: 10 | T34: 36 | U34: Renovation of an existing building | V34: 8448 | W34: 8448 | X34: 0 | Y34: 0 | Z34: 0 | AA34: 0 | AB34: 1924163 | AC34: 2894
B35: =+B34+1 -> 32 | C35: Ангор туман тиббиёт бирлашмаси (50 ўринли жарроҳлик, шошилинч тез ёрдам ва 30 ўринли даволаш бўлимлари) | D35: Angor District Hospital | E35: Ministry of Health | F35: Surkhandarya | G35: Бердиев Руслан | H35: 91.588-54-04 | I35: 44197 | J35: 44561 | K35: "Динара" МЧЖ | L35: Private entity | M35: Reconstruction | N35: Multidisciplinary hospital | O35: Reconstruction of 50-fixed-bed surgical, emergency and 30-fixed-bed treatment units in Angor District Hospital | P35: Rural | Q35: 11740.775 | R35: 80 | S35: 0 | T35: 50 | U35: Renovation of existing building and Construction of additional new building | V35: 1535.26 | W35: 1878.4 | X35: 10 | Y35: 0 | Z35: 20 | AA35: 15 | AB35: 137503 | AC35: 4462
B36: =+B35+1 -> 33 | C36: Бандихон туман тиббиёт бирлашмаси (туман марказий шифохонаси ҳудудида қабул диагностика, 15 ўринли шошилинч тез ёрдам, 20 ўринли режали жарроҳлик, 15 ўринли болалар ва 20 ўринли терапия бўлимлари) | D36: Bandikhon District Hospital | E36: Ministry of Health | F36: Surkhandarya | G36: Менглиев Улугбек | H36: 99-376-85-09 | I36: 44197 | J36: 44561 | K36: Кафолат-Термиз | L36: Private entity | M36: Reconstruction | N36: Multidisciplinary hospital | O36: Reconstruction of admission diagnostics, 15-fixed-bed emergency, 20-fixed-bed planned surgery, 15-fixed-bed children's and 20-fixed-bed therapy departments in Bandikhon District Hospital | P36: Rural | Q36: 11965.29 | R36: 70 | S36: 0 | T36: 57 | U36: Construction of a new building | V36: 1023 | W36: 1644 | X36: 50 | Y36: 0 | Z36: 26 | AA36: 17 | AB36: 82984 | AC36: 17509
B37: =+B36+1 -> 34 | C37: Олтинсой туман тиббиёт бирлашмаси (30 ўринли шошилинч тез ёрдам ва 30 ўринли жарроҳлик бўлимлари) | D37: Oltinsoy District Hospital | E37: Ministry of Health | F37: Surkhandarya | G37: Абрайкулов Алишер | H37: 88.550-35-55 | I37: 43831 | J37: 44561 | K37: Хилола-Б | L37: Private entity | M37: Reconstruction | N37: Multidisciplinary hospital | O37: Reconstruction of 30-fixed-bed emergency and 30-fixed-bed surgical departments in Oltinsoy District Hospital | P37: Rural | Q37: 6371.1855 | R37: 60 | S37: 0 | T37: 37 | U37: Construction of a new building | V37: 1520 | W37: 1896 | X37: 60 | Y37: 0 | Z37: 20 | AA37: 9 | AB37: 192267 | AC37: 10196
B38: =+B37+1 -> 35 | C38: Музработ туман тиббиёт бирлашмаси (30 ўринли болалар ва реанимация бўлимлари) | D38: Muzrabot District Hospital | E38: Ministry of Health | F38: Surkhandarya | G38: Худойназаров Акмал | H38: 99 217 50 01 | I38: 44166 | J38: 44561 | K38: Асадуллаев Фирдавс Х/К | L38: Private entity | M38: Reconstruction | N38: Multidisciplinary hospital | O38: Reconstruction of 30-fixed-bed children's and intensive care units in Muzrabot District Hospital | P38: Rural | Q38: 7456.5872 | R38: 30 | S38: 0 | T38: 26 | U38: Construction of a new building | V38: 512.1 | W38: 1026.36 | X38: 0 | Y38: 0 | Z38: 0 | AA38: 0 | AB38: 148000 | AC38: 4885
B39: =+B38+1 -> 36 | C39: Вилоят кўп тармоқли тиббиёт маркази (63 ўринли даволаш бўлими) | D39: Regional multidisciplinary medical center | E39: Ministry of Health | F39: Sirdarya | G39: Шермаматов Рустам | H39: +99891-501-41-11 | I39: 43978 | J39: 44578 | K39: "Shoxruh-Demirbek" MChJ | L39: Private entity | M39: Reconstruction | N39: Multidisciplinary hospital | O39: Reconstruction of 63-fixed-bed treatment unit of the regional multidisciplinary medical center | P39: Urban | Q39: 10392.385 | R39: 63 | S39: 0 | T39: 45 | U39: Renovation of existing building and Construction of additional new building | V39: 976 | W39: 1451 | X39: 0 | Y39: 0 | Z39: 0 | AA39: 0 | AB39: 878591 | AC39: 19037
Q40: =+SUM(Q4:Q39) -> 343893.12 | R40: =+SUM(R4:R39) -> 3028 | S40: =+SUM(S4:S39) -> 260 | T40: =+SUM(T4:T39) -> 3046.5 | V40: =+SUM(V4:V39) -> 144683.83 | W40: =+SUM(W4:W39) -> 175444.97 | X40: =+SUM(X4:X39) -> 1207 | Y40: =+SUM(Y4:Y39) -> 900 | Z40: =+SUM(Z4:Z39) -> 1665 | AA40: =+SUM(AA4:AA39) -> 300.25 | AB40: =+SUM(AB4:AB39)-AB4-AB5-AB7-AB8-AB9-AB10-AB12-AB13-AB14-AB15-AB16-AB18-AB30-AB31-AB24 -> 14972453 | AC40: =+SUM(AC4:AC39) -> 1534206
AB41: Removed number of people being double counted

Sheet Drinking water
B1: DRINKING WATER AND SEWAGE PIPELINES | V1: Estimation | W1: Estimation
B2: No. | C2: Name of the project | D2: Responsible ministry | E2: Area (region) where the project has been implemented | F2: Name of the responsible employee | G2: Phone number of the responsible employee | H2: Project start date | I2: Project end date | J2: Name of general contracting organization | K2: General contracting organization type | L2: Construction / Reconstruction | M2: Project summary | N2: Located in rural/urban area | O2: Amount of financing (in UZS'm) | P2: Newly built and repaired drinking water networks | R2: Newly built and repaired waste water networks | T2: Number of people with IMPROVED drinking water and sanitary facilities | U2: Number of NEW (ADDITIONAL) PEOPLE covered with clean drinking water and sanitary facilities | V2: Volume of clean drinking water supplied to the population since the project started till June 1, 2024 (m.cub) | W2: Volume of treated wastewater since the project started till June 1, 2024 (m.cub) | AF2: Estimation | AG2: Estimation
P3: Newly built (km) | Q3: Repaired (km) | R3: Newly built (km) | S3: Repaired (km) | AA3: Region | AB3: Total Financing (in UZS'm) | AC3: % | AD3: Total number of people covered | AE3: % | AF3: Volume of clean drinking water supplied to the population since the project started till June 1, 2024 (m.cub) | AG3: Volume of treated wastewater since the project started till June 1, 2024 (m.cub) | AH3: Construction projects | AI3: Financing for construction (in UZS'm) | AJ3: % | AK3: Length of drinking water pipelines constructed | AL3: Length of waste water pipelines (sewage) constructed | AM3: Number of NEW people covered by construction | AN3: % | AO3: Reconstruction | AP3: Financing for reconstruction (in UZS'm) | AQ3: % | AR3: Length of drinking water pipelines reconstructed | AS3: Length of waste water pipelines (sewage) reconstructed | AT3: Number of people covered by reconstruction (with improved facilities) | AU3: %
B4: 1 | C4: Construction of drinking water networks in "Yangi Zarafshon" neighbourhood and 19th small neighbourhood in Zarafshon city | D4: JSC "Uzsuvtaminot" | E4: Navoi | F4: Сатторов Руслан | G4: 97-377-71-50 | H4: 44009 | I4: 44221 | J4: "Ишонч гилам" МЧЖ | K4: Private entity | L4: Construction | M4: Almost 6,000 people have been provided with clean drinking water | N4: Urban | O4: 5201.4889 | P4: 13.29 | Q4: 0 | R4: 0 | S4: 0 | T4: 0 | U4: 5990 | V4: 1050000 | W4: n/a | AA4: Andijan | AB4: =+SUMIFS(O:O,E:E,AA4) -> 5858.8965 | AC4: =+AB4/$AB$18 -> 0.044874133 | AD4: =+SUMIFS(T:T,E:E,AA4)+SUMIFS(U:U,E:E,AA4) -> 20150 | AE4: =+AD4/$AD$18 -> 0.11695194 | AF4: =+SUMIFS(V:V,E:E,AA4) -> 2160000 | AG4: =+SUMIFS(W:W,E:E,AA4) -> 2196000 | AH4: =+COUNTIFS(L:L,$L$4,E:E,AA4) -> 1 | AI4: =+SUMIFS(O:O,E:E,AA4,L:L,$L$4) -> 2833.4889 | AJ4: =+AI4/$AI$18 -> 0.032653509 | AK4: =+SUMIFS($P$4:$P$27,$E$4:$E$27,AA4,$L$4:$L$27,$L$4) -> 5 | AL4: =+SUMIFS($R$4:$R$27,$E$4:$E$27,AA4,$L$4:$L$27,$L$4) -> 5.5 | AM4: =+SUMIFS($U$4:$U$27,$E$4:$E$27,AA4) -> 13300 | AN4: =+AM4/$AM$18 -> 0.095550782 | AO4: =+COUNTIFS(L:L,$L$5,E:E,AA4) -> 1 | AP4: =+SUMIFS(O:O,E:E,AA4,L:L,$L$5) -> 3025.4077 | AQ4: =+AP4/$AP$18 -> 0.0690914 | AR4: =+SUMIFS($Q$4:$Q$27,$E$4:$E$27,AA4,$L$4:$L$27,$L$5) -> 0 | AS4: =+SUMIFS($S$4:$S$27,$E$4:$E$27,AA4,$L$4:$L$27,$L$5) -> 3 | AT4: =+SUMIFS($T$4:$T$27,$E$4:$E$27,AA4) -> 6850 | AU4: =+AT4/$AT$18 -> 0.20694864
B5: =+B4+1 -> 2 | C5: Reconstruction of sewage pumping station and sewage collector in Andijan district | D5: JSC "Uzsuvtaminot" | E5: Andijan | F5: Шодмонов Абдувахоб | G5: 93 6300014 | H5: 43958 | I5: 44560 | J5: Мукаммал дизайин лойиха МЧЖ "УФҚ-95" КТИЧСФ | K5: Private entity | L5: Reconstruction | M5: Reconstruction of the sewage pumping station and waste water collector have improved the wastewater system of almost 7,000 people | N5: Rural | O5: 3025.4077 | P5: 0 | Q5: 0 | R5: 0 | S5: 3 | T5: 6850 | U5: 0 | V5: n/a | W5: 900000 | AA5: Bukhara | AB5: =+SUMIFS(O:O,E:E,AA5) -> 0 | AC5: =+AB5/$AB$18 -> 0 | AD5: =+SUMIFS(T:T,E:E,AA5)+SUMIFS(U:U,E:E,AA5) -> 0 | AE5: =+AD5/$AD$18 -> 0 | AF5: =+SUMIFS(V:V,E:E,AA5) -> 0 | AG5: =+SUMIFS(W:W,E:E,AA5) -> 0 | AH5: =+COUNTIFS(L:L,$L$4,E:E,AA5) -> 0 | AI5: =+SUMIFS(O:O,E:E,AA5,L:L,$L$4) -> 0 | AJ5: =+AI5/$AI$18 -> 0 | AK5: =+SUMIFS($P$4:$P$27,$E$4:$E$27,AA5,$L$4:$L$27,$L$4) -> 0 | AL5: =+SUMIFS($R$4:$R$27,$E$4:$E$27,AA5,$L$4:$L$27,$L$4) -> 0 | AM5: =+SUMIFS($U$4:$U$27,$E$4:$E$27,AA5) -> 0 | AN5: =+AM5/$AM$18 -> 0 | AO5: =+COUNTIFS(L:L,$L$5,E:E,AA5) -> 0 | AP5: =+SUMIFS(O:O,E:E,AA5,L:L,$L$5) -> 0 | AQ5: =+AP5/$AP$18 -> 0 | AR5: =+SUMIFS($Q$4:$Q$27,$E$4:$E$27,AA5,$L$4:$L$27,$L$5) -> 0 | AS5: =+SUMIFS($S$4:$S$27,$E$4:$E$27,AA5,$L$4:$L$27,$L$5) -> 0 | AT5: =+SUMIFS($T$4:$T$27,$E$4:$E$27,AA5) -> 0 | AU5: =+AT5/$AT$18 -> 0
B6: =+B5+1 -> 3 | C6: Construction of water supply and sewage networks for high-rise buildings in "Ittifaq" neighbourhood, Khojaabad district | D6: JSC "Uzsuvtaminot" | E6: Andijan | F6: Жураев Бахтиёр | G6: 90 1421470 | H6: 44102 | I6: 44376 | J6: Улугнормахсуссувпудрат МЧЖ | K6: State enterprise | L6: Construction | M6: Water supply and wastewater systems have been provided to the residents of new multi-story buildings | N6: Rural | O6: 2833.4889 | P6: 5 | Q6: 0 | R6: 5.5 | S6: 0 | T6: 0 | U6: 13300 | V6: 2160000 | W6: 1296000 | AA6: Fergana | AB6: =+SUMIFS(O:O,E:E,AA6) -> 1398.0113 | AC6: =+AB6/$AB$18 -> 0.01070757 | AD6: =+SUMIFS(T:T,E:E,AA6)+SUMIFS(U:U,E:E,AA6) -> 7450 | AE6: =+AD6/$AD$18 -> 0.043240294 | AF6: =+SUMIFS(V:V,E:E,AA6) -> 1331500 | AG6: =+SUMIFS(W:W,E:E,AA6) -> 0 | AH6: =+COUNTIFS(L:L,$L$4,E:E,AA6) -> 1 | AI6: =+SUMIFS(O:O,E:E,AA6,L:L,$L$4) -> 1398.0113 | AJ6: =+AI6/$AI$18 -> 0.016110872 | AK6: =+SUMIFS($P$4:$P$27,$E$4:$E$27,AA6,$L$4:$L$27,$L$4) -> 4.117 | AL6: =+SUMIFS($R$4:$R$27,$E$4:$E$27,AA6,$L$4:$L$27,$L$4) -> 0 | AM6: =+SUMIFS($U$4:$U$27,$E$4:$E$27,AA6) -> 7450 | AN6: =+AM6/$AM$18 -> 0.053522806 | AO6: =+COUNTIFS(L:L,$L$5,E:E,AA6) -> 0 | AP6: =+SUMIFS(O:O,E:E,AA6,L:L,$L$5) -> 0 | AQ6: =+AP6/$AP$18 -> 0 | AR6: =+SUMIFS($Q$4:$Q$27,$E$4:$E$27,AA6,$L$4:$L$27,$L$5) -> 0 | AS6: =+SUMIFS($S$4:$S$27,$E$4:$E$27,AA6,$L$4:$L$27,$L$5) -> 0 | AT6: =+SUMIFS($T$4:$T$27,$E$4:$E$27,AA6) -> 0 | AU6: =+AT6/$AT$18 -> 0
B7: =+B6+1 -> 4 | C7: Reconstruction of drinking water networks in "Bayterak", "Akjabiz", "Shairlar", "Tinchlik", "Ornek" and "Sarbinaz" neighbourhoods in Nukus city | D7: JSC "Uzsuvtaminot" | E7: Republic of Karakalpakistan | F7: Балтабаев Дамир | G7: +99897-500-99-88 | H7: 44334 | I7: 44546 | J7: "SUXROB ZOXID" МЧЖ | K7: Private entity | L7: Reconstruction | M7: Access of 4,200 inhabitants to centralized drinking water system has been improved | N7: Urban | O7: 1373.211 | P7: 0 | Q7: 9.628 | R7: 0 | S7: 0 | T7: 4200 | U7: 0 | V7: 904640 | W7: n/a | AA7: Jizzakh | AB7: =+SUMIFS(O:O,E:E,AA7) -> 2164.4827 | AC7: =+AB7/$AB$18 -> 0.016578085 | AD7: =+SUMIFS(T:T,E:E,AA7)+SUMIFS(U:U,E:E,AA7) -> 10550 | AE7: =+AD7/$AD$18 -> 0.0612329 | AF7: =+SUMIFS(V:V,E:E,AA7) -> 1985500 | AG7: =+SUMIFS(W:W,E:E,AA7) -> 0 | AH7: =+COUNTIFS(L:L,$L$4,E:E,AA7) -> 1 | AI7: =+SUMIFS(O:O,E:E,AA7,L:L,$L$4) -> 2164.4827 | AJ7: =+AI7/$AI$18 -> 0.024943791 | AK7: =+SUMIFS($P$4:$P$27,$E$4:$E$27,AA7,$L$4:$L$27,$L$4) -> 12.5 | AL7: =+SUMIFS($R$4:$R$27,$E$4:$E$27,AA7,$L$4:$L$27,$L$4) -> 0 | AM7: =+SUMIFS($U$4:$U$27,$E$4:$E$27,AA7) -> 10550 | AN7: =+AM7/$AM$18 -> 0.075794041 | AO7: =+COUNTIFS(L:L,$L$5,E:E,AA7) -> 0 | AP7: =+SUMIFS(O:O,E:E,AA7,L:L,$L$5) -> 0 | AQ7: =+AP7/$AP$18 -> 0 | AR7: =+SUMIFS($Q$4:$Q$27,$E$4:$E$27,AA7,$L$4:$L$27,$L$5) -> 0 | AS7: =+SUMIFS($S$4:$S$27,$E$4:$E$27,AA7,$L$4:$L$27,$L$5) -> 0 | AT7: =+SUMIFS($T$4:$T$27,$E$4:$E$27,AA7) -> 0 | AU7: =+AT7/$AT$18 -> 0
B8: =+B7+1 -> 5 | C8: Building a new water network for Tubay settlement in the territory of the "Juzimbag" neighbourhood of Kegeili district | D8: JSC "Uzsuvtaminot" | E8: Republic of Karakalpakistan | F8: Балтабаев Дамир | G8: +99897-500-99-88 | H8: 44319 | I8: 44470 | J8: "ШУРАХОН КУРИЛИШ МОНТАЖ" МЧЖ | K8: Private entity | L8: Construction | M8: 258 households have been connected to the centralized drinking water network | N8: Rural | O8: 1312.3157 | P8: 10.261 | Q8: 0 | R8: 0 | S8: 0 | T8: 0 | U8: 1050 | V8: 297600 | W8: n/a | AA8: Kashkadarya | AB8: =+SUMIFS(O:O,E:E,AA8) -> 51911.898 | AC8: =+AB8/$AB$18 -> 0.39760071 | AD8: =+SUMIFS(T:T,E:E,AA8)+SUMIFS(U:U,E:E,AA8) -> 47915 | AE8: =+AD8/$AD$18 -> 0.27810184 | AF8: =+SUMIFS(V:V,E:E,AA8) -> 11895070 | AG8: =+SUMIFS(W:W,E:E,AA8) -> 0 | AH8: =+COUNTIFS(L:L,$L$4,E:E,AA8) -> 3 | AI8: =+SUMIFS(O:O,E:E,AA8,L:L,$L$4) -> 20938.542 | AJ8: =+AI8/$AI$18 -> 0.2412986 | AK8: =+SUMIFS($P$4:$P$27,$E$4:$E$27,AA8,$L$4:$L$27,$L$4) -> 18.2 | AL8: =+SUMIFS($R$4:$R$27,$E$4:$E$27,AA8,$L$4:$L$27,$L$4) -> 0 | AM8: =+SUMIFS($U$4:$U$27,$E$4:$E$27,AA8) -> 29115 | AN8: =+AM8/$AM$18 -> 0.20917 | AO8: =+COUNTIFS(L:L,$L$5,E:E,AA8) -> 4 | AP8: =+SUMIFS(O:O,E:E,AA8,L:L,$L$5) -> 30973.356 | AQ8: =+AP8/$AP$18 -> 0.70734021 | AR8: =+SUMIFS($Q$4:$Q$27,$E$4:$E$27,AA8,$L$4:$L$27,$L$5) -> 10.97 | AS8: =+SUMIFS($S$4:$S$27,$E$4:$E$27,AA8,$L$4:$L$27,$L$5) -> 0 | AT8: =+SUMIFS($T$4:$T$27,$E$4:$E$27,AA8) -> 18800 | AU8: =+AT8/$AT$18 -> 0.56797583
B9: =+B8+1 -> 6 | C9: Construction of drinking water network in "Sovot" neighbourhood of Yangiabad district | D9: JSC "Uzsuvtaminot" | E9: Jizzakh | F9: Эргашев Азамат Улуғбек ўғли | G9: 99-166-88-00 | H9: 13.07.2021 | I9: 15.11.2021 | J9: "TOZASUV INSHOAT" | K9: Private entity | L9: Construction | M9: Providing clean drinking water to more than 10,000 people living in the neighbourhood | N9: Rural | O9: 2164.4827 | P9: 12.5 | Q9: 0 | R9: 0 | S9: 0 | T9: 0 | U9: 10550 | V9: 1985500 | W9: n/a | AA9: Kharezm | AB9: =+SUMIFS(O:O,E:E,AA9) -> 27800.512 | AC9: =+AB9/$AB$18 -> 0.21292813 | AD9: =+SUMIFS(T:T,E:E,AA9)+SUMIFS(U:U,E:E,AA9) -> 44345 | AE9: =+AD9/$AD$18 -> 0.25738132 | AF9: =+SUMIFS(V:V,E:E,AA9) -> 4486700 | AG9: =+SUMIFS(W:W,E:E,AA9) -> 370360 | AH9: =+COUNTIFS(L:L,$L$4,E:E,AA9) -> 4 | AI9: =+SUMIFS(O:O,E:E,AA9,L:L,$L$4) -> 19384.002 | AJ9: =+AI9/$AI$18 -> 0.22338387 | AK9: =+SUMIFS($P$4:$P$27,$E$4:$E$27,AA9,$L$4:$L$27,$L$4) -> 65.223 | AL9: =+SUMIFS($R$4:$R$27,$E$4:$E$27,AA9,$L$4:$L$27,$L$4) -> 0 | AM9: =+SUMIFS($U$4:$U$27,$E$4:$E$27,AA9) -> 41095 | AN9: =+AM9/$AM$18 -> 0.29523755 | AO9: =+COUNTIFS(L:L,$L$5,E:E,AA9) -> 2 | AP9: =+SUMIFS(O:O,E:E,AA9,L:L,$L$5) -> 8416.5099 | AQ9: =+AP9/$AP$18 -> 0.19220829 | AR9: =+SUMIFS($Q$4:$Q$27,$E$4:$E$27,AA9,$L$4:$L$27,$L$5) -> 0 | AS9: =+SUMIFS($S$4:$S$27,$E$4:$E$27,AA9,$L$4:$L$27,$L$5) -> 14.28 | AT9: =+SUMIFS($T$4:$T$27,$E$4:$E$27,AA9) -> 3250 | AU9: =+AT9/$AT$18 -> 0.098187311
B10: =+B9+1 -> 7 | C10: Construction of drinking water systems of "Gaiston" neighbourhood in Yangikurgan district | D10: JSC "Uzsuvtaminot" | E10: Namangan | F10: Тўлабоев Фарходжон | G10: 99-650-35-35 | H10: 44197 | I10: 44561 | J10: “Наманган қурилиш дизайн” МЧЖ | K10: Private entity | L10: Construction | M10: More than 3,600 people have been provided with clean drinking water | N10: Rural | O10: 2961.69 | P10: 22.5 | Q10: 0 | R10: 0 | S10: 0 | T10: 0 | U10: 3675 | V10: 840000 | W10: n/a | AA10: Namangan | AB10: =+SUMIFS(O:O,E:E,AA10) -> 2961.69 | AC10: =+AB10/$AB$18 -> 0.022684011 | AD10: =+SUMIFS(T:T,E:E,AA10)+SUMIFS(U:U,E:E,AA10) -> 3675 | AE10: =+AD10/$AD$18 -> 0.021329944 | AF10: =+SUMIFS(V:V,E:E,AA10) -> 840000 | AG10: =+SUMIFS(W:W,E:E,AA10) -> 0 | AH10: =+COUNTIFS(L:L,$L$4,E:E,AA10) -> 1 | AI10: =+SUMIFS(O:O,E:E,AA10,L:L,$L$4) -> 2961.69 | AJ10: =+AI10/$AI$18 -> 0.034130917 | AK10: =+SUMIFS($P$4:$P$27,$E$4:$E$27,AA10,$L$4:$L$27,$L$4) -> 22.5 | AL10: =+SUMIFS($R$4:$R$27,$E$4:$E$27,AA10,$L$4:$L$27,$L$4) -> 0 | AM10: =+SUMIFS($U$4:$U$27,$E$4:$E$27,AA10) -> 3675 | AN10: =+AM10/$AM$18 -> 0.02640219 | AO10: =+COUNTIFS(L:L,$L$5,E:E,AA10) -> 0 | AP10: =+SUMIFS(O:O,E:E,AA10,L:L,$L$5) -> 0 | AQ10: =+AP10/$AP$18 -> 0 | AR10: =+SUMIFS($Q$4:$Q$27,$E$4:$E$27,AA10,$L$4:$L$27,$L$5) -> 0 | AS10: =+SUMIFS($S$4:$S$27,$E$4:$E$27,AA10,$L$4:$L$27,$L$5) -> 0 | AT10: =+SUMIFS($T$4:$T$27,$E$4:$E$27,AA10) -> 0 | AU10: =+AT10/$AT$18 -> 0
B11: =+B10+1 -> 8 | C11: Reconstruction of the water pipeline on "Jaykhun" street in Karshi city | D11: JSC "Uzsuvtaminot" | E11: Kashkadarya | F11: Бекзод Абдирахмонов | G11: 91-950-78-88 | H11: 44413 | I11: 44540 | J11: "Вулқон электрон саноат қурилиш" МЧЖ | K11: Private entity | L11: Reconstruction | M11: Access of the inhabitantns to centralized drinking water system has been improved | N11: Urban | O11: 11068.877 | P11: 0 | Q11: 3.5 | R11: 0 | S11: 0 | T11: 4700 | U11: 0 | V11: 720230 | W11: n/a | AA11: Navoi | AB11: =+SUMIFS(O:O,E:E,AA11) -> 5201.4889 | AC11: =+AB11/$AB$18 -> 0.039838954 | AD11: =+SUMIFS(T:T,E:E,AA11)+SUMIFS(U:U,E:E,AA11) -> 5990 | AE11: =+AD11/$AD$18 -> 0.034766357 | AF11: =+SUMIFS(V:V,E:E,AA11) -> 1050000 | AG11: =+SUMIFS(W:W,E:E,AA11) -> 0 | AH11: =+COUNTIFS(L:L,$L$4,E:E,AA11) -> 1 | AI11: =+SUMIFS(O:O,E:E,AA11,L:L,$L$4) -> 5201.4889 | AJ11: =+AI11/$AI$18 -> 0.059942663 | AK11: =+SUMIFS($P$4:$P$27,$E$4:$E$27,AA11,$L$4:$L$27,$L$4) -> 13.29 | AL11: =+SUMIFS($R$4:$R$27,$E$4:$E$27,AA11,$L$4:$L$27,$L$4) -> 0 | AM11: =+SUMIFS($U$4:$U$27,$E$4:$E$27,AA11) -> 5990 | AN11: =+AM11/$AM$18 -> 0.043033773 | AO11: =+COUNTIFS(L:L,$L$5,E:E,AA11) -> 0 | AP11: =+SUMIFS(O:O,E:E,AA11,L:L,$L$5) -> 0 | AQ11: =+AP11/$AP$18 -> 0 | AR11: =+SUMIFS($Q$4:$Q$27,$E$4:$E$27,AA11,$L$4:$L$27,$L$5) -> 0 | AS11: =+SUMIFS($S$4:$S$27,$E$4:$E$27,AA11,$L$4:$L$27,$L$5) -> 0 | AT11: =+SUMIFS($T$4:$T$27,$E$4:$E$27,AA11) -> 0 | AU11: =+AT11/$AT$18 -> 0
B12: =+B11+1 -> 9 | C12: Reconstruction of drinking water pipelines along "Nasaf" street in Karshi city | D12: JSC "Uzsuvtaminot" | E12: Kashkadarya | F12: Бекзод Абдирахмонов | G12: 91-950-78-88 | H12: 44413 | I12: 44558 | J12: 1-сон комплекс қурилиш вамонтаж х/к | K12: Private entity | L12: Reconstruction | M12: Access of the inhabitantns to centralized drinking water system has been improved | N12: Urban | O12: 7822.8318 | Q12: 1.3 | R12: 0 | S12: 0 | T12: 4600 | U12: 0 | V12: 1928545 | W12: n/a | AA12: Republic of Karakalpakistan | AB12: =+SUMIFS(O:O,E:E,AA12) -> 2685.5267 | AC12: =+AB12/$AB$18 -> 0.020568836 | AD12: =+SUMIFS(T:T,E:E,AA12)+SUMIFS(U:U,E:E,AA12) -> 5250 | AE12: =+AD12/$AD$18 -> 0.030471348 | AF12: =+SUMIFS(V:V,E:E,AA12) -> 1202240 | AG12: =+SUMIFS(W:W,E:E,AA12) -> 0 | AH12: =+COUNTIFS(L:L,$L$4,E:E,AA12) -> 1 | AI12: =+SUMIFS(O:O,E:E,AA12,L:L,$L$4) -> 1312.3157 | AJ12: =+AI12/$AI$18 -> 0.015123304 | AK12: =+SUMIFS($P$4:$P$27,$E$4:$E$27,AA12,$L$4:$L$27,$L$4) -> 10.261 | AL12: =+SUMIFS($R$4:$R$27,$E$4:$E$27,AA12,$L$4:$L$27,$L$4) -> 0 | AM12: =+SUMIFS($U$4:$U$27,$E$4:$E$27,AA12) -> 1050 | AN12: =+AM12/$AM$18 -> 0.0075434828 | AO12: =+COUNTIFS(L:L,$L$5,E:E,AA12) -> 1 | AP12: =+SUMIFS(O:O,E:E,AA12,L:L,$L$5) -> 1373.211 | AQ12: =+AP12/$AP$18 -> 0.031360094 | AR12: =+SUMIFS($Q$4:$Q$27,$E$4:$E$27,AA12,$L$4:$L$27,$L$5) -> 9.628 | AS12: =+SUMIFS($S$4:$S$27,$E$4:$E$27,AA12,$L$4:$L$27,$L$5) -> 0 | AT12: =+SUMIFS($T$4:$T$27,$E$4:$E$27,AA12) -> 4200 | AU12: =+AT12/$AT$18 -> 0.12688822
B13: =+B12+1 -> 10 | C13: Replacement of drinking water pipes in "Kamilon" neighborhood in Karshi city | D13: JSC "Uzsuvtaminot" | E13: Kashkadarya | F13: Бекзод Абдирахмонов | G13: 91-950-78-88 | H13: 44413 | I13: 44558 | J13: "Рам буилдинг" МЧЖ | K13: Private entity | L13: Reconstruction | M13: Access of the inhabitantns to centralized drinking water system has been improved | N13: Urban | O13: 7177.9891 | P13: 0 | Q13: 3.6 | R13: 0 | S13: 0 | T13: 5500 | U13: 0 | V13: 1182000 | W13: n/a | AA13: Samarkand | AB13: =+SUMIFS(O:O,E:E,AA13) -> 0 | AC13: =+AB13/$AB$18 -> 0 | AD13: =+SUMIFS(T:T,E:E,AA13)+SUMIFS(U:U,E:E,AA13) -> 0 | AE13: =+AD13/$AD$18 -> 0 | AF13: =+SUMIFS(V:V,E:E,AA13) -> 0 | AG13: =+SUMIFS(W:W,E:E,AA13) -> 0 | AH13: =+COUNTIFS(L:L,$L$4,E:E,AA13) -> 0 | AI13: =+SUMIFS(O:O,E:E,AA13,L:L,$L$4) -> 0 | AJ13: =+AI13/$AI$18 -> 0 | AK13: =+SUMIFS($P$4:$P$27,$E$4:$E$27,AA13,$L$4:$L$27,$L$4) -> 0 | AL13: =+SUMIFS($R$4:$R$27,$E$4:$E$27,AA13,$L$4:$L$27,$L$4) -> 0 | AM13: =+SUMIFS($U$4:$U$27,$E$4:$E$27,AA13) -> 0 | AN13: =+AM13/$AM$18 -> 0 | AO13: =+COUNTIFS(L:L,$L$5,E:E,AA13) -> 0 | AP13: =+SUMIFS(O:O,E:E,AA13,L:L,$L$5) -> 0 | AQ13: =+AP13/$AP$18 -> 0 | AR13: =+SUMIFS($Q$4:$Q$27,$E$4:$E$27,AA13,$L$4:$L$27,$L$5) -> 0 | AS13: =+SUMIFS($S$4:$S$27,$E$4:$E$27,AA13,$L$4:$L$27,$L$5) -> 0 | AT13: =+SUMIFS($T$4:$T$27,$E$4:$E$27,AA13) -> 0 | AU13: =+AT13/$AT$18 -> 0
B14: =+B13+1 -> 11 | C14: Construction of drinking water pipelines in "Mahallot" and "Nuristan" neighborhoods in Karshi city | D14: JSC "Uzsuvtaminot" | E14: Kashkadarya | F14: Бекзод Абдирахмонов | G14: 91-950-78-88 | H14: 44413 | I14: 44558 | J14: "Тонг сув қурилиш" МЧЖ | K14: Private entity | L14: Construction | M14: Providing the population with clean drinking water | N14: Urban | O14: 6378.9033 | P14: 9.6 | Q14: 0 | R14: 0 | S14: 0 | U14: 19900 | V14: 2907000 | W14: n/a | AA14: Sirdarya | AB14: =+SUMIFS(O:O,E:E,AA14) -> 4044.1586 | AC14: =+AB14/$AB$18 -> 0.030974794 | AD14: =+SUMIFS(T:T,E:E,AA14)+SUMIFS(U:U,E:E,AA14) -> 3150 | AE14: =+AD14/$AD$18 -> 0.018282809 | AF14: =+SUMIFS(V:V,E:E,AA14) -> 873250 | AG14: =+SUMIFS(W:W,E:E,AA14) -> 0 | AH14: =+COUNTIFS(L:L,$L$4,E:E,AA14) -> 1 | AI14: =+SUMIFS(O:O,E:E,AA14,L:L,$L$4) -> 4044.1586 | AJ14: =+AI14/$AI$18 -> 0.046605431 | AK14: =+SUMIFS($P$4:$P$27,$E$4:$E$27,AA14,$L$4:$L$27,$L$4) -> 16.1 | AL14: =+SUMIFS($R$4:$R$27,$E$4:$E$27,AA14,$L$4:$L$27,$L$4) -> 0 | AM14: =+SUMIFS($U$4:$U$27,$E$4:$E$27,AA14) -> 3150 | AN14: =+AM14/$AM$18 -> 0.022630448 | AO14: =+COUNTIFS(L:L,$L$5,E:E,AA14) -> 0 | AP14: =+SUMIFS(O:O,E:E,AA14,L:L,$L$5) -> 0 | AQ14: =+AP14/$AP$18 -> 0 | AR14: =+SUMIFS($Q$4:$Q$27,$E$4:$E$27,AA14,$L$4:$L$27,$L$5) -> 0 | AS14: =+SUMIFS($S$4:$S$27,$E$4:$E$27,AA14,$L$4:$L$27,$L$5) -> 0 | AT14: =+SUMIFS($T$4:$T$27,$E$4:$E$27,AA14) -> 0 | AU14: =+AT14/$AT$18 -> 0
B15: =+B14+1 -> 12 | C15: Reconstruction of drinking water networks from "Puteprovod" pumping station to "Nishon" road along "Karshi-Beshkent" road in Karshi city | D15: JSC "Uzsuvtaminot" | E15: Kashkadarya | F15: Бекзод Абдирахмонов | G15: 91-950-78-88 | H15: 44413 | I15: 44558 | J15: "Реал капитал комфорт" МЧЖ | K15: Private entity | L15: Reconstruction | M15: Access of the inhabitantns to centralized drinking water system has been improved | N15: Urban | O15: 4903.6583 | P15: 0 | Q15: 2.57 | R15: 0 | S15: 0 | T15: 4000 | U15: 0 | V15: 1964295 | W15: n/a | AA15: Surkhandarya | AB15: =+SUMIFS(O:O,E:E,AA15) -> 26536.225 | AC15: =+AB15/$AB$18 -> 0.20324477 | AD15: =+SUMIFS(T:T,E:E,AA15)+SUMIFS(U:U,E:E,AA15) -> 23818 | AE15: =+AD15/$AD$18 -> 0.13824125 | AF15: =+SUMIFS(V:V,E:E,AA15) -> 0 | AG15: =+SUMIFS(W:W,E:E,AA15) -> 3067000 | AH15: =+COUNTIFS(L:L,$L$4,E:E,AA15) -> 2 | AI15: =+SUMIFS(O:O,E:E,AA15,L:L,$L$4) -> 26536.225 | AJ15: =+AI15/$AI$18 -> 0.30580705 | AK15: =+SUMIFS($P$4:$P$27,$E$4:$E$27,AA15,$L$4:$L$27,$L$4) -> 0 | AL15: =+SUMIFS($R$4:$R$27,$E$4:$E$27,AA15,$L$4:$L$27,$L$4) -> 13.5 | AM15: =+SUMIFS($U$4:$U$27,$E$4:$E$27,AA15) -> 23818 | AN15: =+AM15/$AM$18 -> 0.17111493 | AO15: =+COUNTIFS(L:L,$L$5,E:E,AA15) -> 0 | AP15: =+SUMIFS(O:O,E:E,AA15,L:L,$L$5) -> 0 | AQ15: =+AP15/$AP$18 -> 0 | AR15: =+SUMIFS($Q$4:$Q$27,$E$4:$E$27,AA15,$L$4:$L$27,$L$5) -> 0 | AS15: =+SUMIFS($S$4:$S$27,$E$4:$E$27,AA15,$L$4:$L$27,$L$5) -> 0 | AT15: =+SUMIFS($T$4:$T$27,$E$4:$E$27,AA15) -> 0 | AU15: =+AT15/$AT$18 -> 0
B16: =+B15+1 -> 13 | C16: Construction of a main drinking water pipeline from the water distribution branch "Yangiabad" to the pumping station "Batosh" in Guzor district | D16: JSC "Uzsuvtaminot" | E16: Kashkadarya | F16: Бекзод Абдирахмонов | G16: 91-950-78-88 | H16: 44413 | I16: 44558 | J16: "Торсвик конструктион асиа" МЧЖ | K16: Private entity | L16: Construction | M16: Providing the population with clean drinking water | N16: Rural | O16: 10469.676 | P16: 4 | Q16: 0 | R16: 0 | S16: 0 | T16: 0 | U16: 4900 | V16: 1998825 | W16: n/a | AA16: Tashkent city | AB16: =+SUMIFS(O:O,E:E,AA16) -> 0 | AC16: =+AB16/$AB$18 -> 0 | AD16: =+SUMIFS(T:T,E:E,AA16)+SUMIFS(U:U,E:E,AA16) -> 0 | AE16: =+AD16/$AD$18 -> 0 | AF16: =+SUMIFS(V:V,E:E,AA16) -> 0 | AG16: =+SUMIFS(W:W,E:E,AA16) -> 0 | AH16: =+COUNTIFS(L:L,$L$4,E:E,AA16) -> 0 | AI16: =+SUMIFS(O:O,E:E,AA16,L:L,$L$4) -> 0 | AJ16: =+AI16/$AI$18 -> 0 | AK16: =+SUMIFS($P$4:$P$27,$E$4:$E$27,AA16,$L$4:$L$27,$L$4) -> 0 | AL16: =+SUMIFS($R$4:$R$27,$E$4:$E$27,AA16,$L$4:$L$27,$L$4) -> 0 | AM16: =+SUMIFS($U$4:$U$27,$E$4:$E$27,AA16) -> 0 | AN16: =+AM16/$AM$18 -> 0 | AO16: =+COUNTIFS(L:L,$L$5,E:E,AA16) -> 0 | AP16: =+SUMIFS(O:O,E:E,AA16,L:L,$L$5) -> 0 | AQ16: =+AP16/$AP$18 -> 0 | AR16: =+SUMIFS($Q$4:$Q$27,$E$4:$E$27,AA16,$L$4:$L$27,$L$5) -> 0 | AS16: =+SUMIFS($S$4:$S$27,$E$4:$E$27,AA16,$L$4:$L$27,$L$5) -> 0 | AT16: =+SUMIFS($T$4:$T$27,$E$4:$E$27,AA16) -> 0 | AU16: =+AT16/$AT$18 -> 0
B17: =+B16+1 -> 14 | C17: Installing the main water supply pipeline on Mustakillik street in Guzor District | D17: JSC "Uzsuvtaminot" | E17: Kashkadarya | F17: Бекзод Абдирахмонов | G17: 91-950-78-88 | H17: 44413 | I17: 44558 | J17: "Торсвик конструктион асиа" МЧЖ | K17: Private entity | L17: Construction | M17: Providing the population with clean drinking water | N17: Rural | O17: 4089.9626 | P17: 4.6 | R17: 0 | S17: 0 | T17: 0 | U17: 4315 | V17: 1194175 | W17: n/a | AA17: Tashkent region | AB17: =+SUMIFS(O:O,E:E,AA17) -> 0 | AC17: =+AB17/$AB$18 -> 0 | AD17: =+SUMIFS(T:T,E:E,AA17)+SUMIFS(U:U,E:E,AA17) -> 0 | AE17: =+AD17/$AD$18 -> 0 | AF17: =+SUMIFS(V:V,E:E,AA17) -> 0 | AG17: =+SUMIFS(W:W,E:E,AA17) -> 0 | AH17: =+COUNTIFS(L:L,$L$4,E:E,AA17) -> 0 | AI17: =+SUMIFS(O:O,E:E,AA17,L:L,$L$4) -> 0 | AJ17: =+AI17/$AI$18 -> 0 | AK17: =+SUMIFS($P$4:$P$27,$E$4:$E$27,AA17,$L$4:$L$27,$L$4) -> 0 | AL17: =+SUMIFS($R$4:$R$27,$E$4:$E$27,AA17,$L$4:$L$27,$L$4) -> 0 | AM17: =+SUMIFS($U$4:$U$27,$E$4:$E$27,AA17) -> 0 | AN17: =+AM17/$AM$18 -> 0 | AO17: =+COUNTIFS(L:L,$L$5,E:E,AA17) -> 0 | AP17: =+SUMIFS(O:O,E:E,AA17,L:L,$L$5) -> 0 | AQ17: =+AP17/$AP$18 -> 0 | AR17: =+SUMIFS($Q$4:$Q$27,$E$4:$E$27,AA17,$L$4:$L$27,$L$5) -> 0 | AS17: =+SUMIFS($S$4:$S$27,$E$4:$E$27,AA17,$L$4:$L$27,$L$5) -> 0 | AT17: =+SUMIFS($T$4:$T$27,$E$4:$E$27,AA17) -> 0 | AU17: =+AT17/$AT$18 -> 0
B18: =+B17+1 -> 15 | C18: Construction of drinking water system in Ingirchok and Khanabad neighbourhoods of Buvaida district | D18: JSC "Uzsuvtaminot" | E18: Fergana | F18: М.Юлдашев | G18: 73-244-57-32 | H18: 43922 | I18: 44423 | J18: "Фар Курилиш Монтаж Инвест" МЧЖ | K18: Private entity | L18: Construction | M18: Providing the population with clean drinking water | N18: Rural | O18: 1398.0113 | P18: 4.117 | T18: 0 | U18: 7450 | V18: 1331500 | W18: n/a | AB18: =+SUM(AB4:AB17) -> 130562.89 | AD18: =+SUM(AD4:AD17) -> 172293 | AF18: =+SUM(AF4:AF17) -> 25824260 | AG18: =+SUM(AG4:AG17) -> 5633360 | AH18: =+SUM(AH4:AH17) -> 16 | AI18: =+SUM(AI4:AI17) -> 86774.405 | AK18: =+SUM(AK4:AK17) -> 167.191 | AL18: =+SUM(AL4:AL17) -> 19 | AM18: =+SUM(AM4:AM17) -> 139193 | AO18: =+SUM(AO4:AO17) -> 8 | AP18: =+SUM(AP4:AP17) -> 43788.484 | AR18: =+SUM(AR4:AR17) -> 20.598 | AS18: =+SUM(AS4:AS17) -> 17.28 | AT18: =+SUM(AT4:AT17) -> 33100
B19: =+B18+1 -> 16 | C19: Construction of drinking water systems in "Sharlauk" neighbourhood of Tuproqkala district | D19: JSC "Uzsuvtaminot" | E19: Kharezm | F19: Мадаминов Ихтиёр Зафарбаевич | G19: +998995090587 | H19: 44256 | I19: 44440 | J19: Оби хаёт инжиниринг МЧЖ | K19: Private entity | L19: Construction | M19: Providing the population with clean drinking water | N19: Rural | O19: 2826.0192 | P19: 13.742 | Q19: 0 | R19: 0 | S19: 0 | T19: 0 | U19: 6000 | V19: 1456700 | W19: n/a | AB19: =+AB18=O28 -> TRUE | AD19: =+AD18=T28+U28 -> TRUE | AF19: =+AF18=V28 -> TRUE | AG19: =+AG18=W28 -> TRUE | AK19: =+AK18=P28 -> TRUE | AL19: =+AL18=R28 -> TRUE | AM19: =+AM18=U28 -> TRUE | AR19: =+AR18=Q28 -> TRUE | AS19: =+AS18=S28 -> TRUE | AT19: =+AT18=T28 -> TRUE
B20: =+B19+1 -> 17 | C20: Reconstruction of 8 km long existing sewage networks in "Ichan Qala" neighborhood and connection of 387 households to the sewage network, previously not connected | D20: JSC "Uzsuvtaminot" | E20: Kharezm | F20: Садуллаев Музаффар Камилович | G20: +998974933233 | H20: 44256 | I20: 44418 | J20: "Комфорд сув газ курилиш" МЧЖ | K20: Private entity | L20: Reconstruction | M20: Improving wastewater services for the population | O20: 4099.9244 | P20: 0 | Q20: 0 | R20: 0 | S20: 9.63 | T20: 1750 | U20: 1161 | V20: n/a | W20: 266860
B21: =+B20+1 -> 18 | C21: Reconstruction of 3.2 km long sewage networks passing through the outer side of the "Ichan Qalla" wall | D21: JSC "Uzsuvtaminot" | E21: Kharezm | F21: Садуллаев Музаффар Камилович | G21: +998914333233 | H21: 44256 | I21: 44440 | J21: "Хива Буюк курилишь инвест" МЧЖ | K21: Private entity | L21: Reconstruction | M21: Providing the population with clean drinking water | O21: 4316.5855 | P21: 0 | Q21: 0 | R21: 0 | S21: 4.65 | T21: 1500 | U21: 0 | V21: n/a | W21: 103500
B22: =+B21+1 -> 19 | C22: Construction of drinking water systems in "Ashkhabad" neighbourhood in Urgench city | D22: JSC "Uzsuvtaminot" | E22: Kharezm | F22: Атаджанов Атаджон Дилшодович | G22: +998977440227 | H22: 43891 | I22: 44423 | J22: " Бунёдкор " МЧЖ | K22: Private entity | L22: Construction | M22: Providing the population with clean drinking water | N22: Urban | O22: 4443.7174 | P22: 3.772 | Q22: 0 | R22: 0 | S22: 0 | T22: 0 | U22: 2578 | V22: 570000 | W22: n/a
B23: =+B22+1 -> 20 | C23: Construction of drinking water systems in the center of Hazorasp district | D23: JSC "Uzsuvtaminot" | E23: Kharezm | F23: Худайберганов Азамат Оллаберганович | G23: +998937085585 | H23: 43891 | I23: 44418 | J23: Чинобод Курилиш МЧЖ | K23: Private entity | L23: Construction | M23: Providing the population with clean drinking water | N23: Rural | O23: 5240.3815 | P23: 22.6 | Q23: 0 | R23: 0 | S23: 0 | T23: 0 | U23: 14500 | V23: 1100000 | W23: n/a
B24: =+B23+1 -> 21 | C24: Construction of drinking water systems of Yangariq district center | D24: JSC "Uzsuvtaminot" | E24: Kharezm | F24: Қаландаров Қувондиқ Аминбаевич | G24: +998970900760 | H24: 43891 | I24: 44440 | J24: Хива нефтигаз қурилиш | K24: Private entity | L24: Construction | M24: Providing the population with clean drinking water | N24: Rural | O24: 6873.8838 | P24: 25.109 | Q24: 0 | R24: 0 | S24: 0 | T24: 0 | U24: 16856 | V24: 1360000 | W24: n/a
B25: =+B24+1 -> 22 | C25: Construction of 7.5 km long wastewater network on Sharof Rashidov street in Denov district | D25: JSC "Uzsuvtaminot" | E25: Surkhandarya | F25: Марупов Санжар | G25: 88-810-51-30 | H25: 43862 | I25: 44256 | J25: "Проф-Гроф" МЧЖ | K25: Private entity | L25: Construction | M25: Covering the population with wastewater services | N25: Rural | O25: 17627.731 | P25: 0 | Q25: 0 | R25: 7.7 | S25: 0 | U25: 12868 | V25: n/a | W25: 1942000
B26: =+B25+1 -> 23 | C26: Construction of 3-km long sewage network and 500-meter cubic pumping station on Mustakillik Street | D26: JSC "Uzsuvtaminot" | E26: Surkhandarya | H26: 43891 | I26: 44418 | K26: Private entity | L26: Construction | M26: Covering the population with wastewater services | O26: 8908.4945 | R26: 5.8 | U26: 10950 | V26: n/a | W26: 1125000
B27: =+B26+1 -> 24 | C27: Construction of drinking water network for the residents of "Dostlik" neighbourhood in Boyovut district | D27: JSC "Uzsuvtaminot" | E27: Sirdarya | F27: Шермаматов Рустам | G27: +99891-501-41-11 | H27: 44229 | I27: 44501 | J27: "Шохрух-Демирбек" МЧЖ | K27: Private entity | L27: Construction | M27: Providing the population with clean drinking water | N27: Rural | O27: 4044.1586 | P27: 16.1 | Q27: 0 | R27: 0 | S27: 0 | U27: =739+2411 -> 3150 | V27: 873250 | W27: n/a
O28: =+SUM(O4:O27) -> 130562.89 | P28: =+SUM(P4:P27) -> 167.191 | Q28: =+SUM(Q4:Q27) -> 20.598 | R28: =+SUM(R4:R27) -> 19 | S28: =+SUM(S4:S27) -> 17.28 | T28: =+SUM(T4:T27) -> 33100 | U28: =+SUM(U4:U27) -> 139193 | V28: =+SUM(V4:V27) -> 25824260 | W28: =+SUM(W4:W27) -> 5633360

Sheet Irrigation
B1: IRRIGATION | S1: Estimation | AC1: Estimation
B2: No. | C2: Name of the project | D2: Responsible ministry | E2: Area (region) where the project has been implemented | F2: Масъул ходимнинг исм-шарифи | G2: Масъул ходимнинг телефон рақами | H2: Project start date | I2: Project end date | J2: Бош пудратчи ташкилот номи | K2: General contracting organization type | L2: Construction / Reconstruction | M2: Project summary | N2: Located in rural/urban area | O2: Amount of financing (in UZS'm) | P2: Reconstruction of irrigation networks and canals (km) | Q2: Land areas with improved irrigation and reduced salinity | R2: Growth rate in productivity (%) | S2: Volume of water saved per year (meter cubic per year) | U2: Region | V2: Financing | W2: % | X2: Length of canals reconstructed in km | Y2: % | Z2: Hectars of land affected | AA2: % | AB2: Growth rate in productivity (%) | AC2: Volume of water saved per year (meter cubic per year)
B3: 1 | C3: Reconstruction of the "PK-5" canal flowing through Yuqori Chirchik and Ortachirchik districts from PK0+00 to PK80+00 | D3: Ministry of Water Resources | E3: Tashkent region | F3: Исматов Анвар | G3: +99894-616-02-06 | H3: 44299 | I3: 44612 | J3: "Файз қурилиш сервис" ХК | K3: Private entity | L3: Reconstruction | M3: Reconstruction of the "RK-5" channel from PK0+00 to PK80+00, flowing through the Yuqori Chirchik and Ortachirchik districts. Melioration condition of and water supply to 15,071 ha of cultivated land in Ortachirchik district and 2,077 ha of cultivated land in Yuqori Chirchik district have been improved. As a result of project, 4 water dams and 9 water receiving structures were replaced with new ones. | N3: Rural | O3: 1992.988 | P3: 8 | Q3: 17148 | R3: 0.16 | S3: 4800000 | U3: Andijan | V3: =+SUMIFS(O:O,E:E,U3) -> 5323.363 | W3: =+V3/$V$17 -> 0.13508794 | X3: =+SUMIFS(P:P,E:E,U3) -> 18.6 | Y3: =+X3/$X$17 -> 0.18609305 | Z3: =+SUMIFS(Q:Q,E:E,U3) -> 4169 | AA3: =+Z3/$Z$17 -> 0.043032173 | AB3: =+SUMIFS(R:R,E:E,U3)/COUNTIFS(E:E,U3) -> 0.23404762 | AC3: =+SUMIFS(S:S,E:E,U3) -> 3300000
B4: =+B3+1 -> 2 | C4: Reconstruction of "Navroz", "Jizmandi" and "Kahramon" canals in Bukhara district | D4: Ministry of Water Resources | E4: Bukhara | F4: Бекмуродов Шахзод Каримов Набижон Олимович (ғазначилик) | G4: 97-306-86-06 91-413-99-95 | H4: 44300 | I4: 44512 | J4: "Ўрта Осиё Сув Қурилиш"МЧЖ | K4: Private entity | L4: Reconstruction | M4: The "Navroz" canal is 3.8 km long and provides water to 630 hectares of land. It is a concrete-lined canal. The "Jizmandi" canal is 4 km long and provides water to 165 hectares of land. The "Kahramon" canal is 6.2 km long and provides water to 250 hectares of land. The "Kahramon" canal is a concrete-lined canal. The design capacity of these canals is 1 m3/sec, but the actual capacity is 0.50-0.60 m3/sec. As a result of the project, The Useful Work Coefficient of the canal has been increased from 0.65 to 0.90, and irrigation of 1,045 hectares of cropland connected to these canals has been improved. Repair of 4 pipeline intersections and 2 barrier structures. | N4: Rural | O4: 2280.486 | P4: 3.8 | Q4: 1045 | R4: 0.15 | S4: 1040000 | U4: Bukhara | V4: =+SUMIFS(O:O,E:E,U4) -> 4247.412 | W4: =+V4/$V$17 -> 0.10778414 | X4: =+SUMIFS(P:P,E:E,U4) -> 5.3 | Y4: =+X4/$X$17 -> 0.053026513 | Z4: =+SUMIFS(Q:Q,E:E,U4) -> 1595 | AA4: =+Z4/$Z$17 -> 0.016463496 | AB4: =+SUMIFS(R:R,E:E,U4)/COUNTIFS(E:E,U4) -> 0.1413606 | AC4: =+SUMIFS(S:S,E:E,U4) -> 27440000
B5: =+B4+1 -> 3 | C5: Reconstruction of "KBMK" canal in Qarovulbozor district | D5: Ministry of Water Resources | E5: Bukhara | F5: Норов Элдор Наимович Мухамадиев Фурқат (ғазначилик) | G5: 93-453-77-33 99-700-03-01 | H5: 44406 | I5: 44890 | J5: "BUXORO-SUVXIZMAT" МЧЖ | K5: Private entity | L5: Reconstruction | M5: The "KBMK" canal in Qorvulbozor district of Bukhara region is a 34.0 km long concrete-lined canal. The area connected to this canal is 16,034 hectares. Its design capacity is 22.0 m3/sec, but the actual capacity is 18.0 m3/sec. As a result of the project, the Useful Work Coefficient of the canal can be increased from 0.85 to 0.90 and 26.4 million m3 of water can be saved in one year. The productivity of cotton will increase by 10 quintals and grain by 18 centners. | N5: Rural | O5: 1966.926 | P5: 1.5 | Q5: 550 | R5: 0.1327212 | S5: 26400000 | U5: Fergana | V5: =+SUMIFS(O:O,E:E,U5) -> 10424.858 | W5: =+V5/$V$17 -> 0.26454565 | X5: =+SUMIFS(P:P,E:E,U5) -> 5.9 | Y5: =+X5/$X$17 -> 0.059029515 | Z5: =+SUMIFS(Q:Q,E:E,U5) -> 6725 | AA5: =+Z5/$Z$17 -> 0.069415056 | AB5: =+SUMIFS(R:R,E:E,U5)/COUNTIFS(E:E,U5) -> 0.17 | AC5: =+SUMIFS(S:S,E:E,U5) -> 3120000
B6: =+B5+1 -> 4 | C6: Reconstruction of "Naiman" canal in Khatirchi district, Navoi region | D6: Ministry of Water Resources | E6: Navoi | F6: Сатторов Руслан | G6: 97-377-71-50 | H6: 44318 | I6: 44922 | J6: "Карманамахсуссувпудрат" МЧЖ | K6: Private entity | L6: Reconstruction | M6: Improvement of water supply to 1309 hectares of irrigated land connected to this canal and increase in the productivity of agricultural land | N6: Rural | O6: 1503.5 | P6: 6.73 | Q6: 1309 | R6: 0.18 | S6: 1505000 | U6: Jizzakh | V6: =+SUMIFS(O:O,E:E,U6) -> 1596.4 | W6: =+V6/$V$17 -> 0.040510929 | X6: =+SUMIFS(P:P,E:E,U6) -> 1.33 | Y6: =+X6/$X$17 -> 0.013306653 | Z6: =+SUMIFS(Q:Q,E:E,U6) -> 3000 | AA6: =+Z6/$Z$17 -> 0.030965824 | AB6: =+SUMIFS(R:R,E:E,U6)/COUNTIFS(E:E,U6) -> 0.13274336 | AC6: =+SUMIFS(S:S,E:E,U6) -> 500000
B7: =+B6+1 -> 5 | C7: Reconstruction of the "Qotortol" canal (PK 76 to PK 144) in Andijan district | D7: Ministry of Water Resources | E7: Andijan | F7: Тухтасинов Бегзод | G7: 97 9949292 | H7: 44025 | I7: 44391 | J7: АНД мел-ир таъмир қурилиш МЧЖ | K7: Private entity | L7: Reconstruction | M7: Reconstruction of the 6718 meter long canal will improve the water supply to 3,469 ha of agricultural fields | N7: Rural | O7: 3108.782 | P7: 6.7 | Q7: 3469 | R7: 0.23809524 | S7: 2000000 | U7: Kashkadarya | V7: =+SUMIFS(O:O,E:E,U7) -> 0 | W7: =+V7/$V$17 -> 0 | X7: =+SUMIFS(P:P,E:E,U7) -> 0 | Y7: =+X7/$X$17 -> 0 | Z7: =+SUMIFS(Q:Q,E:E,U7) -> 0 | AA7: =+Z7/$Z$17 -> 0 | AB7: 0 | AC7: =+SUMIFS(S:S,E:E,U7) -> 0
B8: =+B7+1 -> 6 | C8: Reconstruction of canals in "Ghayrat", "Kurtki" and "Gulbakhor" massifs of Jalakuduq district | D8: Ministry of Water Resources | E8: Andijan | F8: Мамиров Саидакбар | G8: 93 2585151 | H8: 43922 | I8: 44347 | J8: "Жалақудуқмахсуссувпудрат" МЧЖ | K8: State enterprise | L8: Reconstruction | M8: As a result of reconstruction of 12 km long canals, water supply of 500 ha of cultivated area will be improved and 200 ha of land will be returned to use | N8: Rural | O8: 2214.581 | P8: 11.9 | Q8: =500+200 -> 700 | R8: 0.23 | S8: 1300000 | U8: Kharezm | V8: =+SUMIFS(O:O,E:E,U8) -> 1564.594 | W8: =+V8/$V$17 -> 0.039703806 | X8: =+SUMIFS(P:P,E:E,U8) -> 16.49 | Y8: =+X8/$X$17 -> 0.16498249 | Z8: =+SUMIFS(Q:Q,E:E,U8) -> 4005 | AA8: =+Z8/$Z$17 -> 0.041339375 | AB8: =+SUMIFS(R:R,E:E,U8)/COUNTIFS(E:E,U8) -> 0.2 | AC8: =+SUMIFS(S:S,E:E,U8) -> 4100000
B9: =+B8+1 -> 7 | C9: Reconstruction of "M-2" canal in Muynok district | D9: Ministry of Water Resources | E9: Republic of Karakalpakistan | F9: Балтабаев Дамир | G9: +99897-500-99-88 | H9: 44010 | I9: 44561 | J9: "Аркавой Мелиоратор" МЧЖ | K9: Private entity | L9: Reconstruction | M9: As a result of reconstruction, water supply of 7,600 hectares of agricultural land connected to the "M-2" canal will be improved | N9: Rural | O9: 2189.2 | P9: 25 | Q9: 7600 | R9: 0.24 | S9: 2100000 | U9: Namangan | V9: =+SUMIFS(O:O,E:E,U9) -> 1282.36 | W9: =+V9/$V$17 -> 0.032541716 | X9: =+SUMIFS(P:P,E:E,U9) -> 2.5 | Y9: =+X9/$X$17 -> 0.025012506 | Z9: =+SUMIFS(Q:Q,E:E,U9) -> 550 | AA9: =+Z9/$Z$17 -> 0.0056770677 | AB9: =+SUMIFS(R:R,E:E,U9)/COUNTIFS(E:E,U9) -> 0.11111111 | AC9: =+SUMIFS(S:S,E:E,U9) -> 1200000
B10: =+B9+1 -> 8 | C10: Reconstruction of the Right Bank Canal from PK125+00 to PK144+00, Bulung'ur District | D10: Ministry of Water Resources | E10: Samarkand | F10: Ниязов Элмурод Уктамович | G10: +998932888320 | H10: 43976 | I10: 44559 | J10: Гидро капитал мелио қурилиш МЧЖ | K10: Private entity | L10: Reconstruction | M10: After the reconstruction, the canal bank will not be washed away and the canal bed will not change and will not destroy breakwater structure (1x) and perepads (3x). The irrigation of 2,761 ha of land area in Makhsumov region and 45,405 ha of land area in Jomboy and Payarik districts will be improved | N10: Rural | O10: 3277.5 | P10: 1.9 | Q10: 48166 | R10: 0.12 | S10: 1500000 | U10: Navoi | V10: =+SUMIFS(O:O,E:E,U10) -> 1503.5 | W10: =+V10/$V$17 -> 0.038153459 | X10: =+SUMIFS(P:P,E:E,U10) -> 6.73 | Y10: =+X10/$X$17 -> 0.067333667 | Z10: =+SUMIFS(Q:Q,E:E,U10) -> 1309 | AA10: =+Z10/$Z$17 -> 0.013511421 | AB10: =+SUMIFS(R:R,E:E,U10)/COUNTIFS(E:E,U10) -> 0.18 | AC10: =+SUMIFS(S:S,E:E,U10) -> 1505000
B11: =+B10+1 -> 9 | C11: Reconstruction of a part of "Kangli" in Sh.Rashidov district from PK16+00 to PK29+30-Reconstruction of a part of "Kangli" in Sh.Rashidov district from PK16+00 to PK29+30-Reconstruction of a part of "Kangli" in Sh.Rashidov district from PK16+00 to PK29+30 | D11: Ministry of Water Resources | E11: Jizzakh | F11: Эргашев Азамат Улуғбек ўғли | G11: 99-166-88-00 | H11: 22.04.2021 | I11: 30.12.2021 | J11: “Шухрат-Нодирбек” | K11: Private entity | L11: Reconstruction | M11: Reconstruction of the canal ensures a guaranteed supply of water to the canal, and the irrigated area connected to the canal has been increased by 3,000 ha. | N11: Rural | O11: 1596.4 | P11: 1.33 | Q11: 3000 | R11: 0.13274336 | S11: 500000 | U11: Republic of Karakalpakistan | V11: =+SUMIFS(O:O,E:E,U11) -> 2189.2 | W11: =+V11/$V$17 -> 0.055554075 | X11: =+SUMIFS(P:P,E:E,U11) -> 25 | Y11: =+X11/$X$17 -> 0.25012506 | Z11: =+SUMIFS(Q:Q,E:E,U11) -> 7600 | AA11: =+Z11/$Z$17 -> 0.078446754 | AB11: =+SUMIFS(R:R,E:E,U11)/COUNTIFS(E:E,U11) -> 0.24 | AC11: =+SUMIFS(S:S,E:E,U11) -> 2100000
B12: =+B11+1 -> 10 | C12: Reconstruction of “Shur ”canal in Yangikurgan district of Namangan region | D12: Ministry of Water Resources | E12: Namangan | F12: Б.Хожиев | G12: 88-441-45-40 | H12: 43983 | I12: 44196 | J12: Наманган махсус сув пудрат ДУК | K12: State enterprise | L12: Reconstruction | M12: Reonstruction of “Shur”canal will improve the water supply to the area of ​​550 hectares and reduce the salinization of lands | N12: Rural | O12: 1282.36 | P12: 2.5 | Q12: 550 | R12: 0.11111111 | S12: 1200000 | U12: Samarkand | V12: =+SUMIFS(O:O,E:E,U12) -> 3277.5 | W12: =+V12/$V$17 -> 0.083171241 | X12: =+SUMIFS(P:P,E:E,U12) -> 1.9 | Y12: =+X12/$X$17 -> 0.019009505 | Z12: =+SUMIFS(Q:Q,E:E,U12) -> 48166 | AA12: =+Z12/$Z$17 -> 0.49716663 | AB12: =+SUMIFS(R:R,E:E,U12)/COUNTIFS(E:E,U12) -> 0.12 | AC12: =+SUMIFS(S:S,E:E,U12) -> 1500000
B13: =+B12+1 -> 11 | C13: Reconstruction of the Oktepasoy canal in Kokand, Fergana region. | D13: Ministry of Water Resources | E13: Fergana | F13: Камолов Кенжабой | G13: +998999874550 | H13: 43525 | I13: 44561 | J13: Данғара сув курулиш инвест | K13: State enterprise | L13: Reconstruction | M13: The Oktepasay canal is 30.0 km long canal, of which 6.5 km flows through the city of Kokand. Water flow capacity is 10m3 / sec, source of water is Big Fergana main canal. It provides water to 5,500 hectares of arable land of 76 farms in Dangara district and 1,125 hectares of farms and 19,500 people. As a result of damage to concrete pavements in part of 6.5 km that flows in Kokand city, the capacity fell to 3.5 m3/sec (efficiency was 35%). Reconstruction of the 5.9 km section of the canal from PK0+00 to PK59+00 passing through the territory of Kokand city by clearing the bottom of the canal from mud, performing earthworks and concrete works in the canal, bringing SZP and FBS blocks on both sides of the canal and installation, asphalting of both sides of the canal. As a result of the project, the canal's efficiency will be increased to 85%, up to 9.0 million m3 of water will be saved during the year. 5,500 hectares of arable land of 76 farms in Dangara district will be provided with guaranteed water, and the water supply to 1,125 hectares of farms and 19,500 people will be imrpoved. The yield of cotton will increase by 3.0 t/ha and the yield of grain will increase by 5.0 t/ha. | N13: Urban | O13: 10424.858 | P13: 5.9 | Q13: =6625+100 -> 6725 | R13: 0.17 | S13: 3120000 | U13: Sirdarya | V13: =+SUMIFS(O:O,E:E,U13) -> 6004.475 | W13: =+V13/$V$17 -> 0.15237213 | X13: =+SUMIFS(P:P,E:E,U13) -> 8.2 | Y13: =+X13/$X$17 -> 0.082041021 | Z13: =+SUMIFS(Q:Q,E:E,U13) -> 2614 | AA13: =+Z13/$Z$17 -> 0.026981555 | AB13: =+SUMIFS(R:R,E:E,U13)/COUNTIFS(E:E,U13) -> 0.16 | AC13: =+SUMIFS(S:S,E:E,U13) -> 2600000
B14: =+B13+1 -> 12 | C14: Reconstruction of "Udachi-yab" and "Udachi-1" canals in Shavat district | D14: Ministry of Water Resources | E14: Kharezm | F14: Саидов Нурбек Шухратович | G14: +998999662242 | H14: 44299 | I14: 44549 | J14: "Боготмахсуссувпудрат" МЧЖ | K14: Private entity | L14: Reconstruction | M14: As a result of the implementation of the measures specified in the project, 4500.3 hectares of agricultural fields of "Sayilkhan Mirob", "Shavot Dostlik", "Quranboy Ollazar" and "Qiyot" neighbourhoods in Shavot district will be provided with the guaranteed water supply. Within the project, 3 water dams, 2 water measuring stations, 4 pipeline crossings and 48 ​​water intakes were reconstructed. | N14: Rural | O14: 1564.594 | P14: 16.49 | Q14: 4005 | R14: 0.2 | S14: 4100000 | U14: Surkhandarya | V14: =+SUMIFS(O:O,E:E,U14) -> 0 | W14: =+V14/$V$17 -> 0 | X14: =+SUMIFS(P:P,E:E,U14) -> 0 | Y14: =+X14/$X$17 -> 0 | Z14: =+SUMIFS(Q:Q,E:E,U14) -> 0 | AA14: =+Z14/$Z$17 -> 0 | AB14: 0 | AC14: =+SUMIFS(S:S,E:E,U14) -> 0
B15: =+B14+1 -> 13 | C15: Reconstruction of PR-4-1-8 irrigation system canal in Boyovut district | D15: Ministry of Water Resources | E15: Sirdarya | F15: Шермаматов Рустам | G15: +99891-501-41-11 | H15: 26.04.2021 | I15: 31.03.2022 | J15: "Шохрух-Демирбек" МЧЖ | K15: Private entity | L15: Reconstruction | M15: As a result of reconstruction of 5 km long concrete canal and reconstruction of 8 waterworks, the efficiency of the canal has been increased to 90%, and water supply to 845 hectares of arable land in Mirzaabad and Boyovut districts has been imrpoved | N15: Rural | O15: 2859.475 | P15: 5 | Q15: 2000 | R15: 0.18 | S15: 1900000 | U15: Tashkent city | V15: =+SUMIFS(O:O,E:E,U15) -> 0 | W15: =+V15/$V$17 -> 0 | X15: =+SUMIFS(P:P,E:E,U15) -> 0 | Y15: =+X15/$X$17 -> 0 | Z15: =+SUMIFS(Q:Q,E:E,U15) -> 0 | AA15: =+Z15/$Z$17 -> 0 | AB15: 0 | AC15: =+SUMIFS(S:S,E:E,U15) -> 0
B16: =+B15+1 -> 14 | C16: Reconstruction of the section of irrigation canal "P-12-3" in Sayhunabad district from PK00 + 00 to PK32 + 00 | D16: Ministry of Water Resources | E16: Sirdarya | F16: Шермаматов Рустам | G16: +99891-501-41-11 | H16: 19.04.2021 | I16: 31.12.2021 | J16: "Сувомбор курилиш" ХК | K16: Private entity | L16: Reconstruction | M16: As a result of reconstruction of 3.2 km long concrete canal and reconstruction of 7 waterworks, the efficiency of the canal has been increased to 90%, and water supply to 613.8 ha of arable land in the territory has been imrpoved. | N16: Rural | O16: 3145 | P16: 3.2 | Q16: 614 | R16: 0.14 | S16: 700000 | U16: Tashkent region | V16: =+SUMIFS(O:O,E:E,U16) -> 1992.988 | W16: =+V16/$V$17 -> 0.050574916 | X16: =+SUMIFS(P:P,E:E,U16) -> 8 | Y16: =+X16/$X$17 -> 0.08004002 | Z16: =+SUMIFS(Q:Q,E:E,U16) -> 17148 | AA16: =+Z16/$Z$17 -> 0.17700065 | AB16: =+SUMIFS(R:R,E:E,U16)/COUNTIFS(E:E,U16) -> 0.16 | AC16: =+SUMIFS(S:S,E:E,U16) -> 4800000
O17: =+SUM(O3:O16) -> 39406.65 | P17: =+SUM(P3:P16) -> 99.95 | Q17: =+SUM(Q3:Q16) -> 96881 | S17: =+SUM(S3:S16) -> 52165000 | V17: =+SUM(V3:V16) -> 39406.65 | X17: =+SUM(X3:X16) -> 99.95 | Z17: =+SUM(Z3:Z16) -> 96881 | AB17: =+AVERAGE(AB3:AB16) -> 0.13209019 | AC17: =+SUM(AC3:AC16) -> 52165000
V18: =+V17=O17 -> TRUE | X18: =+X17=P17 -> TRUE | Z18: =+Z17=Q17 -> TRUE | AC18: =+AC17=S17 -> TRUE

Sheet Vaccination Programme Coverage
A2: Preventive vaccination coverage for 2021 in the Republic of Uzbekistan
A3: Region | B3: HBV-1 (Hepatitis B) | E3: BCG-1 | H3: DTP | K3: Total coverage
B4: 1 day | E4: 2-5 days | H4: 16 months old
B5: Target | C5: Coverage | D5: % | E5: Target | F5: Coverage | G5: % | H5: Target | I5: Coverage | J5: %
A6: Tashkent city | B6: 72732 | C6: 72378 | D6: =C6*100/B6 -> 99.513282 | E6: 72729 | F6: 71538 | G6: =F6*100/E6 -> 98.362414 | H6: 45592 | I6: 43227 | J6: =I6*100/H6 -> 94.812686 | K6: =C6+F6+I6 -> 187143 | AC6: =C6+F6+C44+I63+C120+F120+L6 -> 321110
A7: Andijan | B7: 83608 | C7: 83344 | D7: =C7*100/B7 -> 99.684241 | E7: 83608 | F7: 83482 | G7: =F7*100/E7 -> 99.849297 | H7: 80244 | I7: 76745 | J7: =I7*100/H7 -> 95.639549 | K7: =C7+F7+I7 -> 243571 | AC7: =C7+F7+C45+I64+C121+F121+L7 -> 445900
